BEGIN:VCALENDAR
VERSION:2.0
PRODID:-//DuPage Birding Club - ECPv6.15.14//NONSGML v1.0//EN
CALSCALE:GREGORIAN
METHOD:PUBLISH
X-WR-CALNAME:DuPage Birding Club
X-ORIGINAL-URL:https://dupagebirding.org
X-WR-CALDESC:Events for DuPage Birding Club
REFRESH-INTERVAL;VALUE=DURATION:PT1H
X-Robots-Tag:noindex
X-PUBLISHED-TTL:PT1H
BEGIN:VTIMEZONE
TZID:America/Chicago
BEGIN:DAYLIGHT
TZOFFSETFROM:-0600
TZOFFSETTO:-0500
TZNAME:CDT
DTSTART:20240310T080000
END:DAYLIGHT
BEGIN:STANDARD
TZOFFSETFROM:-0500
TZOFFSETTO:-0600
TZNAME:CST
DTSTART:20241103T070000
END:STANDARD
BEGIN:DAYLIGHT
TZOFFSETFROM:-0600
TZOFFSETTO:-0500
TZNAME:CDT
DTSTART:20250309T080000
END:DAYLIGHT
BEGIN:STANDARD
TZOFFSETFROM:-0500
TZOFFSETTO:-0600
TZNAME:CST
DTSTART:20251102T070000
END:STANDARD
BEGIN:DAYLIGHT
TZOFFSETFROM:-0600
TZOFFSETTO:-0500
TZNAME:CDT
DTSTART:20260308T080000
END:DAYLIGHT
BEGIN:STANDARD
TZOFFSETFROM:-0500
TZOFFSETTO:-0600
TZNAME:CST
DTSTART:20261101T070000
END:STANDARD
END:VTIMEZONE
BEGIN:VEVENT
DTSTART;TZID=America/Chicago:20250308T080000
DTEND;TZID=America/Chicago:20250308T100000
DTSTAMP:20260425T151151
CREATED:20250227T144700Z
LAST-MODIFIED:20250222T204953Z
UID:10000577-1741420800-1741428000@dupagebirding.org
SUMMARY:West Branch Forest Preserve\, West Chicago
DESCRIPTION:Pre-registration is preferred. Limit of 20 people.  West Branch Forest Preserve in West Chicago is a great spot for waterfowl and grassland birds. On this field trip\, we’ll focus our attention on migrating waterfowl but will venture into the grassland portions of the preserve. Please dress appropriately\, as we will plan to go off trail. We will meet in the north parking lot\, off Army Trail Road. Leader: Robert Perez\, robertperez787@gmail.com (text or call with any questions regarding directions on the day of – 630-724-7534)
URL:https://dupagebirding.org/event/west-branch-forest-preserve-west-chicago/
CATEGORIES:Field Trips
END:VEVENT
END:VCALENDAR