BEGIN:VCALENDAR
VERSION:2.0
PRODID:-//DuPage Birding Club - ECPv6.15.14//NONSGML v1.0//EN
CALSCALE:GREGORIAN
METHOD:PUBLISH
X-ORIGINAL-URL:https://dupagebirding.org
X-WR-CALDESC:Events for DuPage Birding Club
REFRESH-INTERVAL;VALUE=DURATION:PT1H
X-Robots-Tag:noindex
X-PUBLISHED-TTL:PT1H
BEGIN:VTIMEZONE
TZID:America/Chicago
BEGIN:DAYLIGHT
TZOFFSETFROM:-0600
TZOFFSETTO:-0500
TZNAME:CDT
DTSTART:20240310T080000
END:DAYLIGHT
BEGIN:STANDARD
TZOFFSETFROM:-0500
TZOFFSETTO:-0600
TZNAME:CST
DTSTART:20241103T070000
END:STANDARD
BEGIN:DAYLIGHT
TZOFFSETFROM:-0600
TZOFFSETTO:-0500
TZNAME:CDT
DTSTART:20250309T080000
END:DAYLIGHT
BEGIN:STANDARD
TZOFFSETFROM:-0500
TZOFFSETTO:-0600
TZNAME:CST
DTSTART:20251102T070000
END:STANDARD
BEGIN:DAYLIGHT
TZOFFSETFROM:-0600
TZOFFSETTO:-0500
TZNAME:CDT
DTSTART:20260308T080000
END:DAYLIGHT
BEGIN:STANDARD
TZOFFSETFROM:-0500
TZOFFSETTO:-0600
TZNAME:CST
DTSTART:20261101T070000
END:STANDARD
END:VTIMEZONE
BEGIN:VEVENT
DTSTART;TZID=America/Chicago:20250323T073000
DTEND;TZID=America/Chicago:20250323T170000
DTSTAMP:20260424T174729
CREATED:20250227T140000Z
LAST-MODIFIED:20250222T155304Z
UID:10000572-1742715000-1742749200@dupagebirding.org
SUMMARY:Mississippi River - Waterfowl Trip
DESCRIPTION:Pre-registration with the leader is required\, limit 12 participants.Waterfowl\, cranes\, eagles\, and pelicans will be sought on this all-day trip exploring spots along the Mississippi\, both in Illinois and Iowa. In addition to the river\, Lost Mound National Wildlife Refuge will be visited to search for Western Meadowlark and Northern Mockingbird. Please contact the leader for meeting time and location. We will caravan from the western suburbs. Leader: Jeff Chapman\, jeffchapman948@gmail.com
URL:https://dupagebirding.org/event/mississippi-river-waterfowl-trip-6/
CATEGORIES:Field Trips
END:VEVENT
BEGIN:VEVENT
DTSTART;TZID=America/Chicago:20250323T080000
DTEND;TZID=America/Chicago:20250323T110000
DTSTAMP:20260424T174729
CREATED:20250227T140000Z
LAST-MODIFIED:20250222T161456Z
UID:10000573-1742716800-1742727600@dupagebirding.org
SUMMARY:Centennial Trail\, Lemont
DESCRIPTION:Pre-registration with the leader is required\, limit 12 participants.On this field trip our main targets will be early returning spring migrants. Northern Shovelers and Redheads\, along with a large array of waterfowl are all possible. We will also be on the lookout for songbirds such as Rusty Blackbirds\, Eastern Towhees\, and many more\, on the wooded side of the trail. We will meet in the gravel parking lot at the end of Canal Bank Road. Coming off of Lemont Road this turnoff is called Old Lemont Road\, and is unmarked\, so turn at this pin: 41\,683840\, -88.003541. Google Map link. Feel free to ask questions on how to get there after you RSVP.Leader: Henry Meade\, henrymm21@icloud.com
URL:https://dupagebirding.org/event/centennial-trail-lemont-28/
CATEGORIES:Field Trips
END:VEVENT
END:VCALENDAR