BEGIN:VCALENDAR
VERSION:2.0
PRODID:-//DuPage Birding Club - ECPv6.15.14//NONSGML v1.0//EN
CALSCALE:GREGORIAN
METHOD:PUBLISH
X-WR-CALNAME:DuPage Birding Club
X-ORIGINAL-URL:https://dupagebirding.org
X-WR-CALDESC:Events for DuPage Birding Club
REFRESH-INTERVAL;VALUE=DURATION:PT1H
X-Robots-Tag:noindex
X-PUBLISHED-TTL:PT1H
BEGIN:VTIMEZONE
TZID:America/Chicago
BEGIN:DAYLIGHT
TZOFFSETFROM:-0600
TZOFFSETTO:-0500
TZNAME:CDT
DTSTART:20240310T080000
END:DAYLIGHT
BEGIN:STANDARD
TZOFFSETFROM:-0500
TZOFFSETTO:-0600
TZNAME:CST
DTSTART:20241103T070000
END:STANDARD
BEGIN:DAYLIGHT
TZOFFSETFROM:-0600
TZOFFSETTO:-0500
TZNAME:CDT
DTSTART:20250309T080000
END:DAYLIGHT
BEGIN:STANDARD
TZOFFSETFROM:-0500
TZOFFSETTO:-0600
TZNAME:CST
DTSTART:20251102T070000
END:STANDARD
BEGIN:DAYLIGHT
TZOFFSETFROM:-0600
TZOFFSETTO:-0500
TZNAME:CDT
DTSTART:20260308T080000
END:DAYLIGHT
BEGIN:STANDARD
TZOFFSETFROM:-0500
TZOFFSETTO:-0600
TZNAME:CST
DTSTART:20261101T070000
END:STANDARD
END:VTIMEZONE
BEGIN:VEVENT
DTSTART;TZID=America/Chicago:20250324T080000
DTEND;TZID=America/Chicago:20250324T103000
DTSTAMP:20260424T163512
CREATED:20250227T140000Z
LAST-MODIFIED:20250222T161903Z
UID:10000574-1742803200-1742812200@dupagebirding.org
SUMMARY:Morton Arboretum\, West Side
DESCRIPTION:Pre-registration with the leader is required.We will meet at Thornhill parking lot\, P21 and walk on wood chip paths for about 2 miles. We will be looking for early migrants and usual winter birds.  Info on the arboretum is at:  https://mortonarb.org/visit-the-arboretum/. If you don’t have an arboretum membership contact us and we can arrange for you to enter with a member for $10.00.Leaders: Mike and Karen Warner\,  mwarner2543@gmail.com\, 630-640-2450
URL:https://dupagebirding.org/event/morton-arboretum-west-side-2/
CATEGORIES:Field Trips
END:VEVENT
END:VCALENDAR