BEGIN:VCALENDAR
VERSION:2.0
PRODID:-//DuPage Birding Club - ECPv6.15.14//NONSGML v1.0//EN
CALSCALE:GREGORIAN
METHOD:PUBLISH
X-WR-CALNAME:DuPage Birding Club
X-ORIGINAL-URL:https://dupagebirding.org
X-WR-CALDESC:Events for DuPage Birding Club
REFRESH-INTERVAL;VALUE=DURATION:PT1H
X-Robots-Tag:noindex
X-PUBLISHED-TTL:PT1H
BEGIN:VTIMEZONE
TZID:America/Chicago
BEGIN:DAYLIGHT
TZOFFSETFROM:-0600
TZOFFSETTO:-0500
TZNAME:CDT
DTSTART:20240310T080000
END:DAYLIGHT
BEGIN:STANDARD
TZOFFSETFROM:-0500
TZOFFSETTO:-0600
TZNAME:CST
DTSTART:20241103T070000
END:STANDARD
BEGIN:DAYLIGHT
TZOFFSETFROM:-0600
TZOFFSETTO:-0500
TZNAME:CDT
DTSTART:20250309T080000
END:DAYLIGHT
BEGIN:STANDARD
TZOFFSETFROM:-0500
TZOFFSETTO:-0600
TZNAME:CST
DTSTART:20251102T070000
END:STANDARD
BEGIN:DAYLIGHT
TZOFFSETFROM:-0600
TZOFFSETTO:-0500
TZNAME:CDT
DTSTART:20260308T080000
END:DAYLIGHT
BEGIN:STANDARD
TZOFFSETFROM:-0500
TZOFFSETTO:-0600
TZNAME:CST
DTSTART:20261101T070000
END:STANDARD
END:VTIMEZONE
BEGIN:VEVENT
DTSTART;TZID=America/Chicago:20250331T080000
DTEND;TZID=America/Chicago:20250331T103000
DTSTAMP:20260424T081932
CREATED:20250227T140000Z
LAST-MODIFIED:20250222T162205Z
UID:10000575-1743408000-1743417000@dupagebirding.org
SUMMARY:McKee Marsh\, Warrenville
DESCRIPTION:Registration not necessary.  Join us for a walk around one of DuPage county’s premier birding hotspots to look for resident birds and early spring migrants.  Hopefully\, some waterfowl should be around.  This approximately 3-mile walk will be on crushed limestone and earthen trails; wear appropriate shoes and clothing. Meet at the visitor parking lot on the north side of Mack Rd.\, located between Winfield Rd. and Rt. 59 in Warrenville.Leader: Kyle Wiktor\, 708-506-5186 (text or call if you have questions regarding weather cancellation)
URL:https://dupagebirding.org/event/mckee-marsh-warrenville-45/
CATEGORIES:Field Trips
END:VEVENT
END:VCALENDAR