BEGIN:VCALENDAR
VERSION:2.0
PRODID:-//DuPage Birding Club - ECPv6.15.14//NONSGML v1.0//EN
CALSCALE:GREGORIAN
METHOD:PUBLISH
X-WR-CALNAME:DuPage Birding Club
X-ORIGINAL-URL:https://dupagebirding.org
X-WR-CALDESC:Events for DuPage Birding Club
REFRESH-INTERVAL;VALUE=DURATION:PT1H
X-Robots-Tag:noindex
X-PUBLISHED-TTL:PT1H
BEGIN:VTIMEZONE
TZID:America/Chicago
BEGIN:DAYLIGHT
TZOFFSETFROM:-0600
TZOFFSETTO:-0500
TZNAME:CDT
DTSTART:20240310T080000
END:DAYLIGHT
BEGIN:STANDARD
TZOFFSETFROM:-0500
TZOFFSETTO:-0600
TZNAME:CST
DTSTART:20241103T070000
END:STANDARD
BEGIN:DAYLIGHT
TZOFFSETFROM:-0600
TZOFFSETTO:-0500
TZNAME:CDT
DTSTART:20250309T080000
END:DAYLIGHT
BEGIN:STANDARD
TZOFFSETFROM:-0500
TZOFFSETTO:-0600
TZNAME:CST
DTSTART:20251102T070000
END:STANDARD
BEGIN:DAYLIGHT
TZOFFSETFROM:-0600
TZOFFSETTO:-0500
TZNAME:CDT
DTSTART:20260308T080000
END:DAYLIGHT
BEGIN:STANDARD
TZOFFSETFROM:-0500
TZOFFSETTO:-0600
TZNAME:CST
DTSTART:20261101T070000
END:STANDARD
END:VTIMEZONE
BEGIN:VEVENT
DTSTART;TZID=America/Chicago:20250407T073000
DTEND;TZID=America/Chicago:20250407T103000
DTSTAMP:20260424T081932
CREATED:20250326T204209Z
LAST-MODIFIED:20250326T204211Z
UID:10000582-1744011000-1744021800@dupagebirding.org
SUMMARY:McKee Marsh\, Warrenville
DESCRIPTION:Registration not requiredJoin us for a morning walk at one of DuPage County’s premier birding hotspots to look for resident birds and early spring migrants.  The walk will be approximately 3 miles on limestone and earthen trails; wear appropriate shoes and clothing.  Meet at the visitor parking lot on the north side of Mack Road\, located east of Rt. 59\, and west of Winfield Road.Leader: Kyle Wiktor\, Cell: (708)506-5186
URL:https://dupagebirding.org/event/mckee-marsh-warrenville-46/
CATEGORIES:Field Trips
END:VEVENT
END:VCALENDAR