BEGIN:VCALENDAR
VERSION:2.0
PRODID:-//DuPage Birding Club - ECPv6.15.14//NONSGML v1.0//EN
CALSCALE:GREGORIAN
METHOD:PUBLISH
X-ORIGINAL-URL:https://dupagebirding.org
X-WR-CALDESC:Events for DuPage Birding Club
REFRESH-INTERVAL;VALUE=DURATION:PT1H
X-Robots-Tag:noindex
X-PUBLISHED-TTL:PT1H
BEGIN:VTIMEZONE
TZID:America/Chicago
BEGIN:DAYLIGHT
TZOFFSETFROM:-0600
TZOFFSETTO:-0500
TZNAME:CDT
DTSTART:20240310T080000
END:DAYLIGHT
BEGIN:STANDARD
TZOFFSETFROM:-0500
TZOFFSETTO:-0600
TZNAME:CST
DTSTART:20241103T070000
END:STANDARD
BEGIN:DAYLIGHT
TZOFFSETFROM:-0600
TZOFFSETTO:-0500
TZNAME:CDT
DTSTART:20250309T080000
END:DAYLIGHT
BEGIN:STANDARD
TZOFFSETFROM:-0500
TZOFFSETTO:-0600
TZNAME:CST
DTSTART:20251102T070000
END:STANDARD
BEGIN:DAYLIGHT
TZOFFSETFROM:-0600
TZOFFSETTO:-0500
TZNAME:CDT
DTSTART:20260308T080000
END:DAYLIGHT
BEGIN:STANDARD
TZOFFSETFROM:-0500
TZOFFSETTO:-0600
TZNAME:CST
DTSTART:20261101T070000
END:STANDARD
END:VTIMEZONE
BEGIN:VEVENT
DTSTART;TZID=America/Chicago:20250419T073000
DTEND;TZID=America/Chicago:20250419T100000
DTSTAMP:20260424T081731
CREATED:20250329T130000Z
LAST-MODIFIED:20250327T141535Z
UID:10000587-1745047800-1745056800@dupagebirding.org
SUMMARY:Springbrook Prairie Forest Preserve\, Naperville
DESCRIPTION:Pre-registration with the leader is requiredJoin Joe Suchecki to look for early spring migrants\, grassland birds and marsh birds at this great birding location. Wear appropriate clothing and footwear in case we go off-trail. Insect repellant recommended. Meet at the main parking lot on 83 rd Street\, between Book Rd. and Route 59.Leader: Joe Suchecki\, Dbcsec2020@gmail.com
URL:https://dupagebirding.org/event/springbrook-prairie-forest-preserve-naperville-18/
CATEGORIES:Field Trips
END:VEVENT
BEGIN:VEVENT
DTSTART;TZID=America/Chicago:20250419T083000
DTEND;TZID=America/Chicago:20250419T110000
DTSTAMP:20260424T081731
CREATED:20250329T130000Z
LAST-MODIFIED:20250327T141602Z
UID:10000586-1745051400-1745060400@dupagebirding.org
SUMMARY:Bike & Bird\, Greene Valley Forest Preserve\, Naperville
DESCRIPTION:Pre-registration required with the leader\, 10 participantsGreene Valley has a lot of great habitats in it\, but you can’t really cover more than one in a typical field trip due to distance. We will bike around the preserve to hit as much as possible in one run. Expect to ride about 5 miles with a few light hills (no overlook). We will be sticking to the limestone/paved trails. Meet at the north end of the Greene Road parking lot near the information sign & trailhead.Leader: Matt Crisler\, crislermj@gmail.com
URL:https://dupagebirding.org/event/bike-bird-greene-valley-forest-preserve-naperville/
CATEGORIES:Field Trips
END:VEVENT
END:VCALENDAR