BEGIN:VCALENDAR
VERSION:2.0
PRODID:-//DuPage Birding Club - ECPv6.15.14//NONSGML v1.0//EN
CALSCALE:GREGORIAN
METHOD:PUBLISH
X-ORIGINAL-URL:https://dupagebirding.org
X-WR-CALDESC:Events for DuPage Birding Club
REFRESH-INTERVAL;VALUE=DURATION:PT1H
X-Robots-Tag:noindex
X-PUBLISHED-TTL:PT1H
BEGIN:VTIMEZONE
TZID:America/Chicago
BEGIN:DAYLIGHT
TZOFFSETFROM:-0600
TZOFFSETTO:-0500
TZNAME:CDT
DTSTART:20240310T080000
END:DAYLIGHT
BEGIN:STANDARD
TZOFFSETFROM:-0500
TZOFFSETTO:-0600
TZNAME:CST
DTSTART:20241103T070000
END:STANDARD
BEGIN:DAYLIGHT
TZOFFSETFROM:-0600
TZOFFSETTO:-0500
TZNAME:CDT
DTSTART:20250309T080000
END:DAYLIGHT
BEGIN:STANDARD
TZOFFSETFROM:-0500
TZOFFSETTO:-0600
TZNAME:CST
DTSTART:20251102T070000
END:STANDARD
BEGIN:DAYLIGHT
TZOFFSETFROM:-0600
TZOFFSETTO:-0500
TZNAME:CDT
DTSTART:20260308T080000
END:DAYLIGHT
BEGIN:STANDARD
TZOFFSETFROM:-0500
TZOFFSETTO:-0600
TZNAME:CST
DTSTART:20261101T070000
END:STANDARD
END:VTIMEZONE
BEGIN:VEVENT
DTSTART;TZID=America/Chicago:20250423T171500
DTEND;TZID=America/Chicago:20250423T200000
DTSTAMP:20260424T081731
CREATED:20250329T130000Z
LAST-MODIFIED:20250327T141703Z
UID:10000589-1745428500-1745438400@dupagebirding.org
SUMMARY:Lyman Woods\, Downers Grove
DESCRIPTION:Pre-registration with the leader is required\, limit 10 participantsWe will be looking for early migrants and woodland residents and conclude the trip with a search for the resident Great Horned Owls and/or migrating Woodcocks around and after sunset. Dress warmly as we may be stationary at times. A red flashlight or headlamp is recommended. Lyman’s trails are oftenmuddy and there may be areas with standing water. Be prepared with appropriate footwear. Meet at the Lyman Woods main parking lot on 31 st Street.Leader: Matt Crisler\, crislermj@gmail.com
URL:https://dupagebirding.org/event/lyman-woods-downers-grove-9/
CATEGORIES:Field Trips
END:VEVENT
END:VCALENDAR