BEGIN:VCALENDAR
VERSION:2.0
PRODID:-//DuPage Birding Club - ECPv6.15.14//NONSGML v1.0//EN
CALSCALE:GREGORIAN
METHOD:PUBLISH
X-ORIGINAL-URL:https://dupagebirding.org
X-WR-CALDESC:Events for DuPage Birding Club
REFRESH-INTERVAL;VALUE=DURATION:PT1H
X-Robots-Tag:noindex
X-PUBLISHED-TTL:PT1H
BEGIN:VTIMEZONE
TZID:America/Chicago
BEGIN:DAYLIGHT
TZOFFSETFROM:-0600
TZOFFSETTO:-0500
TZNAME:CDT
DTSTART:20240310T080000
END:DAYLIGHT
BEGIN:STANDARD
TZOFFSETFROM:-0500
TZOFFSETTO:-0600
TZNAME:CST
DTSTART:20241103T070000
END:STANDARD
BEGIN:DAYLIGHT
TZOFFSETFROM:-0600
TZOFFSETTO:-0500
TZNAME:CDT
DTSTART:20250309T080000
END:DAYLIGHT
BEGIN:STANDARD
TZOFFSETFROM:-0500
TZOFFSETTO:-0600
TZNAME:CST
DTSTART:20251102T070000
END:STANDARD
BEGIN:DAYLIGHT
TZOFFSETFROM:-0600
TZOFFSETTO:-0500
TZNAME:CDT
DTSTART:20260308T080000
END:DAYLIGHT
BEGIN:STANDARD
TZOFFSETFROM:-0500
TZOFFSETTO:-0600
TZNAME:CST
DTSTART:20261101T070000
END:STANDARD
END:VTIMEZONE
BEGIN:VEVENT
DTSTART;TZID=America/Chicago:20250428T073000
DTEND;TZID=America/Chicago:20250428T110000
DTSTAMP:20260424T070051
CREATED:20250329T130000Z
LAST-MODIFIED:20250326T234141Z
UID:10000591-1745825400-1745838000@dupagebirding.org
SUMMARY:St. James Farm Forest Preserve\, Warrenville
DESCRIPTION:Pre-registration with the leader is required\, limit 10 participantsWe’ll be concentrating on early woodland migrants as we explore some of the excellent trails through this preserve. We will meet in the main parking lot which is accessed off of Winfield Road just north of Butterfield Road. Leader: Denis Kania\, djkan36@gmail.com
URL:https://dupagebirding.org/event/st-james-farm-forest-preserve-warrenville-13/
CATEGORIES:Field Trips
END:VEVENT
END:VCALENDAR