BEGIN:VCALENDAR
VERSION:2.0
PRODID:-//DuPage Birding Club - ECPv6.15.14//NONSGML v1.0//EN
CALSCALE:GREGORIAN
METHOD:PUBLISH
X-ORIGINAL-URL:https://dupagebirding.org
X-WR-CALDESC:Events for DuPage Birding Club
REFRESH-INTERVAL;VALUE=DURATION:PT1H
X-Robots-Tag:noindex
X-PUBLISHED-TTL:PT1H
BEGIN:VTIMEZONE
TZID:America/Chicago
BEGIN:DAYLIGHT
TZOFFSETFROM:-0600
TZOFFSETTO:-0500
TZNAME:CDT
DTSTART:20240310T080000
END:DAYLIGHT
BEGIN:STANDARD
TZOFFSETFROM:-0500
TZOFFSETTO:-0600
TZNAME:CST
DTSTART:20241103T070000
END:STANDARD
BEGIN:DAYLIGHT
TZOFFSETFROM:-0600
TZOFFSETTO:-0500
TZNAME:CDT
DTSTART:20250309T080000
END:DAYLIGHT
BEGIN:STANDARD
TZOFFSETFROM:-0500
TZOFFSETTO:-0600
TZNAME:CST
DTSTART:20251102T070000
END:STANDARD
BEGIN:DAYLIGHT
TZOFFSETFROM:-0600
TZOFFSETTO:-0500
TZNAME:CDT
DTSTART:20260308T080000
END:DAYLIGHT
BEGIN:STANDARD
TZOFFSETFROM:-0500
TZOFFSETTO:-0600
TZNAME:CST
DTSTART:20261101T070000
END:STANDARD
END:VTIMEZONE
BEGIN:VEVENT
DTSTART;TZID=America/Chicago:20250501T173000
DTEND;TZID=America/Chicago:20250501T200000
DTSTAMP:20260424T065628
CREATED:20250329T130000Z
LAST-MODIFIED:20250326T235129Z
UID:10000593-1746120600-1746129600@dupagebirding.org
SUMMARY:Wood Dale Reservoir\, Wood Dale
DESCRIPTION:Pre-registration with the leader required\, limit 15 participants.Shorebirds after work! Wood Dale Reservoir offers great viewing opportunities for several species of migrating shorebirds. Spotting scopes can be useful here; trip leader will have one. Shorebird IDs can be difficult at times. The trip leader will be happy to help people who may be new to it\, but it will help to review field guides\, eBird/Merlin\, and/or some of the DBC YouTube content (Yellowlegs and Similar Waders\, Peeps) ahead of time. We will meet at the parking lot at the end of School Street (298 School Street in Wood Dale if using GPS).Leader: Matt Crisler\, crislermj@gmail.com
URL:https://dupagebirding.org/event/wood-dale-reservoir-wood-dale-2/
CATEGORIES:Field Trips
END:VEVENT
END:VCALENDAR