BEGIN:VCALENDAR
VERSION:2.0
PRODID:-//DuPage Birding Club - ECPv6.15.14//NONSGML v1.0//EN
CALSCALE:GREGORIAN
METHOD:PUBLISH
X-ORIGINAL-URL:https://dupagebirding.org
X-WR-CALDESC:Events for DuPage Birding Club
REFRESH-INTERVAL;VALUE=DURATION:PT1H
X-Robots-Tag:noindex
X-PUBLISHED-TTL:PT1H
BEGIN:VTIMEZONE
TZID:America/Chicago
BEGIN:DAYLIGHT
TZOFFSETFROM:-0600
TZOFFSETTO:-0500
TZNAME:CDT
DTSTART:20240310T080000
END:DAYLIGHT
BEGIN:STANDARD
TZOFFSETFROM:-0500
TZOFFSETTO:-0600
TZNAME:CST
DTSTART:20241103T070000
END:STANDARD
BEGIN:DAYLIGHT
TZOFFSETFROM:-0600
TZOFFSETTO:-0500
TZNAME:CDT
DTSTART:20250309T080000
END:DAYLIGHT
BEGIN:STANDARD
TZOFFSETFROM:-0500
TZOFFSETTO:-0600
TZNAME:CST
DTSTART:20251102T070000
END:STANDARD
BEGIN:DAYLIGHT
TZOFFSETFROM:-0600
TZOFFSETTO:-0500
TZNAME:CDT
DTSTART:20260308T080000
END:DAYLIGHT
BEGIN:STANDARD
TZOFFSETFROM:-0500
TZOFFSETTO:-0600
TZNAME:CST
DTSTART:20261101T070000
END:STANDARD
END:VTIMEZONE
BEGIN:VEVENT
DTSTART;TZID=America/Chicago:20250503T080000
DTEND;TZID=America/Chicago:20250503T110000
DTSTAMP:20260424T065635
CREATED:20250329T170000Z
LAST-MODIFIED:20250426T191500Z
UID:10000594-1746259200-1746270000@dupagebirding.org
SUMMARY:Lake Renwick Heron Rookery\, Plainfield
DESCRIPTION:Pre-registration with the leader required\, limit 20 participantsThe Heron Rookery Preserve at Lake Renwick is a limited access preserve where it is possible to view nesting egrets\, Great Blue Herons\, and Double-Crested Cormorants. The rookery itself is located on an island in Lake Renwick. This trip will include hiking less than 1 mile to viewing areas on natural surfaces and uneven terrain. If there is time\, we may also walk some of the trails at the rookery. We will meet our guide at the visitor center at the Renwick Road entrance. Bring your cameras and scopes! Dress for the weather. Bring water and bug spray.Heron Rookery Nature Preserve is located at 23202 W. Renwick Road. (On Renwick Road east of route 30/Lincoln Highway and West of the I55 overpass in Plainfield.) LINK \n\n\n\nLeader: Natalie McFaul\, natcatcher7@gmail.com
URL:https://dupagebirding.org/event/lake-renwick-heron-rookery-plainfield/
CATEGORIES:Field Trips
END:VEVENT
END:VCALENDAR