BEGIN:VCALENDAR
VERSION:2.0
PRODID:-//DuPage Birding Club - ECPv6.15.14//NONSGML v1.0//EN
CALSCALE:GREGORIAN
METHOD:PUBLISH
X-WR-CALNAME:DuPage Birding Club
X-ORIGINAL-URL:https://dupagebirding.org
X-WR-CALDESC:Events for DuPage Birding Club
REFRESH-INTERVAL;VALUE=DURATION:PT1H
X-Robots-Tag:noindex
X-PUBLISHED-TTL:PT1H
BEGIN:VTIMEZONE
TZID:America/Chicago
BEGIN:DAYLIGHT
TZOFFSETFROM:-0600
TZOFFSETTO:-0500
TZNAME:CDT
DTSTART:20240310T080000
END:DAYLIGHT
BEGIN:STANDARD
TZOFFSETFROM:-0500
TZOFFSETTO:-0600
TZNAME:CST
DTSTART:20241103T070000
END:STANDARD
BEGIN:DAYLIGHT
TZOFFSETFROM:-0600
TZOFFSETTO:-0500
TZNAME:CDT
DTSTART:20250309T080000
END:DAYLIGHT
BEGIN:STANDARD
TZOFFSETFROM:-0500
TZOFFSETTO:-0600
TZNAME:CST
DTSTART:20251102T070000
END:STANDARD
BEGIN:DAYLIGHT
TZOFFSETFROM:-0600
TZOFFSETTO:-0500
TZNAME:CDT
DTSTART:20260308T080000
END:DAYLIGHT
BEGIN:STANDARD
TZOFFSETFROM:-0500
TZOFFSETTO:-0600
TZNAME:CST
DTSTART:20261101T070000
END:STANDARD
END:VTIMEZONE
BEGIN:VEVENT
DTSTART;TZID=America/Chicago:20250505T000000
DTEND;TZID=America/Chicago:20250507T000000
DTSTAMP:20260424T065452
CREATED:20250519T204631Z
LAST-MODIFIED:20250519T204649Z
UID:10000624-1746403200-1746576000@dupagebirding.org
SUMMARY:Testers Test\, West Chicago
DESCRIPTION:Pre-registration with the leader is required\, limit 15 participantsThe Heron Rookery Preserve at Lake Renwick is a limited access preserve where it is possible to viewnesting egrets\, Great Blue Herons\, and Double-crested Cormorants. The rookery itself is located on anisland in Lake Renwick. This trip will include hiking less than one mile to viewing areas on naturalsurfaces and uneven terrain. If there is time\, we may also walk some of the trails at the rookery. We willmeet our guide at the visitor center at the Renwick Road entrance. Bring your cameras and scopes! \nHeron Rookery Nature Preserve is located at 23202 W. Renwick Road. (On Renwick Road east of route30/Lincoln Highway and West of the I55 overpass in Plainfield.) \nDress for the weather. Bring water and bug spray.https://maps.app.goo.gl/1E2acv1Wd1wLYzyZALeader: Test Tester\, test1@test.tt\, (555) 555-5555; Test Tester2 test2@test.tt (777) 777-7777; Test Tester3 test3@test.tt (999) 999-9999
URL:https://dupagebirding.org/event/testers-test-west-chicago/
CATEGORIES:Field Trips
END:VEVENT
BEGIN:VEVENT
DTSTART;TZID=America/Chicago:20250505T073000
DTEND;TZID=America/Chicago:20250505T103000
DTSTAMP:20260424T065452
CREATED:20250429T170000Z
LAST-MODIFIED:20250426T191310Z
UID:10000595-1746430200-1746441000@dupagebirding.org
SUMMARY:McDowell Grove Forest Preserve\, Naperville
DESCRIPTION:Pre-registration with the leader is required\, limit 10 participantsThis morning trip will focus on woodland migrants passing through our area. This is a popular migrant hotspot in both spring and fall. If birds are on the move\, we will be in a great location to view them. Meet in the first parking lot after entering the preserve. The entrance is at the intersection of Raymond Dr. and McDowell Rd. where there is a stoplight.Leader: Denis Kania\, djkan36@gmail.com
URL:https://dupagebirding.org/event/mcdowell-grove-forest-preserve-naperville-25/
CATEGORIES:Field Trips
END:VEVENT
BEGIN:VEVENT
DTSTART;TZID=America/Chicago:20250505T183000
DTEND;TZID=America/Chicago:20250505T203000
DTSTAMP:20260424T065452
CREATED:20250429T170000Z
LAST-MODIFIED:20250425T201241Z
UID:10000604-1746469800-1746477000@dupagebirding.org
SUMMARY:Elsen's Hill\, Winfield
DESCRIPTION:Registration with the leader is required.Come check out a popular birding hotspot at a less-often visited time of day; an evening at Elsen’s!  There should be plenty of migrant birds around\, as well as resident species. Hopefully we could also encounter some crepuscular or nocturnal birds and other wildlife. This trip will be approximately 2 miles on earthen trails which might be muddy or even have standing water if there has been a lot of rain lately.  Meet at the Elsen’s Hill parking lot in West DuPage Woods located on the north side of Gary’s Mill Road\, west of Winfield Road\, and east of where Gary’s Mill intersects Roosevelt Road.Leader: Kyle Wiktor\, 708-506-5186 (text or call to register)
URL:https://dupagebirding.org/event/elsens-hill-winfield-2/
CATEGORIES:Field Trips
END:VEVENT
END:VCALENDAR