BEGIN:VCALENDAR
VERSION:2.0
PRODID:-//DuPage Birding Club - ECPv6.15.14//NONSGML v1.0//EN
CALSCALE:GREGORIAN
METHOD:PUBLISH
X-ORIGINAL-URL:https://dupagebirding.org
X-WR-CALDESC:Events for DuPage Birding Club
REFRESH-INTERVAL;VALUE=DURATION:PT1H
X-Robots-Tag:noindex
X-PUBLISHED-TTL:PT1H
BEGIN:VTIMEZONE
TZID:America/Chicago
BEGIN:DAYLIGHT
TZOFFSETFROM:-0600
TZOFFSETTO:-0500
TZNAME:CDT
DTSTART:20240310T080000
END:DAYLIGHT
BEGIN:STANDARD
TZOFFSETFROM:-0500
TZOFFSETTO:-0600
TZNAME:CST
DTSTART:20241103T070000
END:STANDARD
BEGIN:DAYLIGHT
TZOFFSETFROM:-0600
TZOFFSETTO:-0500
TZNAME:CDT
DTSTART:20250309T080000
END:DAYLIGHT
BEGIN:STANDARD
TZOFFSETFROM:-0500
TZOFFSETTO:-0600
TZNAME:CST
DTSTART:20251102T070000
END:STANDARD
BEGIN:DAYLIGHT
TZOFFSETFROM:-0600
TZOFFSETTO:-0500
TZNAME:CDT
DTSTART:20260308T080000
END:DAYLIGHT
BEGIN:STANDARD
TZOFFSETFROM:-0500
TZOFFSETTO:-0600
TZNAME:CST
DTSTART:20261101T070000
END:STANDARD
END:VTIMEZONE
BEGIN:VEVENT
DTSTART;TZID=America/Chicago:20250507T070000
DTEND;TZID=America/Chicago:20250507T110000
DTSTAMP:20260424T070026
CREATED:20250429T170000Z
LAST-MODIFIED:20250426T185625Z
UID:10000605-1746601200-1746615600@dupagebirding.org
SUMMARY:Waterfall Glen Sawmill Creek Area\, Lemont (Walk and Lunch)
DESCRIPTION:Registration not required.We’ll walk at least 3 miles searching this watershed for all the spring migrants\, summer breeding birds\, and a couple resident specialties. PLEASE be prepared for rocky\, root-filled trails along the creek\, and hills throughout. Bring lunch so we can eat together in the picnic shelter afterwards. Park in the large new parking lot just southeast of the intersection of Cass and Bluff. (Enter from Bluff Rd. and listen for nesting Pine Warblers singing.) Leader: Vicky Sroczynski\, 630-297-9512 (text with any questions)
URL:https://dupagebirding.org/event/waterfall-glen-sawmill-creek-area-lemont-3/
CATEGORIES:Field Trips
END:VEVENT
END:VCALENDAR