BEGIN:VCALENDAR
VERSION:2.0
PRODID:-//DuPage Birding Club - ECPv6.15.14//NONSGML v1.0//EN
CALSCALE:GREGORIAN
METHOD:PUBLISH
X-WR-CALNAME:DuPage Birding Club
X-ORIGINAL-URL:https://dupagebirding.org
X-WR-CALDESC:Events for DuPage Birding Club
REFRESH-INTERVAL;VALUE=DURATION:PT1H
X-Robots-Tag:noindex
X-PUBLISHED-TTL:PT1H
BEGIN:VTIMEZONE
TZID:America/Chicago
BEGIN:DAYLIGHT
TZOFFSETFROM:-0600
TZOFFSETTO:-0500
TZNAME:CDT
DTSTART:20240310T080000
END:DAYLIGHT
BEGIN:STANDARD
TZOFFSETFROM:-0500
TZOFFSETTO:-0600
TZNAME:CST
DTSTART:20241103T070000
END:STANDARD
BEGIN:DAYLIGHT
TZOFFSETFROM:-0600
TZOFFSETTO:-0500
TZNAME:CDT
DTSTART:20250309T080000
END:DAYLIGHT
BEGIN:STANDARD
TZOFFSETFROM:-0500
TZOFFSETTO:-0600
TZNAME:CST
DTSTART:20251102T070000
END:STANDARD
BEGIN:DAYLIGHT
TZOFFSETFROM:-0600
TZOFFSETTO:-0500
TZNAME:CDT
DTSTART:20260308T080000
END:DAYLIGHT
BEGIN:STANDARD
TZOFFSETFROM:-0500
TZOFFSETTO:-0600
TZNAME:CST
DTSTART:20261101T070000
END:STANDARD
END:VTIMEZONE
BEGIN:VEVENT
DTSTART;TZID=America/Chicago:20250508T073000
DTEND;TZID=America/Chicago:20250508T100000
DTSTAMP:20260424T065935
CREATED:20250429T170000Z
LAST-MODIFIED:20250425T201956Z
UID:10000606-1746689400-1746698400@dupagebirding.org
SUMMARY:Springbrook Prairie Forest Preserve\, Naperville
DESCRIPTION:Registration with the leader is required.The trip will look for spring migrants in the wetlands\, grasslands\, and wooded areas of Springbrook Prairie. Trip will focus on spring migrants in a variety of habitats. Meet at Model Aircraft Parking Lot on the west side of Plainfield-Naperville Road about 0.5 mi south of 75 th Street. Wear appropriate foot ware to go off-trail and bring/use insect repellent for ticks and possibly mosquitos.Leader: Joe Suchecki\, dbcsec2020@gmail.com .
URL:https://dupagebirding.org/event/springbrook-prairie-forest-preserve-naperville-19/
END:VEVENT
END:VCALENDAR