BEGIN:VCALENDAR
VERSION:2.0
PRODID:-//DuPage Birding Club - ECPv6.15.14//NONSGML v1.0//EN
CALSCALE:GREGORIAN
METHOD:PUBLISH
X-ORIGINAL-URL:https://dupagebirding.org
X-WR-CALDESC:Events for DuPage Birding Club
REFRESH-INTERVAL;VALUE=DURATION:PT1H
X-Robots-Tag:noindex
X-PUBLISHED-TTL:PT1H
BEGIN:VTIMEZONE
TZID:America/Chicago
BEGIN:DAYLIGHT
TZOFFSETFROM:-0600
TZOFFSETTO:-0500
TZNAME:CDT
DTSTART:20240310T080000
END:DAYLIGHT
BEGIN:STANDARD
TZOFFSETFROM:-0500
TZOFFSETTO:-0600
TZNAME:CST
DTSTART:20241103T070000
END:STANDARD
BEGIN:DAYLIGHT
TZOFFSETFROM:-0600
TZOFFSETTO:-0500
TZNAME:CDT
DTSTART:20250309T080000
END:DAYLIGHT
BEGIN:STANDARD
TZOFFSETFROM:-0500
TZOFFSETTO:-0600
TZNAME:CST
DTSTART:20251102T070000
END:STANDARD
BEGIN:DAYLIGHT
TZOFFSETFROM:-0600
TZOFFSETTO:-0500
TZNAME:CDT
DTSTART:20260308T080000
END:DAYLIGHT
BEGIN:STANDARD
TZOFFSETFROM:-0500
TZOFFSETTO:-0600
TZNAME:CST
DTSTART:20261101T070000
END:STANDARD
END:VTIMEZONE
BEGIN:VEVENT
DTSTART;TZID=America/Chicago:20250510T080000
DTEND;TZID=America/Chicago:20250510T170000
DTSTAMP:20260424T065628
CREATED:20250329T130000Z
LAST-MODIFIED:20250327T000939Z
UID:10000596-1746864000-1746896400@dupagebirding.org
SUMMARY:Spring Bird Count\, DuPage County
DESCRIPTION:A hundred or more birders will fan out across DuPage County to identify all the bird species they can find at the Spring Bird Count on Saturday May 10.  A group of birders will be in the field somewhere near your home. Come join us; we need more birders to make it possible to cover as many locations within the county as we can. You don’t have to be an expert birder to participate; all skill levels are welcome. \n\n\n\nEven if you can only bird for part of the day\, we can use you. And if that’s your preference\, you’ll probably be able to look for birds close to home\, since we divide the county into 16 areas\, with teams scouring each area. To volunteer or find out more information email Joe Suchecki. \n\n\n\nEmail Joe Suchecki at DuPagesbc@gmail.com
URL:https://dupagebirding.org/event/spring-bird-count-dupage-county-4/
CATEGORIES:Field Trips
END:VEVENT
END:VCALENDAR