BEGIN:VCALENDAR
VERSION:2.0
PRODID:-//DuPage Birding Club - ECPv6.15.14//NONSGML v1.0//EN
CALSCALE:GREGORIAN
METHOD:PUBLISH
X-WR-CALNAME:DuPage Birding Club
X-ORIGINAL-URL:https://dupagebirding.org
X-WR-CALDESC:Events for DuPage Birding Club
REFRESH-INTERVAL;VALUE=DURATION:PT1H
X-Robots-Tag:noindex
X-PUBLISHED-TTL:PT1H
BEGIN:VTIMEZONE
TZID:America/Chicago
BEGIN:DAYLIGHT
TZOFFSETFROM:-0600
TZOFFSETTO:-0500
TZNAME:CDT
DTSTART:20240310T080000
END:DAYLIGHT
BEGIN:STANDARD
TZOFFSETFROM:-0500
TZOFFSETTO:-0600
TZNAME:CST
DTSTART:20241103T070000
END:STANDARD
BEGIN:DAYLIGHT
TZOFFSETFROM:-0600
TZOFFSETTO:-0500
TZNAME:CDT
DTSTART:20250309T080000
END:DAYLIGHT
BEGIN:STANDARD
TZOFFSETFROM:-0500
TZOFFSETTO:-0600
TZNAME:CST
DTSTART:20251102T070000
END:STANDARD
BEGIN:DAYLIGHT
TZOFFSETFROM:-0600
TZOFFSETTO:-0500
TZNAME:CDT
DTSTART:20260308T080000
END:DAYLIGHT
BEGIN:STANDARD
TZOFFSETFROM:-0500
TZOFFSETTO:-0600
TZNAME:CST
DTSTART:20261101T070000
END:STANDARD
END:VTIMEZONE
BEGIN:VEVENT
DTSTART;TZID=America/Chicago:20250514T174500
DTEND;TZID=America/Chicago:20250514T203000
DTSTAMP:20260424T065458
CREATED:20250429T170000Z
LAST-MODIFIED:20250426T183324Z
UID:10000609-1747244700-1747254600@dupagebirding.org
SUMMARY:Lyman Woods\, Downers Grove
DESCRIPTION:Registration with the leader is required. Limit 10 participants.Warblers (and other spring migrants) after work! Meet at the parking lot on 31st Street. We’ll conclude the trip with some dusk birding looking for the resident Great Horned Owls. A red flashlight or headlamp is recommended. Lyman’s trails are almost always muddy regardless of weather. If rain occurs ahead of the trip\, expect areas with standing water. Be prepared with appropriate footwear. Leader: Matt Crisler\,  crislermj@gmail.com
URL:https://dupagebirding.org/event/lyman-woods-downers-grove-10/
CATEGORIES:Field Trips
END:VEVENT
END:VCALENDAR