BEGIN:VCALENDAR
VERSION:2.0
PRODID:-//DuPage Birding Club - ECPv6.15.14//NONSGML v1.0//EN
CALSCALE:GREGORIAN
METHOD:PUBLISH
X-ORIGINAL-URL:https://dupagebirding.org
X-WR-CALDESC:Events for DuPage Birding Club
REFRESH-INTERVAL;VALUE=DURATION:PT1H
X-Robots-Tag:noindex
X-PUBLISHED-TTL:PT1H
BEGIN:VTIMEZONE
TZID:America/Chicago
BEGIN:DAYLIGHT
TZOFFSETFROM:-0600
TZOFFSETTO:-0500
TZNAME:CDT
DTSTART:20240310T080000
END:DAYLIGHT
BEGIN:STANDARD
TZOFFSETFROM:-0500
TZOFFSETTO:-0600
TZNAME:CST
DTSTART:20241103T070000
END:STANDARD
BEGIN:DAYLIGHT
TZOFFSETFROM:-0600
TZOFFSETTO:-0500
TZNAME:CDT
DTSTART:20250309T080000
END:DAYLIGHT
BEGIN:STANDARD
TZOFFSETFROM:-0500
TZOFFSETTO:-0600
TZNAME:CST
DTSTART:20251102T070000
END:STANDARD
BEGIN:DAYLIGHT
TZOFFSETFROM:-0600
TZOFFSETTO:-0500
TZNAME:CDT
DTSTART:20260308T080000
END:DAYLIGHT
BEGIN:STANDARD
TZOFFSETFROM:-0500
TZOFFSETTO:-0600
TZNAME:CST
DTSTART:20261101T070000
END:STANDARD
END:VTIMEZONE
BEGIN:VEVENT
DTSTART;TZID=America/Chicago:20250525T070000
DTEND;TZID=America/Chicago:20250525T100000
DTSTAMP:20260424T070051
CREATED:20250507T191848Z
LAST-MODIFIED:20250507T191851Z
UID:10000621-1748156400-1748167200@dupagebirding.org
SUMMARY:Springbrook Prairie Forest Preserve
DESCRIPTION:Registration with the leader is required.The trip will look for late spring migrants and grassland birds. We will concentrate on finding late spring migrants such as Mourning and Connecticut Warblers as well as the grassland birds that nest at Springbrook. Meet at Model Aircraft Parking Lot on the west side of Plainfield-Naperville Road about 0.5 mi south of 75th Street. Wear appropriate footwear to go off-trail and bring/use insect repellent for ticks and possibly mosquitos.Leader: Joe Suchecki\, dbcsec2020@gmail.com
URL:https://dupagebirding.org/event/springbrook-prairie-forest-preserve/
CATEGORIES:Field Trips
END:VEVENT
BEGIN:VEVENT
DTSTART;TZID=America/Chicago:20250525T073000
DTEND;TZID=America/Chicago:20250525T093000
DTSTAMP:20260424T070051
CREATED:20250429T170000Z
LAST-MODIFIED:20250427T151733Z
UID:10000616-1748158200-1748165400@dupagebirding.org
SUMMARY:Bird Sit at Elsen’s Woods\, West DuPage Woods\, Winfield
DESCRIPTION:Registration is not required. If you want to be informed of any last-minute changes\, email the leader with your contact information.This is a field trip for anyone who finds the long walks of our regular field trips too difficult or who would just like a less vigorous birding experience but still share the comradery of fellow birders. Bring your folding lawn chairs\, binoculars and field guides. We will meet and sit as a group and look for spring migrants and any birds that come to us! Birders of all levels are welcome. Elsen’s Woods is part of West DuPage Woods. We will meet at the Gary’s Mill Road parking lot. Take Winfield Rd. to Gary’s Mill Rd. Go west on Gary’s Mill Rd. to the Preserve parking lot entrance on the north side of the road. Bring a lawn chair\, water\, bug spray and dress for the weather. West DuPage WoodsLeader: Natalie McFaul\, natcatcher7@gmail.com
URL:https://dupagebirding.org/event/bird-sit-at-elsens-woods-west-dupage-woods-winfield-3/
CATEGORIES:Field Trips
END:VEVENT
END:VCALENDAR