BEGIN:VCALENDAR
VERSION:2.0
PRODID:-//DuPage Birding Club - ECPv6.15.14//NONSGML v1.0//EN
CALSCALE:GREGORIAN
METHOD:PUBLISH
X-WR-CALNAME:DuPage Birding Club
X-ORIGINAL-URL:https://dupagebirding.org
X-WR-CALDESC:Events for DuPage Birding Club
REFRESH-INTERVAL;VALUE=DURATION:PT1H
X-Robots-Tag:noindex
X-PUBLISHED-TTL:PT1H
BEGIN:VTIMEZONE
TZID:America/Chicago
BEGIN:DAYLIGHT
TZOFFSETFROM:-0600
TZOFFSETTO:-0500
TZNAME:CDT
DTSTART:20240310T080000
END:DAYLIGHT
BEGIN:STANDARD
TZOFFSETFROM:-0500
TZOFFSETTO:-0600
TZNAME:CST
DTSTART:20241103T070000
END:STANDARD
BEGIN:DAYLIGHT
TZOFFSETFROM:-0600
TZOFFSETTO:-0500
TZNAME:CDT
DTSTART:20250309T080000
END:DAYLIGHT
BEGIN:STANDARD
TZOFFSETFROM:-0500
TZOFFSETTO:-0600
TZNAME:CST
DTSTART:20251102T070000
END:STANDARD
BEGIN:DAYLIGHT
TZOFFSETFROM:-0600
TZOFFSETTO:-0500
TZNAME:CDT
DTSTART:20260308T080000
END:DAYLIGHT
BEGIN:STANDARD
TZOFFSETFROM:-0500
TZOFFSETTO:-0600
TZNAME:CST
DTSTART:20261101T070000
END:STANDARD
END:VTIMEZONE
BEGIN:VEVENT
DTSTART;TZID=America/Chicago:20250526T080000
DTEND;TZID=America/Chicago:20250526T110000
DTSTAMP:20260424T065458
CREATED:20250429T170000Z
LAST-MODIFIED:20250427T152203Z
UID:10000617-1748246400-1748257200@dupagebirding.org
SUMMARY:Bike & Bird\, Greene Valley\, Naperville
DESCRIPTION:Registration with the leader is required. Limit 10 participants.Greene Valley has a lot of great habitats in it\, but you can’t really cover more than one in a typical field trip due to distance. We will bike around the preserve to hit as much as possible in one run. There will be a slight emphasis on areas more likely to have migrating warblers. Expect to ride about 5 miles with a few light hills (no overlook). We will be sticking to the limestone/paved trails. Meet at the north end of the Greene Road parking lot near the information sign & trailhead.Leader: Matt Crisler\,  crislermj@gmail.com
URL:https://dupagebirding.org/event/bike-bird-greene-valley-naperville/
CATEGORIES:Field Trips
END:VEVENT
END:VCALENDAR