BEGIN:VCALENDAR
VERSION:2.0
PRODID:-//DuPage Birding Club - ECPv6.15.14//NONSGML v1.0//EN
CALSCALE:GREGORIAN
METHOD:PUBLISH
X-ORIGINAL-URL:https://dupagebirding.org
X-WR-CALDESC:Events for DuPage Birding Club
REFRESH-INTERVAL;VALUE=DURATION:PT1H
X-Robots-Tag:noindex
X-PUBLISHED-TTL:PT1H
BEGIN:VTIMEZONE
TZID:America/Chicago
BEGIN:DAYLIGHT
TZOFFSETFROM:-0600
TZOFFSETTO:-0500
TZNAME:CDT
DTSTART:20240310T080000
END:DAYLIGHT
BEGIN:STANDARD
TZOFFSETFROM:-0500
TZOFFSETTO:-0600
TZNAME:CST
DTSTART:20241103T070000
END:STANDARD
BEGIN:DAYLIGHT
TZOFFSETFROM:-0600
TZOFFSETTO:-0500
TZNAME:CDT
DTSTART:20250309T080000
END:DAYLIGHT
BEGIN:STANDARD
TZOFFSETFROM:-0500
TZOFFSETTO:-0600
TZNAME:CST
DTSTART:20251102T070000
END:STANDARD
BEGIN:DAYLIGHT
TZOFFSETFROM:-0600
TZOFFSETTO:-0500
TZNAME:CDT
DTSTART:20260308T080000
END:DAYLIGHT
BEGIN:STANDARD
TZOFFSETFROM:-0500
TZOFFSETTO:-0600
TZNAME:CST
DTSTART:20261101T070000
END:STANDARD
END:VTIMEZONE
BEGIN:VEVENT
DTSTART;TZID=America/Chicago:20250609T080000
DTEND;TZID=America/Chicago:20250609T110000
DTSTAMP:20260424T054627
CREATED:20250601T120000Z
LAST-MODIFIED:20250528T195331Z
UID:10000631-1749456000-1749466800@dupagebirding.org
SUMMARY:Centennial Trail\, Lemont
DESCRIPTION:Registration with the leader is required\, limit 15 participants.On this field trip we will be exploring swampy river bottom and marsh habitats in hopes of finding unique breeding birds such as the Prothonotary Warbler\, among others. Finding this spot can be a little tricky\, but if you put “TruckParking247” into Google Maps it should take you to the right spot. Park along the side of the end of Canal Bank Road. Ask Henry if you have additional questions.Leader: Henry Meade\,henrymm21@icloud.com
URL:https://dupagebirding.org/event/centennial-trail-lemont-30/
CATEGORIES:Field Trips
END:VEVENT
END:VCALENDAR