BEGIN:VCALENDAR
VERSION:2.0
PRODID:-//DuPage Birding Club - ECPv6.15.14//NONSGML v1.0//EN
CALSCALE:GREGORIAN
METHOD:PUBLISH
X-WR-CALNAME:DuPage Birding Club
X-ORIGINAL-URL:https://dupagebirding.org
X-WR-CALDESC:Events for DuPage Birding Club
REFRESH-INTERVAL;VALUE=DURATION:PT1H
X-Robots-Tag:noindex
X-PUBLISHED-TTL:PT1H
BEGIN:VTIMEZONE
TZID:America/Chicago
BEGIN:DAYLIGHT
TZOFFSETFROM:-0600
TZOFFSETTO:-0500
TZNAME:CDT
DTSTART:20240310T080000
END:DAYLIGHT
BEGIN:STANDARD
TZOFFSETFROM:-0500
TZOFFSETTO:-0600
TZNAME:CST
DTSTART:20241103T070000
END:STANDARD
BEGIN:DAYLIGHT
TZOFFSETFROM:-0600
TZOFFSETTO:-0500
TZNAME:CDT
DTSTART:20250309T080000
END:DAYLIGHT
BEGIN:STANDARD
TZOFFSETFROM:-0500
TZOFFSETTO:-0600
TZNAME:CST
DTSTART:20251102T070000
END:STANDARD
BEGIN:DAYLIGHT
TZOFFSETFROM:-0600
TZOFFSETTO:-0500
TZNAME:CDT
DTSTART:20260308T080000
END:DAYLIGHT
BEGIN:STANDARD
TZOFFSETFROM:-0500
TZOFFSETTO:-0600
TZNAME:CST
DTSTART:20261101T070000
END:STANDARD
END:VTIMEZONE
BEGIN:VEVENT
DTSTART;TZID=America/Chicago:20250620T173000
DTEND;TZID=America/Chicago:20250620T193000
DTSTAMP:20260424T054457
CREATED:20250601T120000Z
LAST-MODIFIED:20250528T200649Z
UID:10000634-1750440600-1750447800@dupagebirding.org
SUMMARY:After work Birding at Danada Forest Preserve (east)\, Wheaton
DESCRIPTION:Registration is not required. Please email the leader if you plan to attend to receive updates. Start the weekend off with a casual evening of birding. This trip is planned with the after-work/school crowd in mind\, but anyone interested is welcome! We will stick to well-maintained gravel trails and walk approximately two miles. Danada East (Danada House) is located at 3S501 Naperville Road\, on the east side of the road\, south of Butterfield Rd. and north of 1-88. Plan to meet at the north end of the parking lot near the entry kiosk with the benches and bike racks. This trip may be cancelled due to weather.Leader: William Pixler\, pillwixler@gmail.com
URL:https://dupagebirding.org/event/after-work-birding-at-danada-forest-preserve-east-wheaton-2/
CATEGORIES:Field Trips
END:VEVENT
END:VCALENDAR