BEGIN:VCALENDAR
VERSION:2.0
PRODID:-//DuPage Birding Club - ECPv6.15.14//NONSGML v1.0//EN
CALSCALE:GREGORIAN
METHOD:PUBLISH
X-ORIGINAL-URL:https://dupagebirding.org
X-WR-CALDESC:Events for DuPage Birding Club
REFRESH-INTERVAL;VALUE=DURATION:PT1H
X-Robots-Tag:noindex
X-PUBLISHED-TTL:PT1H
BEGIN:VTIMEZONE
TZID:America/Chicago
BEGIN:DAYLIGHT
TZOFFSETFROM:-0600
TZOFFSETTO:-0500
TZNAME:CDT
DTSTART:20240310T080000
END:DAYLIGHT
BEGIN:STANDARD
TZOFFSETFROM:-0500
TZOFFSETTO:-0600
TZNAME:CST
DTSTART:20241103T070000
END:STANDARD
BEGIN:DAYLIGHT
TZOFFSETFROM:-0600
TZOFFSETTO:-0500
TZNAME:CDT
DTSTART:20250309T080000
END:DAYLIGHT
BEGIN:STANDARD
TZOFFSETFROM:-0500
TZOFFSETTO:-0600
TZNAME:CST
DTSTART:20251102T070000
END:STANDARD
BEGIN:DAYLIGHT
TZOFFSETFROM:-0600
TZOFFSETTO:-0500
TZNAME:CDT
DTSTART:20260308T080000
END:DAYLIGHT
BEGIN:STANDARD
TZOFFSETFROM:-0500
TZOFFSETTO:-0600
TZNAME:CST
DTSTART:20261101T070000
END:STANDARD
END:VTIMEZONE
BEGIN:VEVENT
DTSTART;TZID=America/Chicago:20250715T073000
DTEND;TZID=America/Chicago:20250715T103000
DTSTAMP:20260424T043048
CREATED:20250701T133400Z
LAST-MODIFIED:20250629T161257Z
UID:10000639-1752564600-1752575400@dupagebirding.org
SUMMARY:McKee Marsh\, Warrenville
DESCRIPTION:Registration for this trip is not required.Join us for a morning walk at one of DuPage County’s premier birding hotspots to look for resident and breeding species. The walk will be approximately three miles on limestone and earthen trails. Wear appropriate shoes and clothing. Meet at the visitor parking lot on the north side of Mack Road\, located east of Rt. 59\, and west of Winfield Road. https://maps.app.goo.gl/KXCPRk4BFnszuntK7Leader: Kyle Wiktor\, (708) 506-5186
URL:https://dupagebirding.org/event/mckee-marsh-warrenville-50/
CATEGORIES:Field Trips
END:VEVENT
BEGIN:VEVENT
DTSTART;TZID=America/Chicago:20250715T181500
DTEND;TZID=America/Chicago:20250715T210000
DTSTAMP:20260424T043048
CREATED:20250701T133200Z
LAST-MODIFIED:20250629T161446Z
UID:10000638-1752603300-1752613200@dupagebirding.org
SUMMARY:Lyman Woods\, Downers Grove
DESCRIPTION:Registration with the leader is required\, limit 15 participants.Birding after work! Meet at the parking lot on 31st Street. We’ll conclude the trip with some dusk birding looking for the resident owls. A red flashlight or headlamp is recommended. Lyman’s trails can be muddy if we get rain – be prepared with appropriate footwear. Insect repellent is highly recommended. https://maps.app.goo.gl/anx9bjWV6JG4MTaQ9Leader: Matt Crisler\, crislermj@gmail.com
URL:https://dupagebirding.org/event/lyman-woods-downers-grove-12/
CATEGORIES:Field Trips
END:VEVENT
END:VCALENDAR