BEGIN:VCALENDAR
VERSION:2.0
PRODID:-//DuPage Birding Club - ECPv6.15.14//NONSGML v1.0//EN
CALSCALE:GREGORIAN
METHOD:PUBLISH
X-WR-CALNAME:DuPage Birding Club
X-ORIGINAL-URL:https://dupagebirding.org
X-WR-CALDESC:Events for DuPage Birding Club
REFRESH-INTERVAL;VALUE=DURATION:PT1H
X-Robots-Tag:noindex
X-PUBLISHED-TTL:PT1H
BEGIN:VTIMEZONE
TZID:America/Chicago
BEGIN:DAYLIGHT
TZOFFSETFROM:-0600
TZOFFSETTO:-0500
TZNAME:CDT
DTSTART:20240310T080000
END:DAYLIGHT
BEGIN:STANDARD
TZOFFSETFROM:-0500
TZOFFSETTO:-0600
TZNAME:CST
DTSTART:20241103T070000
END:STANDARD
BEGIN:DAYLIGHT
TZOFFSETFROM:-0600
TZOFFSETTO:-0500
TZNAME:CDT
DTSTART:20250309T080000
END:DAYLIGHT
BEGIN:STANDARD
TZOFFSETFROM:-0500
TZOFFSETTO:-0600
TZNAME:CST
DTSTART:20251102T070000
END:STANDARD
BEGIN:DAYLIGHT
TZOFFSETFROM:-0600
TZOFFSETTO:-0500
TZNAME:CDT
DTSTART:20260308T080000
END:DAYLIGHT
BEGIN:STANDARD
TZOFFSETFROM:-0500
TZOFFSETTO:-0600
TZNAME:CST
DTSTART:20261101T070000
END:STANDARD
END:VTIMEZONE
BEGIN:VEVENT
DTSTART;TZID=America/Chicago:20250823T073000
DTEND;TZID=America/Chicago:20250823T110000
DTSTAMP:20260423T221531
CREATED:20250727T160052Z
LAST-MODIFIED:20250727T160054Z
UID:10000647-1755934200-1755946800@dupagebirding.org
SUMMARY:Birding and Breakfast\, Blackwell Forest Preserve (West Shelter)\, Warrenville
DESCRIPTION:Birding and BreakfastTo help us with planning\, please RSVP here.Please join us for a bird walk and casual breakfast at the West Shelter at Blackwell Forest Preserve. We will begin at 7:30 with a short bird walk followed by breakfast in the picnic shelter at 9:00. The club will provide bananas\, bagels\, donuts\, juice\, and coffee. You are welcome to come just for the walk or just for the breakfast. \nAll birders and potential birders are welcome! This is a great time to get together and relive highlights of your summer birding experiences with others who share your interest in birding and the outdoors. \nBlackwell Forest Preserve is located on the north side of Butterfield Road a quarter mile west of Winfield Road.  The West Shelter is located on the left side of the Main Dr. opposite the boat rental parking lot. https://maps.app.goo.gl/Bh1HxwvczZ92dJmA8Leader: Natalie McFaul\, natcatcher7@gmail.com.
URL:https://dupagebirding.org/event/birding-and-breakfast-blackwell-forest-preserve-west-shelter-warrenville/
CATEGORIES:Field Trips
END:VEVENT
END:VCALENDAR