BEGIN:VCALENDAR
VERSION:2.0
PRODID:-//DuPage Birding Club - ECPv6.15.14//NONSGML v1.0//EN
CALSCALE:GREGORIAN
METHOD:PUBLISH
X-WR-CALNAME:DuPage Birding Club
X-ORIGINAL-URL:https://dupagebirding.org
X-WR-CALDESC:Events for DuPage Birding Club
REFRESH-INTERVAL;VALUE=DURATION:PT1H
X-Robots-Tag:noindex
X-PUBLISHED-TTL:PT1H
BEGIN:VTIMEZONE
TZID:America/Chicago
BEGIN:DAYLIGHT
TZOFFSETFROM:-0600
TZOFFSETTO:-0500
TZNAME:CDT
DTSTART:20240310T080000
END:DAYLIGHT
BEGIN:STANDARD
TZOFFSETFROM:-0500
TZOFFSETTO:-0600
TZNAME:CST
DTSTART:20241103T070000
END:STANDARD
BEGIN:DAYLIGHT
TZOFFSETFROM:-0600
TZOFFSETTO:-0500
TZNAME:CDT
DTSTART:20250309T080000
END:DAYLIGHT
BEGIN:STANDARD
TZOFFSETFROM:-0500
TZOFFSETTO:-0600
TZNAME:CST
DTSTART:20251102T070000
END:STANDARD
BEGIN:DAYLIGHT
TZOFFSETFROM:-0600
TZOFFSETTO:-0500
TZNAME:CDT
DTSTART:20260308T080000
END:DAYLIGHT
BEGIN:STANDARD
TZOFFSETFROM:-0500
TZOFFSETTO:-0600
TZNAME:CST
DTSTART:20261101T070000
END:STANDARD
END:VTIMEZONE
BEGIN:VEVENT
DTSTART;TZID=America/Chicago:20251011T073000
DTEND;TZID=America/Chicago:20251011T100000
DTSTAMP:20260423T195746
CREATED:20250927T123455Z
LAST-MODIFIED:20250927T222545Z
UID:10000670-1760167800-1760176800@dupagebirding.org
SUMMARY:Springbrook Prairie Forest Preserve\, Naperville
DESCRIPTION:Registration with the leader is required. Limit 10 participants. Registration for nonmembers opens on October 1.\nSpringbrook Prairie Fall Sparrow Trip. Join Joe Suchecki at Springbrook Prairie in Naperville to look for fall sparrows and other migrants. Targets for the trip include Nelson’s and LeConte’s sparrows. We will search along wetland areas for these elusive sparrows and will go off trail through some wetter areas\, so waterproof footwear is recommended. Use insect repellent for ticks and mosquitos.\nMeet at the Main Parking Lot on 83rd Street between Route 59 and Book Road.\nLeader: Joe Suchecki\, dbcsec2020@gmail.com\, (630) 842-4921
URL:https://dupagebirding.org/event/springbrook-prairie-forest-preserve-naperville-23/
CATEGORIES:Field Trips
END:VEVENT
BEGIN:VEVENT
DTSTART;TZID=America/Chicago:20251011T073000
DTEND;TZID=America/Chicago:20251011T100000
DTSTAMP:20260423T195746
CREATED:20260403T221831Z
LAST-MODIFIED:20260403T221831Z
UID:10000740-1760167800-1760176800@dupagebirding.org
SUMMARY:Springbrook Prairie Forest Preserve\, Naperville
DESCRIPTION:Registration with the leader is required. Limit 10 participants. Registration for nonmembers opens on October 1.Springbrook Prairie Fall Sparrow Trip.  Join Joe Suchecki at Springbrook Prairie in Naperville to look for fall sparrows and other migrants.  Targets for the trip include Nelson's and LeConte's sparrows.  We will search along wetland areas for these elusive sparrows and will go off trail through some wetter areas\, so waterproof footwear is recommended.  Use insect repellent for ticks and mosquitos. \nMeet at the Main Parking Lot on 83rd Street between Route 59 and Book Road. \nLeader: Joe Suchecki\, dbcsec2020@gmail.com\, (630) 842-4921
URL:https://dupagebirding.org/event/springbrook-prairie-forest-preserve-naperville-27/
CATEGORIES:Field Trips
END:VEVENT
BEGIN:VEVENT
DTSTART;TZID=America/Chicago:20251011T073000
DTEND;TZID=America/Chicago:20251011T120000
DTSTAMP:20260423T195746
CREATED:20250927T123456Z
LAST-MODIFIED:20250927T223032Z
UID:10000669-1760167800-1760184000@dupagebirding.org
SUMMARY:Lyman Woods\, Downers Grove
DESCRIPTION:Registration with the leader is required. Limit 10 participants. Registration for nonmembers opens on October 1.\nOur targets will primarily be southbound warblers\, but we’ll be exploring Lyman in detail and trying to find as much as possible in the heart of fall migration. Expect a longer walk than typical. Lyman’s trails are almost always muddy regardless of the weather. If rain occurs ahead of the trip\, expect areas with standing water. Be prepared with appropriate footwear and bring bug/tick spray. Meet at the parking lot on 31st Street.\nLeader: Matt Crisler\, crislermj@gmail.com
URL:https://dupagebirding.org/event/lyman-woods-downers-grove-16/
CATEGORIES:Field Trips
END:VEVENT
BEGIN:VEVENT
DTSTART;TZID=America/Chicago:20251011T073000
DTEND;TZID=America/Chicago:20251011T120000
DTSTAMP:20260423T195746
CREATED:20260403T221828Z
LAST-MODIFIED:20260403T221828Z
UID:10000738-1760167800-1760184000@dupagebirding.org
SUMMARY:Lyman Woods\, Downers Grove
DESCRIPTION:Registration with the leader is required. Limit 10 participants. Registration for nonmembers opens on October 1.Our targets will primarily be southbound warblers\, but we’ll be exploring Lyman in detail and trying to find as much as possible in the heart of fall migration. Expect a longer walk than typical. Lyman’s trails are almost always muddy regardless of the weather. If rain occurs ahead of the trip\, expect areas with standing water. Be prepared with appropriate footwear and bring bug/tick spray. Meet at the parking lot on 31st Street. \nLeader: Matt Crisler\, crislermj@gmail.com
URL:https://dupagebirding.org/event/lyman-woods-downers-grove-27/
CATEGORIES:Field Trips
END:VEVENT
END:VCALENDAR