BEGIN:VCALENDAR
VERSION:2.0
PRODID:-//DuPage Birding Club - ECPv6.15.14//NONSGML v1.0//EN
CALSCALE:GREGORIAN
METHOD:PUBLISH
X-WR-CALNAME:DuPage Birding Club
X-ORIGINAL-URL:https://dupagebirding.org
X-WR-CALDESC:Events for DuPage Birding Club
REFRESH-INTERVAL;VALUE=DURATION:PT1H
X-Robots-Tag:noindex
X-PUBLISHED-TTL:PT1H
BEGIN:VTIMEZONE
TZID:America/Chicago
BEGIN:DAYLIGHT
TZOFFSETFROM:-0600
TZOFFSETTO:-0500
TZNAME:CDT
DTSTART:20240310T080000
END:DAYLIGHT
BEGIN:STANDARD
TZOFFSETFROM:-0500
TZOFFSETTO:-0600
TZNAME:CST
DTSTART:20241103T070000
END:STANDARD
BEGIN:DAYLIGHT
TZOFFSETFROM:-0600
TZOFFSETTO:-0500
TZNAME:CDT
DTSTART:20250309T080000
END:DAYLIGHT
BEGIN:STANDARD
TZOFFSETFROM:-0500
TZOFFSETTO:-0600
TZNAME:CST
DTSTART:20251102T070000
END:STANDARD
BEGIN:DAYLIGHT
TZOFFSETFROM:-0600
TZOFFSETTO:-0500
TZNAME:CDT
DTSTART:20260308T080000
END:DAYLIGHT
BEGIN:STANDARD
TZOFFSETFROM:-0500
TZOFFSETTO:-0600
TZNAME:CST
DTSTART:20261101T070000
END:STANDARD
END:VTIMEZONE
BEGIN:VEVENT
DTSTART;TZID=America/Chicago:20251109T080000
DTEND;TZID=America/Chicago:20251109T103000
DTSTAMP:20260423T183547
CREATED:20251025T193136Z
LAST-MODIFIED:20251025T193136Z
UID:10000679-1762675200-1762684200@dupagebirding.org
SUMMARY:Danada Forest Preserve - WEST\, Wheaton
DESCRIPTION:Registration with the leader is required. Limit 12 participants. Registration for nonmembers opens on November 1.On this trip we will be exploring the western part of Danada Forest Preserve searching for passerine migrants such as hopefully some uncommon sparrows that can be found in DuPage County this time of year. We will also check several different ponds to look for migrating waterfowl. Please meet on the west side of the Forest Preserve HQ parking lot at 8am.https://maps.app.goo.gl/6T4JW5wdoxtCrbF78?g_st=icLeader: Henry Meade\, meadehenry21@gmail.com\, (224) 319-4377
URL:https://dupagebirding.org/event/danada-forest-preserve-west-wheaton/
CATEGORIES:Field Trips
END:VEVENT
BEGIN:VEVENT
DTSTART;TZID=America/Chicago:20251109T080000
DTEND;TZID=America/Chicago:20251109T103000
DTSTAMP:20260423T183547
CREATED:20260403T221839Z
LAST-MODIFIED:20260403T221839Z
UID:10000748-1762675200-1762684200@dupagebirding.org
SUMMARY:Danada Forest Preserve - WEST\, Wheaton
DESCRIPTION:Registration with the leader is required. Limit 12 participants. Registration for nonmembers opens on November 1.On this trip we will be exploring the western part of Danada Forest Preserve searching for passerine migrants such as hopefully some uncommon sparrows that can be found in DuPage County this time of year. We will also check several different ponds to look for migrating waterfowl. Please meet on the west side of the Forest Preserve HQ parking lot at 8am.https://maps.app.goo.gl/6T4JW5wdoxtCrbF78?g_st=icLeader: Henry Meade\, meadehenry21@gmail.com\, (224) 319-4377
URL:https://dupagebirding.org/event/danada-forest-preserve-west-wheaton-2/
CATEGORIES:Field Trips
END:VEVENT
END:VCALENDAR