BEGIN:VCALENDAR
VERSION:2.0
PRODID:-//DuPage Birding Club - ECPv6.15.14//NONSGML v1.0//EN
CALSCALE:GREGORIAN
METHOD:PUBLISH
X-WR-CALNAME:DuPage Birding Club
X-ORIGINAL-URL:https://dupagebirding.org
X-WR-CALDESC:Events for DuPage Birding Club
REFRESH-INTERVAL;VALUE=DURATION:PT1H
X-Robots-Tag:noindex
X-PUBLISHED-TTL:PT1H
BEGIN:VTIMEZONE
TZID:America/Chicago
BEGIN:DAYLIGHT
TZOFFSETFROM:-0600
TZOFFSETTO:-0500
TZNAME:CDT
DTSTART:20240310T080000
END:DAYLIGHT
BEGIN:STANDARD
TZOFFSETFROM:-0500
TZOFFSETTO:-0600
TZNAME:CST
DTSTART:20241103T070000
END:STANDARD
BEGIN:DAYLIGHT
TZOFFSETFROM:-0600
TZOFFSETTO:-0500
TZNAME:CDT
DTSTART:20250309T080000
END:DAYLIGHT
BEGIN:STANDARD
TZOFFSETFROM:-0500
TZOFFSETTO:-0600
TZNAME:CST
DTSTART:20251102T070000
END:STANDARD
BEGIN:DAYLIGHT
TZOFFSETFROM:-0600
TZOFFSETTO:-0500
TZNAME:CDT
DTSTART:20260308T080000
END:DAYLIGHT
BEGIN:STANDARD
TZOFFSETFROM:-0500
TZOFFSETTO:-0600
TZNAME:CST
DTSTART:20261101T070000
END:STANDARD
END:VTIMEZONE
BEGIN:VEVENT
DTSTART;TZID=America/Chicago:20251115T073000
DTEND;TZID=America/Chicago:20251115T103000
DTSTAMP:20260423T183548
CREATED:20251025T193134Z
LAST-MODIFIED:20251025T193134Z
UID:10000678-1763191800-1763202600@dupagebirding.org
SUMMARY:Bemis Woods North Grove\, Westchester
DESCRIPTION:Registration with the leader is required. Limit 8 participants. Registration for nonmembers opens on November 1.Bemis Woods is a beautiful place to look for winter residents. We will be looking for Brown Creepers\, woodpeckers\, perhaps see an occasional Pileated Woodpecker\, and maybe a Belted Kingfisher or two. We'll start off walking along Salt Creek then loop back to the parking lot and then do an out & back on the nature preserve trail. Meet by the bridge\, at the parking lot off Wolf Road between 31st and Ogden. See map.https://maps.app.goo.gl/JD3ir3Kaz177X4xf9Leader: Elena Nelson\, ladylena76@gmail.com 
URL:https://dupagebirding.org/event/bemis-woods-north-grove-westchester/
CATEGORIES:Field Trips
END:VEVENT
BEGIN:VEVENT
DTSTART;TZID=America/Chicago:20251115T073000
DTEND;TZID=America/Chicago:20251115T103000
DTSTAMP:20260423T183548
CREATED:20260403T221835Z
LAST-MODIFIED:20260403T221835Z
UID:10000744-1763191800-1763202600@dupagebirding.org
SUMMARY:Bemis Woods North Grove\, Westchester
DESCRIPTION:Registration with the leader is required. Limit 8 participants. Registration for nonmembers opens on November 1.Bemis Woods is a beautiful place to look for winter residents. We will be looking for Brown Creepers\, woodpeckers\, perhaps see an occasional Pileated Woodpecker\, and maybe a Belted Kingfisher or two. We'll start off walking along Salt Creek then loop back to the parking lot and then do an out & back on the nature preserve trail. Meet by the bridge\, at the parking lot off Wolf Road between 31st and Ogden. See map.https://maps.app.goo.gl/JD3ir3Kaz177X4xf9Leader: Elena Nelson\, ladylena76@gmail.com 
URL:https://dupagebirding.org/event/bemis-woods-north-grove-westchester-2/
CATEGORIES:Field Trips
END:VEVENT
END:VCALENDAR