BEGIN:VCALENDAR
VERSION:2.0
PRODID:-//DuPage Birding Club - ECPv6.15.14//NONSGML v1.0//EN
CALSCALE:GREGORIAN
METHOD:PUBLISH
X-WR-CALNAME:DuPage Birding Club
X-ORIGINAL-URL:https://dupagebirding.org
X-WR-CALDESC:Events for DuPage Birding Club
REFRESH-INTERVAL;VALUE=DURATION:PT1H
X-Robots-Tag:noindex
X-PUBLISHED-TTL:PT1H
BEGIN:VTIMEZONE
TZID:America/Chicago
BEGIN:DAYLIGHT
TZOFFSETFROM:-0600
TZOFFSETTO:-0500
TZNAME:CDT
DTSTART:20240310T080000
END:DAYLIGHT
BEGIN:STANDARD
TZOFFSETFROM:-0500
TZOFFSETTO:-0600
TZNAME:CST
DTSTART:20241103T070000
END:STANDARD
BEGIN:DAYLIGHT
TZOFFSETFROM:-0600
TZOFFSETTO:-0500
TZNAME:CDT
DTSTART:20250309T080000
END:DAYLIGHT
BEGIN:STANDARD
TZOFFSETFROM:-0500
TZOFFSETTO:-0600
TZNAME:CST
DTSTART:20251102T070000
END:STANDARD
BEGIN:DAYLIGHT
TZOFFSETFROM:-0600
TZOFFSETTO:-0500
TZNAME:CDT
DTSTART:20260308T080000
END:DAYLIGHT
BEGIN:STANDARD
TZOFFSETFROM:-0500
TZOFFSETTO:-0600
TZNAME:CST
DTSTART:20261101T070000
END:STANDARD
END:VTIMEZONE
BEGIN:VEVENT
DTSTART;TZID=America/Chicago:20251123T143000
DTEND;TZID=America/Chicago:20251123T173000
DTSTAMP:20260423T190143
CREATED:20251025T193329Z
LAST-MODIFIED:20251025T193329Z
UID:10000683-1763908200-1763919000@dupagebirding.org
SUMMARY:Lyman Woods\, Downers Grove
DESCRIPTION:Registration with the leader is required. Limit 15 participants. Registration for nonmembers opens on November 1.We will be looking for late migrants and remaining residents\, including some owling after dark. Lyman's trails can be muddy. While it has been quite dry overall this season\, if substantial rain occurs ahead of the trip\, be prepared with appropriate footwear. A red flashlight or headlamp is recommended for the owling portion. Meet at the parking lot on 31st Street.https://maps.app.goo.gl/bcJuErw1iwpqKVBx9Leader: Matt Crisler\, crislermj@gmail.com 
URL:https://dupagebirding.org/event/lyman-woods-downers-grove-18/
CATEGORIES:Field Trips
END:VEVENT
BEGIN:VEVENT
DTSTART;TZID=America/Chicago:20251123T143000
DTEND;TZID=America/Chicago:20251123T173000
DTSTAMP:20260423T190143
CREATED:20260403T221832Z
LAST-MODIFIED:20260403T221832Z
UID:10000741-1763908200-1763919000@dupagebirding.org
SUMMARY:Lyman Woods\, Downers Grove
DESCRIPTION:Registration with the leader is required. Limit 15 participants. Registration for nonmembers opens on November 1.We will be looking for late migrants and remaining residents\, including some owling after dark. Lyman's trails can be muddy. While it has been quite dry overall this season\, if substantial rain occurs ahead of the trip\, be prepared with appropriate footwear. A red flashlight or headlamp is recommended for the owling portion. Meet at the parking lot on 31st Street.https://maps.app.goo.gl/bcJuErw1iwpqKVBx9Leader: Matt Crisler\, crislermj@gmail.com 
URL:https://dupagebirding.org/event/lyman-woods-downers-grove-28/
CATEGORIES:Field Trips
END:VEVENT
END:VCALENDAR