BEGIN:VCALENDAR
VERSION:2.0
PRODID:-//DuPage Birding Club - ECPv6.15.14//NONSGML v1.0//EN
CALSCALE:GREGORIAN
METHOD:PUBLISH
X-ORIGINAL-URL:https://dupagebirding.org
X-WR-CALDESC:Events for DuPage Birding Club
REFRESH-INTERVAL;VALUE=DURATION:PT1H
X-Robots-Tag:noindex
X-PUBLISHED-TTL:PT1H
BEGIN:VTIMEZONE
TZID:America/Chicago
BEGIN:DAYLIGHT
TZOFFSETFROM:-0600
TZOFFSETTO:-0500
TZNAME:CDT
DTSTART:20240310T080000
END:DAYLIGHT
BEGIN:STANDARD
TZOFFSETFROM:-0500
TZOFFSETTO:-0600
TZNAME:CST
DTSTART:20241103T070000
END:STANDARD
BEGIN:DAYLIGHT
TZOFFSETFROM:-0600
TZOFFSETTO:-0500
TZNAME:CDT
DTSTART:20250309T080000
END:DAYLIGHT
BEGIN:STANDARD
TZOFFSETFROM:-0500
TZOFFSETTO:-0600
TZNAME:CST
DTSTART:20251102T070000
END:STANDARD
BEGIN:DAYLIGHT
TZOFFSETFROM:-0600
TZOFFSETTO:-0500
TZNAME:CDT
DTSTART:20260308T080000
END:DAYLIGHT
BEGIN:STANDARD
TZOFFSETFROM:-0500
TZOFFSETTO:-0600
TZNAME:CST
DTSTART:20261101T070000
END:STANDARD
END:VTIMEZONE
BEGIN:VEVENT
DTSTART;TZID=America/Chicago:20251210T080000
DTEND;TZID=America/Chicago:20251210T103000
DTSTAMP:20260423T171724
CREATED:20251127T040007Z
LAST-MODIFIED:20251127T040007Z
UID:10000685-1765353600-1765362600@dupagebirding.org
SUMMARY:Morton Arboretum\, West Side\, Lisle
DESCRIPTION:Registration with the leader is required.We will meet at Thornhill parking lot\, P21 and explore the area.  We are looking for winter resident birds and hopefully some migrants from the north. New birders are welcome to join.   Arboretum members are free. There is a charge for nonmembers. Please contact leaders for possible discount. Leader: Mike and Karen Warner\, mwarner2543@gmail.com\, (630) 640-2450
URL:https://dupagebirding.org/event/morton-arboretum-west-side-lisle-3/
CATEGORIES:Field Trips
END:VEVENT
END:VCALENDAR