BEGIN:VCALENDAR
VERSION:2.0
PRODID:-//DuPage Birding Club - ECPv6.15.14//NONSGML v1.0//EN
CALSCALE:GREGORIAN
METHOD:PUBLISH
X-ORIGINAL-URL:https://dupagebirding.org
X-WR-CALDESC:Events for DuPage Birding Club
REFRESH-INTERVAL;VALUE=DURATION:PT1H
X-Robots-Tag:noindex
X-PUBLISHED-TTL:PT1H
BEGIN:VTIMEZONE
TZID:America/Chicago
BEGIN:DAYLIGHT
TZOFFSETFROM:-0600
TZOFFSETTO:-0500
TZNAME:CDT
DTSTART:20240310T080000
END:DAYLIGHT
BEGIN:STANDARD
TZOFFSETFROM:-0500
TZOFFSETTO:-0600
TZNAME:CST
DTSTART:20241103T070000
END:STANDARD
BEGIN:DAYLIGHT
TZOFFSETFROM:-0600
TZOFFSETTO:-0500
TZNAME:CDT
DTSTART:20250309T080000
END:DAYLIGHT
BEGIN:STANDARD
TZOFFSETFROM:-0500
TZOFFSETTO:-0600
TZNAME:CST
DTSTART:20251102T070000
END:STANDARD
BEGIN:DAYLIGHT
TZOFFSETFROM:-0600
TZOFFSETTO:-0500
TZNAME:CDT
DTSTART:20260308T080000
END:DAYLIGHT
BEGIN:STANDARD
TZOFFSETFROM:-0500
TZOFFSETTO:-0600
TZNAME:CST
DTSTART:20261101T070000
END:STANDARD
END:VTIMEZONE
BEGIN:VEVENT
DTSTART;TZID=America/Chicago:20251217T080000
DTEND;TZID=America/Chicago:20251217T110000
DTSTAMP:20260423T171725
CREATED:20251127T040009Z
LAST-MODIFIED:20251127T040009Z
UID:10000687-1765958400-1765969200@dupagebirding.org
SUMMARY:McKee Marsh\, Warrenville
DESCRIPTION:Registration is not required. There is no limit to the number of participants.Join us for a walk around the marsh as we search for the variety of bird species that spend the winter here.  We will be walking for 3.25 miles on preserve limestone and earthen trails.  Be sure to wear appropriate footwear and clothing for the weather.  Meet at the visitor parking lot on the north side of Mack Rd.\, located between Winfield Rd. and Rt. 59.https://maps.app.goo.gl/tcoGDz9MN7ewnNvq5Leader: Kyle Wiktor\, (708) 506-5186
URL:https://dupagebirding.org/event/mckee-marsh-warrenville-56/
CATEGORIES:Field Trips
END:VEVENT
END:VCALENDAR