BEGIN:VCALENDAR
VERSION:2.0
PRODID:-//DuPage Birding Club - ECPv6.15.14//NONSGML v1.0//EN
CALSCALE:GREGORIAN
METHOD:PUBLISH
X-WR-CALNAME:DuPage Birding Club
X-ORIGINAL-URL:https://dupagebirding.org
X-WR-CALDESC:Events for DuPage Birding Club
REFRESH-INTERVAL;VALUE=DURATION:PT1H
X-Robots-Tag:noindex
X-PUBLISHED-TTL:PT1H
BEGIN:VTIMEZONE
TZID:America/Chicago
BEGIN:DAYLIGHT
TZOFFSETFROM:-0600
TZOFFSETTO:-0500
TZNAME:CDT
DTSTART:20240310T080000
END:DAYLIGHT
BEGIN:STANDARD
TZOFFSETFROM:-0500
TZOFFSETTO:-0600
TZNAME:CST
DTSTART:20241103T070000
END:STANDARD
BEGIN:DAYLIGHT
TZOFFSETFROM:-0600
TZOFFSETTO:-0500
TZNAME:CDT
DTSTART:20250309T080000
END:DAYLIGHT
BEGIN:STANDARD
TZOFFSETFROM:-0500
TZOFFSETTO:-0600
TZNAME:CST
DTSTART:20251102T070000
END:STANDARD
BEGIN:DAYLIGHT
TZOFFSETFROM:-0600
TZOFFSETTO:-0500
TZNAME:CDT
DTSTART:20260308T080000
END:DAYLIGHT
BEGIN:STANDARD
TZOFFSETFROM:-0500
TZOFFSETTO:-0600
TZNAME:CST
DTSTART:20261101T070000
END:STANDARD
END:VTIMEZONE
BEGIN:VEVENT
DTSTART;TZID=America/Chicago:20251218T160000
DTEND;TZID=America/Chicago:20251218T170000
DTSTAMP:20260423T171857
CREATED:20251127T040012Z
LAST-MODIFIED:20251216T201651Z
UID:10000689-1766073600-1766077200@dupagebirding.org
SUMMARY:Springbrook Prairie - Canceled
DESCRIPTION:This trip is canceled.\nShort-eared Owls frequently winter at Springbrook Prairie and can be seen as they come out to hunt over the preserve at dusk. We will walk a short distance off-trail to wait for the owls to appear. Dress very warmly since we will be standing in one place as the sun goes down. Note that the owls are generally pretty far away and often appear just as the light is failing\, so this trip does not offer a photo-op. The trip will last about 40-50 min. The owls do not always winter at Springbrook and the trip will be canceled if they are not around or in the event of inclement weather.\nMeet at the Model Aircraft Field Parking Lot on Plainfield-Naperville Rd.\, south of 75th St. in Naperville.   https://maps.app.goo.gl/p9BR3fJosNn8FSk98\nLeader: Joe Suchecki
URL:https://dupagebirding.org/event/springbrook-prairie-naperville-22/
CATEGORIES:Field Trips
END:VEVENT
END:VCALENDAR