BEGIN:VCALENDAR
VERSION:2.0
PRODID:-//DuPage Birding Club - ECPv6.15.14//NONSGML v1.0//EN
CALSCALE:GREGORIAN
METHOD:PUBLISH
X-WR-CALNAME:DuPage Birding Club
X-ORIGINAL-URL:https://dupagebirding.org
X-WR-CALDESC:Events for DuPage Birding Club
REFRESH-INTERVAL;VALUE=DURATION:PT1H
X-Robots-Tag:noindex
X-PUBLISHED-TTL:PT1H
BEGIN:VTIMEZONE
TZID:America/Chicago
BEGIN:DAYLIGHT
TZOFFSETFROM:-0600
TZOFFSETTO:-0500
TZNAME:CDT
DTSTART:20240310T080000
END:DAYLIGHT
BEGIN:STANDARD
TZOFFSETFROM:-0500
TZOFFSETTO:-0600
TZNAME:CST
DTSTART:20241103T070000
END:STANDARD
BEGIN:DAYLIGHT
TZOFFSETFROM:-0600
TZOFFSETTO:-0500
TZNAME:CDT
DTSTART:20250309T080000
END:DAYLIGHT
BEGIN:STANDARD
TZOFFSETFROM:-0500
TZOFFSETTO:-0600
TZNAME:CST
DTSTART:20251102T070000
END:STANDARD
BEGIN:DAYLIGHT
TZOFFSETFROM:-0600
TZOFFSETTO:-0500
TZNAME:CDT
DTSTART:20260308T080000
END:DAYLIGHT
BEGIN:STANDARD
TZOFFSETFROM:-0500
TZOFFSETTO:-0600
TZNAME:CST
DTSTART:20261101T070000
END:STANDARD
END:VTIMEZONE
BEGIN:VEVENT
DTSTART;TZID=America/Chicago:20251220T070000
DTEND;TZID=America/Chicago:20251220T160000
DTSTAMP:20260423T171549
CREATED:20251127T040008Z
LAST-MODIFIED:20251130T202035Z
UID:10000688-1766214000-1766246400@dupagebirding.org
SUMMARY:Christmas Bird Count\,  Fermilab Circle
DESCRIPTION:Registration is required by December 13\, 2025. \nThe annual Christmas Bird Count (CBC) for the Fermilab Circle is December 20 this year\, and the always-fun Countdown Dinner is a go! \nThis is your chance to join the world’s longest running community science program! Now in its 125th year\, the CBC brings together bird lovers across the continent to contribute research that helps ornithologists understand bird population abundance and trends. \nHere in DuPage County\, the DBC sponsors the Fermilab Circle\, a 15-mile circle. Compiler Jeff Chapman organizes teams and assigns them to coverage areas to count all the birds they see and hear on this one day in December. \nIf you have participated in the CBC count last year\, you will receive an email from Jeff in early December on plans for this year’s count. If it’s been awhile since you participated or you’d like to join a team\, notify Jeff at jeffchapman948@gmail.com. You do NOT have to be an expert birder to join as you will be part of a team. Birders of all skill levels are welcome! \nOne of the best parts of the CBC is the Countdown Dinner\, where Jeff shares the results of all the teams and we get to learn which birds are most abundant\, abundance trends\, surprise finds\, and more! It is a great way to connect with fellow birders and enjoy a brew and some delicious hot food. See details in the next post.
URL:https://dupagebirding.org/event/christmas-bird-count-fermilab-circle-6/
CATEGORIES:Field Trips
END:VEVENT
BEGIN:VEVENT
DTSTART;TZID=America/Chicago:20251220T170000
DTEND;TZID=America/Chicago:20251220T200000
DTSTAMP:20260423T171549
CREATED:20251127T040013Z
LAST-MODIFIED:20251130T202558Z
UID:10000690-1766250000-1766260800@dupagebirding.org
SUMMARY:Annual Christmas Bird Countdown Dinner\, Cooper's Corner\, Winfield
DESCRIPTION:RSVP is required. Deadline to register is December 7.  Space is limited to 50 members. Cost per member $20. \nAfter your long day on the trails\, it’s time to relax and enjoy the camaraderie of fellow birders and hear the results for the day in a warm\, private room at Cooper’s Corner\, where Jeff Chapman will lead the tally for DuPage County at the Annual Christmas Bird Countdown Dinner. If you have never been to this event\, it is a hoot! Buffet dinner will be served with several entree choices\, including vegetarian and gluten-free options. A cash bar will also be available. Cooper’s Corner\, 27W150 Roosevelt Rd\, Winfield\, IL 60190.\nRSVP by December 7 to Sherry Courtney at sherrycourtney10@gmail.com or (505) 239-1258.
URL:https://dupagebirding.org/event/annual-christmas-bird-countdown-dinner-coopers-corner-winfield/
CATEGORIES:Field Trips
END:VEVENT
END:VCALENDAR