BEGIN:VCALENDAR
VERSION:2.0
PRODID:-//DuPage Birding Club - ECPv6.15.14//NONSGML v1.0//EN
CALSCALE:GREGORIAN
METHOD:PUBLISH
X-ORIGINAL-URL:https://dupagebirding.org
X-WR-CALDESC:Events for DuPage Birding Club
REFRESH-INTERVAL;VALUE=DURATION:PT1H
X-Robots-Tag:noindex
X-PUBLISHED-TTL:PT1H
BEGIN:VTIMEZONE
TZID:America/Chicago
BEGIN:DAYLIGHT
TZOFFSETFROM:-0600
TZOFFSETTO:-0500
TZNAME:CDT
DTSTART:20250309T080000
END:DAYLIGHT
BEGIN:STANDARD
TZOFFSETFROM:-0500
TZOFFSETTO:-0600
TZNAME:CST
DTSTART:20251102T070000
END:STANDARD
BEGIN:DAYLIGHT
TZOFFSETFROM:-0600
TZOFFSETTO:-0500
TZNAME:CDT
DTSTART:20260308T080000
END:DAYLIGHT
BEGIN:STANDARD
TZOFFSETFROM:-0500
TZOFFSETTO:-0600
TZNAME:CST
DTSTART:20261101T070000
END:STANDARD
BEGIN:DAYLIGHT
TZOFFSETFROM:-0600
TZOFFSETTO:-0500
TZNAME:CDT
DTSTART:20270314T080000
END:DAYLIGHT
BEGIN:STANDARD
TZOFFSETFROM:-0500
TZOFFSETTO:-0600
TZNAME:CST
DTSTART:20271107T070000
END:STANDARD
END:VTIMEZONE
BEGIN:VEVENT
DTSTART;TZID=America/Chicago:20260101T080000
DTEND;TZID=America/Chicago:20260101T100000
DTSTAMP:20260423T155803
CREATED:20251127T040014Z
LAST-MODIFIED:20251127T040014Z
UID:10000691-1767254400-1767261600@dupagebirding.org
SUMMARY:St. James Farm Forest Preserve\, Warrenville
DESCRIPTION:There is no limit to the number of participants. Registration is required for planning and updates in case of bad weather.  NEW YEAR’S DAY BIRDINGThe bird club has a tradition of New Year’s Day birding\, so come one\, come all to St. James Farm to start the new year right!  We’ll meet by the horse statue and walk about 2 miles along gravel paths and possibly some grass or deer paths depending on conditions. Due to increased pricing at the Morton Arboretum we are trying something new so there is no cost barrier to joining.https://maps.app.goo.gl/u5pncs3WPA6Q9Gb78Leader: Elena Nelson\, ladylena76@gmail.com
URL:https://dupagebirding.org/event/st-james-farm-forest-preserve-warrenville-16/
CATEGORIES:Field Trips
END:VEVENT
END:VCALENDAR