BEGIN:VCALENDAR
VERSION:2.0
PRODID:-//DuPage Birding Club - ECPv6.15.14//NONSGML v1.0//EN
CALSCALE:GREGORIAN
METHOD:PUBLISH
X-WR-CALNAME:DuPage Birding Club
X-ORIGINAL-URL:https://dupagebirding.org
X-WR-CALDESC:Events for DuPage Birding Club
REFRESH-INTERVAL;VALUE=DURATION:PT1H
X-Robots-Tag:noindex
X-PUBLISHED-TTL:PT1H
BEGIN:VTIMEZONE
TZID:America/Chicago
BEGIN:DAYLIGHT
TZOFFSETFROM:-0600
TZOFFSETTO:-0500
TZNAME:CDT
DTSTART:20250309T080000
END:DAYLIGHT
BEGIN:STANDARD
TZOFFSETFROM:-0500
TZOFFSETTO:-0600
TZNAME:CST
DTSTART:20251102T070000
END:STANDARD
BEGIN:DAYLIGHT
TZOFFSETFROM:-0600
TZOFFSETTO:-0500
TZNAME:CDT
DTSTART:20260308T080000
END:DAYLIGHT
BEGIN:STANDARD
TZOFFSETFROM:-0500
TZOFFSETTO:-0600
TZNAME:CST
DTSTART:20261101T070000
END:STANDARD
BEGIN:DAYLIGHT
TZOFFSETFROM:-0600
TZOFFSETTO:-0500
TZNAME:CDT
DTSTART:20270314T080000
END:DAYLIGHT
BEGIN:STANDARD
TZOFFSETFROM:-0500
TZOFFSETTO:-0600
TZNAME:CST
DTSTART:20271107T070000
END:STANDARD
END:VTIMEZONE
BEGIN:VEVENT
DTSTART;TZID=America/Chicago:20260110T073000
DTEND;TZID=America/Chicago:20260110T103000
DTSTAMP:20260423T155702
CREATED:20251226T144120Z
LAST-MODIFIED:20251226T144120Z
UID:10000699-1768030200-1768041000@dupagebirding.org
SUMMARY:McKee Marsh\, Warrenville
DESCRIPTION:Registration not required.Join us for a walk around the marsh in search of the wide variety of bird species that overwinter at this site.  This will be a 3.25 mile walk on preserve limestone and earthen trails.  Wear appropriate shoes and clothing for the weather.  Meet at the visitor parking lot located on the north side of Mack Road\, to the east of Rte. 59 & west of Winfield Road.https://maps.app.goo.gl/nqjzSJkfqZcSimPd8Leader: Kyle Wiktor\, (708) 506-5186
URL:https://dupagebirding.org/event/mckee-marsh-warrenville-57/
CATEGORIES:Field Trips
END:VEVENT
END:VCALENDAR