BEGIN:VCALENDAR
VERSION:2.0
PRODID:-//DuPage Birding Club - ECPv6.15.14//NONSGML v1.0//EN
CALSCALE:GREGORIAN
METHOD:PUBLISH
X-WR-CALNAME:DuPage Birding Club
X-ORIGINAL-URL:https://dupagebirding.org
X-WR-CALDESC:Events for DuPage Birding Club
REFRESH-INTERVAL;VALUE=DURATION:PT1H
X-Robots-Tag:noindex
X-PUBLISHED-TTL:PT1H
BEGIN:VTIMEZONE
TZID:America/Chicago
BEGIN:DAYLIGHT
TZOFFSETFROM:-0600
TZOFFSETTO:-0500
TZNAME:CDT
DTSTART:20250309T080000
END:DAYLIGHT
BEGIN:STANDARD
TZOFFSETFROM:-0500
TZOFFSETTO:-0600
TZNAME:CST
DTSTART:20251102T070000
END:STANDARD
BEGIN:DAYLIGHT
TZOFFSETFROM:-0600
TZOFFSETTO:-0500
TZNAME:CDT
DTSTART:20260308T080000
END:DAYLIGHT
BEGIN:STANDARD
TZOFFSETFROM:-0500
TZOFFSETTO:-0600
TZNAME:CST
DTSTART:20261101T070000
END:STANDARD
BEGIN:DAYLIGHT
TZOFFSETFROM:-0600
TZOFFSETTO:-0500
TZNAME:CDT
DTSTART:20270314T080000
END:DAYLIGHT
BEGIN:STANDARD
TZOFFSETFROM:-0500
TZOFFSETTO:-0600
TZNAME:CST
DTSTART:20271107T070000
END:STANDARD
END:VTIMEZONE
BEGIN:VEVENT
DTSTART;TZID=America/Chicago:20260111T144500
DTEND;TZID=America/Chicago:20260111T180000
DTSTAMP:20260423T155702
CREATED:20251226T144120Z
LAST-MODIFIED:20251228T165743Z
UID:10000698-1768142700-1768154400@dupagebirding.org
SUMMARY:Lyman Woods\, Downers Grove
DESCRIPTION:Registration with the leader is required. Limit 15 participants. Registration for nonmembers opens on January 1.We will be looking for common woodland wintertime residents. We will conclude the trip with a brief search for the resident Great Horned Owls around and after sunset. Dress warmly as we may be stationary at times. A red flashlight or headlamp is recommended. Meet at the parking lot on 31st Street. https://maps.app.goo.gl/mtddFUwocgK1RULz6Leader: Matt Crisler\, crislermj@gmail.com 
URL:https://dupagebirding.org/event/lyman-woods-downers-grove-17/
CATEGORIES:Field Trips
END:VEVENT
END:VCALENDAR