BEGIN:VCALENDAR
VERSION:2.0
PRODID:-//DuPage Birding Club - ECPv6.15.14//NONSGML v1.0//EN
CALSCALE:GREGORIAN
METHOD:PUBLISH
X-WR-CALNAME:DuPage Birding Club
X-ORIGINAL-URL:https://dupagebirding.org
X-WR-CALDESC:Events for DuPage Birding Club
REFRESH-INTERVAL;VALUE=DURATION:PT1H
X-Robots-Tag:noindex
X-PUBLISHED-TTL:PT1H
BEGIN:VTIMEZONE
TZID:America/Chicago
BEGIN:DAYLIGHT
TZOFFSETFROM:-0600
TZOFFSETTO:-0500
TZNAME:CDT
DTSTART:20250309T080000
END:DAYLIGHT
BEGIN:STANDARD
TZOFFSETFROM:-0500
TZOFFSETTO:-0600
TZNAME:CST
DTSTART:20251102T070000
END:STANDARD
BEGIN:DAYLIGHT
TZOFFSETFROM:-0600
TZOFFSETTO:-0500
TZNAME:CDT
DTSTART:20260308T080000
END:DAYLIGHT
BEGIN:STANDARD
TZOFFSETFROM:-0500
TZOFFSETTO:-0600
TZNAME:CST
DTSTART:20261101T070000
END:STANDARD
BEGIN:DAYLIGHT
TZOFFSETFROM:-0600
TZOFFSETTO:-0500
TZNAME:CDT
DTSTART:20270314T080000
END:DAYLIGHT
BEGIN:STANDARD
TZOFFSETFROM:-0500
TZOFFSETTO:-0600
TZNAME:CST
DTSTART:20271107T070000
END:STANDARD
END:VTIMEZONE
BEGIN:VEVENT
DTSTART;TZID=America/Chicago:20260313T090000
DTEND;TZID=America/Chicago:20260313T110000
DTSTAMP:20260423T132224
CREATED:20260224T021638Z
LAST-MODIFIED:20260224T021638Z
UID:10000717-1773392400-1773399600@dupagebirding.org
SUMMARY:Urban Stream Research Center Tour and Blackwell Forest Preserve
DESCRIPTION:Pre-registration is required. Limit 10 participants. Registration for members only.In this first-of-its-kind event\, DBC members will get a private\, behind-the-scenes tour of the Forest Preserve District of DuPage County’s Urban Stream Research Center. This 60-minute tour will help participants better understand the work done at the USRC and the importance that freshwater mussels provide to DuPage County’s ecosystem. The USRC was opened in 2012 and is the cornerstone of the Forest Preserve District’s commitment to preserving aquatic habitats. To this date\, nearly 38\,000 sub-adult mussels have been propagated\, reared\, and released into area waterways to boost declining populations.  \nAfter the tour\, participants will go for a short birding walk around Mount Hoy in Blackwell Forest Preserve. Targets will include resident species and early spring migrants. Participants should wear comfortable walking shoes and will have the opportunity to change into warmer clothes after the tour. We will meet at the Urban Stream Research Center in Blackwell Forest Preserve\, next to the archery range.https://www.google.com/maps/place/Urban+Stream+Research+CenterLeader: Robert Perez\, robertperez787@gmail.com\, (630) 724-7534
URL:https://dupagebirding.org/event/urban-stream-research-center-tour-and-blackwell-forest-preserve/
CATEGORIES:Field Trips
END:VEVENT
END:VCALENDAR