BEGIN:VCALENDAR
VERSION:2.0
PRODID:-//DuPage Birding Club - ECPv6.15.14//NONSGML v1.0//EN
CALSCALE:GREGORIAN
METHOD:PUBLISH
X-ORIGINAL-URL:https://dupagebirding.org
X-WR-CALDESC:Events for DuPage Birding Club
REFRESH-INTERVAL;VALUE=DURATION:PT1H
X-Robots-Tag:noindex
X-PUBLISHED-TTL:PT1H
BEGIN:VTIMEZONE
TZID:America/Chicago
BEGIN:DAYLIGHT
TZOFFSETFROM:-0600
TZOFFSETTO:-0500
TZNAME:CDT
DTSTART:20250309T080000
END:DAYLIGHT
BEGIN:STANDARD
TZOFFSETFROM:-0500
TZOFFSETTO:-0600
TZNAME:CST
DTSTART:20251102T070000
END:STANDARD
BEGIN:DAYLIGHT
TZOFFSETFROM:-0600
TZOFFSETTO:-0500
TZNAME:CDT
DTSTART:20260308T080000
END:DAYLIGHT
BEGIN:STANDARD
TZOFFSETFROM:-0500
TZOFFSETTO:-0600
TZNAME:CST
DTSTART:20261101T070000
END:STANDARD
BEGIN:DAYLIGHT
TZOFFSETFROM:-0600
TZOFFSETTO:-0500
TZNAME:CDT
DTSTART:20270314T080000
END:DAYLIGHT
BEGIN:STANDARD
TZOFFSETFROM:-0500
TZOFFSETTO:-0600
TZNAME:CST
DTSTART:20271107T070000
END:STANDARD
END:VTIMEZONE
BEGIN:VEVENT
DTSTART;TZID=America/Chicago:20260314T083000
DTEND;TZID=America/Chicago:20260314T110000
DTSTAMP:20260423T132528
CREATED:20260127T181712Z
LAST-MODIFIED:20260127T181712Z
UID:10000711-1773477000-1773486000@dupagebirding.org
SUMMARY:Fermilab Workday\, Batavia\, IL
DESCRIPTION:Registration with the leader is required.Join a morning workday to restore a degraded shrubland at Fermilab and make a difference for birds. We will help clear invasives and restore habitat for Bell’s Vireo\, Yellow-breasted Chat\, Brown Thrashers\, and other shrubland birds. All that is required for Fermilab entry is a REAL ID or passport for each person in the vehicle. Further meet-up instructions will be provided at registration. All supplies will be provided as well as snacks. Bring your favorite work gloves and water. Activities will include using hand saws or loppers to cut down invasive shrubs with a maximum diameter of 3 inches\, hauling brush\, and stacking brush. No experience is necessary and there will be Fermilab wildlife specialists on hand to answer questions and advise us.Let’s turn out in force and show how DBC members put their love of birds to work!https://maps.app.goo.gl/qq45tvw31Geoztq59Leader: Denis Kania\, djkan36@gmail.com
URL:https://dupagebirding.org/event/fermilab-workday-batavia-il/
CATEGORIES:Field Trips
END:VEVENT
END:VCALENDAR