BEGIN:VCALENDAR
VERSION:2.0
PRODID:-//DuPage Birding Club - ECPv6.15.14//NONSGML v1.0//EN
CALSCALE:GREGORIAN
METHOD:PUBLISH
X-ORIGINAL-URL:https://dupagebirding.org
X-WR-CALDESC:Events for DuPage Birding Club
REFRESH-INTERVAL;VALUE=DURATION:PT1H
X-Robots-Tag:noindex
X-PUBLISHED-TTL:PT1H
BEGIN:VTIMEZONE
TZID:America/Chicago
BEGIN:DAYLIGHT
TZOFFSETFROM:-0600
TZOFFSETTO:-0500
TZNAME:CDT
DTSTART:20250309T080000
END:DAYLIGHT
BEGIN:STANDARD
TZOFFSETFROM:-0500
TZOFFSETTO:-0600
TZNAME:CST
DTSTART:20251102T070000
END:STANDARD
BEGIN:DAYLIGHT
TZOFFSETFROM:-0600
TZOFFSETTO:-0500
TZNAME:CDT
DTSTART:20260308T080000
END:DAYLIGHT
BEGIN:STANDARD
TZOFFSETFROM:-0500
TZOFFSETTO:-0600
TZNAME:CST
DTSTART:20261101T070000
END:STANDARD
BEGIN:DAYLIGHT
TZOFFSETFROM:-0600
TZOFFSETTO:-0500
TZNAME:CDT
DTSTART:20270314T080000
END:DAYLIGHT
BEGIN:STANDARD
TZOFFSETFROM:-0500
TZOFFSETTO:-0600
TZNAME:CST
DTSTART:20271107T070000
END:STANDARD
END:VTIMEZONE
BEGIN:VEVENT
DTSTART;TZID=America/Chicago:20260320T080000
DTEND;TZID=America/Chicago:20260320T100000
DTSTAMP:20260423T132407
CREATED:20260224T021636Z
LAST-MODIFIED:20260224T021636Z
UID:10000715-1773993600-1774000800@dupagebirding.org
SUMMARY:Knoch Knolls Park\, Naperville
DESCRIPTION:Registration with the leader is required. Limit 12 participants. Registration for nonmembers opens on March 1.The first day of spring! A morning walk to the DuPage River confluence\, where the east and west branches meet. We’ll look for migrants and residents emerging from the doldrums of winter in the water\, fields\, and woods. Trails are a mix of surfaces\, and it could be muddy\, so wear boots. Meet at the parking lot on 336 Knoch Knolls Rd.\, Naperville. Bathrooms available at trail head.https://www.google.com/maps/place/Knoch+Knolls+Park/Leader: Steve Constantelos\, steve.constantelos@gmail.com
URL:https://dupagebirding.org/event/knoch-knolls-park-naperville-9/
CATEGORIES:Field Trips
END:VEVENT
END:VCALENDAR