BEGIN:VCALENDAR
VERSION:2.0
PRODID:-//DuPage Birding Club - ECPv6.15.14//NONSGML v1.0//EN
CALSCALE:GREGORIAN
METHOD:PUBLISH
X-WR-CALNAME:DuPage Birding Club
X-ORIGINAL-URL:https://dupagebirding.org
X-WR-CALDESC:Events for DuPage Birding Club
REFRESH-INTERVAL;VALUE=DURATION:PT1H
X-Robots-Tag:noindex
X-PUBLISHED-TTL:PT1H
BEGIN:VTIMEZONE
TZID:America/Chicago
BEGIN:DAYLIGHT
TZOFFSETFROM:-0600
TZOFFSETTO:-0500
TZNAME:CDT
DTSTART:20250309T080000
END:DAYLIGHT
BEGIN:STANDARD
TZOFFSETFROM:-0500
TZOFFSETTO:-0600
TZNAME:CST
DTSTART:20251102T070000
END:STANDARD
BEGIN:DAYLIGHT
TZOFFSETFROM:-0600
TZOFFSETTO:-0500
TZNAME:CDT
DTSTART:20260308T080000
END:DAYLIGHT
BEGIN:STANDARD
TZOFFSETFROM:-0500
TZOFFSETTO:-0600
TZNAME:CST
DTSTART:20261101T070000
END:STANDARD
BEGIN:DAYLIGHT
TZOFFSETFROM:-0600
TZOFFSETTO:-0500
TZNAME:CDT
DTSTART:20270314T080000
END:DAYLIGHT
BEGIN:STANDARD
TZOFFSETFROM:-0500
TZOFFSETTO:-0600
TZNAME:CST
DTSTART:20271107T070000
END:STANDARD
END:VTIMEZONE
BEGIN:VEVENT
DTSTART;TZID=America/Chicago:20260328T080000
DTEND;TZID=America/Chicago:20260328T110000
DTSTAMP:20260423T133629
CREATED:20260125T232937Z
LAST-MODIFIED:20260125T232937Z
UID:10000703-1774684800-1774695600@dupagebirding.org
SUMMARY:Van Patten Woods - Sterling Lake\, Zion\, IL
DESCRIPTION:Registration with the leader is required. Limit 8 participants. Registration for nonmembers opens on March 1.Van Patten Woods is a Lake County Forest Preserve off I-94 just below the Wisconsin border and features Sterling Lake and the Des Plaines River.  Grab your cameras and we’ll stroll a couple miles on crushed gravel trails around the lake to see Common Loons\, Horned Grebes and other migrating waterfowl.  There will also be plenty of other returning migrants like Song Sparrows and Red-winged Blackbirds establishing their territories.  If you just want to relax and enjoy the view there is also a wheelchair accessible floating dock with benches. \nIt’s an easy\, hour-long drive up the tollway. Let me know if you want to meet at the Sterling Lake parking lot or carpool.https://maps.app.goo.gl/7ULnk9kqBmx5fvWR7Leader: Elena Nelson\, ladylena76@gmail.com
URL:https://dupagebirding.org/event/van-patten-woods-sterling-lake-zion-il/
CATEGORIES:Field Trips
END:VEVENT
END:VCALENDAR