BEGIN:VCALENDAR
VERSION:2.0
PRODID:-//DuPage Birding Club - ECPv6.15.14//NONSGML v1.0//EN
CALSCALE:GREGORIAN
METHOD:PUBLISH
X-ORIGINAL-URL:https://dupagebirding.org
X-WR-CALDESC:Events for DuPage Birding Club
REFRESH-INTERVAL;VALUE=DURATION:PT1H
X-Robots-Tag:noindex
X-PUBLISHED-TTL:PT1H
BEGIN:VTIMEZONE
TZID:America/Chicago
BEGIN:DAYLIGHT
TZOFFSETFROM:-0600
TZOFFSETTO:-0500
TZNAME:CDT
DTSTART:20250309T080000
END:DAYLIGHT
BEGIN:STANDARD
TZOFFSETFROM:-0500
TZOFFSETTO:-0600
TZNAME:CST
DTSTART:20251102T070000
END:STANDARD
BEGIN:DAYLIGHT
TZOFFSETFROM:-0600
TZOFFSETTO:-0500
TZNAME:CDT
DTSTART:20260308T080000
END:DAYLIGHT
BEGIN:STANDARD
TZOFFSETFROM:-0500
TZOFFSETTO:-0600
TZNAME:CST
DTSTART:20261101T070000
END:STANDARD
BEGIN:DAYLIGHT
TZOFFSETFROM:-0600
TZOFFSETTO:-0500
TZNAME:CDT
DTSTART:20270314T080000
END:DAYLIGHT
BEGIN:STANDARD
TZOFFSETFROM:-0500
TZOFFSETTO:-0600
TZNAME:CST
DTSTART:20271107T070000
END:STANDARD
END:VTIMEZONE
BEGIN:VEVENT
DTSTART;TZID=America/Chicago:20260415T073000
DTEND;TZID=America/Chicago:20260415T100000
DTSTAMP:20260423T120856
CREATED:20260323T130625Z
LAST-MODIFIED:20260323T130625Z
UID:10000727-1776238200-1776247200@dupagebirding.org
SUMMARY:Springbrook Prairie Forest Preserve\, Naperville
DESCRIPTION:Registration with the leader is required. Limit 15 participants. Registration for nonmembers opens on April 1.Early Spring Field Trip for migrants\, waterbirds\, and early grassland species.  Meet at the model aircraft field parking lot on the west side of Plainfield-Naperville Road about 0.5 miles south of 75th Street in Naperville\, https://maps.app.goo.gl/25ZqUpfN1DUrcrB48. We will bird in wetland\, grassland\, and some forest patches for migrants and early-returning summer residents.  Dress for the weather and wear waterproof boots since we will be going off-trail to look for some species.  Use insect repellent for ticks and mosquitos.  Field Trip to last about 2.5-3 hours.Leader: Joe Suchecki\, dbcsec2020@gmail.com\, (630) 842-4921
URL:https://dupagebirding.org/event/springbrook-prairie-forest-preserve-naperville-26/
CATEGORIES:Field Trips
END:VEVENT
END:VCALENDAR