BEGIN:VCALENDAR
VERSION:2.0
PRODID:-//DuPage Birding Club - ECPv6.15.14//NONSGML v1.0//EN
CALSCALE:GREGORIAN
METHOD:PUBLISH
X-ORIGINAL-URL:https://dupagebirding.org
X-WR-CALDESC:Events for DuPage Birding Club
REFRESH-INTERVAL;VALUE=DURATION:PT1H
X-Robots-Tag:noindex
X-PUBLISHED-TTL:PT1H
BEGIN:VTIMEZONE
TZID:America/Chicago
BEGIN:DAYLIGHT
TZOFFSETFROM:-0600
TZOFFSETTO:-0500
TZNAME:CDT
DTSTART:20250309T080000
END:DAYLIGHT
BEGIN:STANDARD
TZOFFSETFROM:-0500
TZOFFSETTO:-0600
TZNAME:CST
DTSTART:20251102T070000
END:STANDARD
BEGIN:DAYLIGHT
TZOFFSETFROM:-0600
TZOFFSETTO:-0500
TZNAME:CDT
DTSTART:20260308T080000
END:DAYLIGHT
BEGIN:STANDARD
TZOFFSETFROM:-0500
TZOFFSETTO:-0600
TZNAME:CST
DTSTART:20261101T070000
END:STANDARD
BEGIN:DAYLIGHT
TZOFFSETFROM:-0600
TZOFFSETTO:-0500
TZNAME:CDT
DTSTART:20270314T080000
END:DAYLIGHT
BEGIN:STANDARD
TZOFFSETFROM:-0500
TZOFFSETTO:-0600
TZNAME:CST
DTSTART:20271107T070000
END:STANDARD
END:VTIMEZONE
BEGIN:VEVENT
DTSTART;TZID=America/Chicago:20260417T073000
DTEND;TZID=America/Chicago:20260417T100000
DTSTAMP:20260423T120849
CREATED:20260323T130624Z
LAST-MODIFIED:20260323T130624Z
UID:10000726-1776411000-1776420000@dupagebirding.org
SUMMARY:DuPage River Park\, Bolingbrook
DESCRIPTION:Registration with the leader is required. Limit 12 participants. Registration for nonmembers opens on April 1.We’ll explore grassland\, edge\, and riverside habitat along the east branch of the DuPage River\, looking for resident birds and\, of course\, spring migrants. New birders welcome! Trails are mostly grass with some blacktop. Meet in the parking lot east of Braddock Drive at 808 Royce Road.https://maps.app.goo.gl/kkmoXY6N3KFrPUWH7Leader: Steve Constantelos\, steve.constantelos@gmail.com
URL:https://dupagebirding.org/event/dupage-river-park-bolingbrook/
CATEGORIES:Field Trips
END:VEVENT
END:VCALENDAR