BEGIN:VCALENDAR
VERSION:2.0
PRODID:-//DuPage Birding Club - ECPv6.15.14//NONSGML v1.0//EN
CALSCALE:GREGORIAN
METHOD:PUBLISH
X-ORIGINAL-URL:https://dupagebirding.org
X-WR-CALDESC:Events for DuPage Birding Club
REFRESH-INTERVAL;VALUE=DURATION:PT1H
X-Robots-Tag:noindex
X-PUBLISHED-TTL:PT1H
BEGIN:VTIMEZONE
TZID:America/Chicago
BEGIN:DAYLIGHT
TZOFFSETFROM:-0600
TZOFFSETTO:-0500
TZNAME:CDT
DTSTART:20250309T080000
END:DAYLIGHT
BEGIN:STANDARD
TZOFFSETFROM:-0500
TZOFFSETTO:-0600
TZNAME:CST
DTSTART:20251102T070000
END:STANDARD
BEGIN:DAYLIGHT
TZOFFSETFROM:-0600
TZOFFSETTO:-0500
TZNAME:CDT
DTSTART:20260308T080000
END:DAYLIGHT
BEGIN:STANDARD
TZOFFSETFROM:-0500
TZOFFSETTO:-0600
TZNAME:CST
DTSTART:20261101T070000
END:STANDARD
BEGIN:DAYLIGHT
TZOFFSETFROM:-0600
TZOFFSETTO:-0500
TZNAME:CDT
DTSTART:20270314T080000
END:DAYLIGHT
BEGIN:STANDARD
TZOFFSETFROM:-0500
TZOFFSETTO:-0600
TZNAME:CST
DTSTART:20271107T070000
END:STANDARD
END:VTIMEZONE
BEGIN:VEVENT
DTSTART;TZID=America/Chicago:20260418T073000
DTEND;TZID=America/Chicago:20260418T113000
DTSTAMP:20260423T120848
CREATED:20260323T130624Z
LAST-MODIFIED:20260323T130624Z
UID:10000725-1776497400-1776511800@dupagebirding.org
SUMMARY:Deer Grove\, Palatine\, IL
DESCRIPTION:Registration with the leader is required. Limit 8 participants. Registration for nonmembers opens on April 1.Deer Grove\, Cook County’s first forest preserve\, features nearly 2\,000 acres of diverse habitat such as rolling upland forest\, wooded ravines\, wetlands and prairie. Following years of dedicated restoration work\, two areas within Deer Grove are recognized by the Illinois Nature Preserves Commission as some of the highest quality natural areas in the state. \nWe’ll start by walking to the bottom of the sledding hill to check out the waterfowl and rookery on Deer Grove Lake.  Then we’ll walk over 3 miles on dirt trails with roots through Deer Grove West Woodland and Wetland Nature Preserve looking for early migrants and returning breeders.https://maps.app.goo.gl/kHRaa6GYLJTSubWe9Leader: Elena Nelson\, ladylena76[at]gmail[dot]com
URL:https://dupagebirding.org/event/deer-grove-palatine-il/
CATEGORIES:Field Trips
END:VEVENT
END:VCALENDAR