BEGIN:VCALENDAR
VERSION:2.0
PRODID:-//DuPage Birding Club - ECPv6.15.14//NONSGML v1.0//EN
CALSCALE:GREGORIAN
METHOD:PUBLISH
X-ORIGINAL-URL:https://dupagebirding.org
X-WR-CALDESC:Events for DuPage Birding Club
REFRESH-INTERVAL;VALUE=DURATION:PT1H
X-Robots-Tag:noindex
X-PUBLISHED-TTL:PT1H
BEGIN:VTIMEZONE
TZID:America/Chicago
BEGIN:DAYLIGHT
TZOFFSETFROM:-0600
TZOFFSETTO:-0500
TZNAME:CDT
DTSTART:20250309T080000
END:DAYLIGHT
BEGIN:STANDARD
TZOFFSETFROM:-0500
TZOFFSETTO:-0600
TZNAME:CST
DTSTART:20251102T070000
END:STANDARD
BEGIN:DAYLIGHT
TZOFFSETFROM:-0600
TZOFFSETTO:-0500
TZNAME:CDT
DTSTART:20260308T080000
END:DAYLIGHT
BEGIN:STANDARD
TZOFFSETFROM:-0500
TZOFFSETTO:-0600
TZNAME:CST
DTSTART:20261101T070000
END:STANDARD
BEGIN:DAYLIGHT
TZOFFSETFROM:-0600
TZOFFSETTO:-0500
TZNAME:CDT
DTSTART:20270314T080000
END:DAYLIGHT
BEGIN:STANDARD
TZOFFSETFROM:-0500
TZOFFSETTO:-0600
TZNAME:CST
DTSTART:20271107T070000
END:STANDARD
END:VTIMEZONE
BEGIN:VEVENT
DTSTART;TZID=America/Chicago:20260419T073000
DTEND;TZID=America/Chicago:20260419T093000
DTSTAMP:20260423T120847
CREATED:20260323T130623Z
LAST-MODIFIED:20260323T130623Z
UID:10000724-1776583800-1776591000@dupagebirding.org
SUMMARY:Seager Park\, Naperville
DESCRIPTION:Registration with the leader is required. Limit 10 participants. Registration for nonmembers opens on April 1.Get an early\, birdy start to your Sunday. New birders welcome! We’ll be looking for birds settling into and birds passing through this 30-acre patch of woods\, ephemeral wetland\, and grass\, with lots of edge habitat. Trails are a mix of surfaces\, and there could be mud. Bathrooms available. Meet at Seager Park 1163 Plank Road\, Naperville\, https://maps.app.goo.gl/wah4DsoWXksaSfRv5.Leader: Steve Constantelos\, steve.constantelos@gmail.com
URL:https://dupagebirding.org/event/seager-park-naperville-13/
CATEGORIES:Field Trips
END:VEVENT
END:VCALENDAR