BEGIN:VCALENDAR
VERSION:2.0
PRODID:-//DuPage Birding Club - ECPv6.15.14//NONSGML v1.0//EN
CALSCALE:GREGORIAN
METHOD:PUBLISH
X-WR-CALNAME:DuPage Birding Club
X-ORIGINAL-URL:https://dupagebirding.org
X-WR-CALDESC:Events for DuPage Birding Club
REFRESH-INTERVAL;VALUE=DURATION:PT1H
X-Robots-Tag:noindex
X-PUBLISHED-TTL:PT1H
BEGIN:VTIMEZONE
TZID:America/Chicago
BEGIN:DAYLIGHT
TZOFFSETFROM:-0600
TZOFFSETTO:-0500
TZNAME:CDT
DTSTART:20250309T080000
END:DAYLIGHT
BEGIN:STANDARD
TZOFFSETFROM:-0500
TZOFFSETTO:-0600
TZNAME:CST
DTSTART:20251102T070000
END:STANDARD
BEGIN:DAYLIGHT
TZOFFSETFROM:-0600
TZOFFSETTO:-0500
TZNAME:CDT
DTSTART:20260308T080000
END:DAYLIGHT
BEGIN:STANDARD
TZOFFSETFROM:-0500
TZOFFSETTO:-0600
TZNAME:CST
DTSTART:20261101T070000
END:STANDARD
BEGIN:DAYLIGHT
TZOFFSETFROM:-0600
TZOFFSETTO:-0500
TZNAME:CDT
DTSTART:20270314T080000
END:DAYLIGHT
BEGIN:STANDARD
TZOFFSETFROM:-0500
TZOFFSETTO:-0600
TZNAME:CST
DTSTART:20271107T070000
END:STANDARD
END:VTIMEZONE
BEGIN:VEVENT
DTSTART;TZID=America/Chicago:20260421T073000
DTEND;TZID=America/Chicago:20260421T103000
DTSTAMP:20260423T120726
CREATED:20260323T130621Z
LAST-MODIFIED:20260323T130621Z
UID:10000723-1776756600-1776767400@dupagebirding.org
SUMMARY:Lyman Woods Forest Preserve\, Downers Grove
DESCRIPTION:Registration with the leaders is required. Limit 12 participants. Registration for nonmembers opens on April 1.Lyman Woods has many habitats which attract a wide variety of birds.  At the time of the trip we would expect to find spring migrants\, including some early warblers and woodland birds.  The lake area usually attracts a variety of waterfowl while the marsh areas have several different species of sparrows.  Up to two miles of walking; expect to walk on some muddy paths.  Meet in the parking lot for a fun and informative morning.https://maps.app.goo.gl/EvuYT9k2hvAtph2E6Leader: Mike and Karen Warner\, mwarner2543@gmail.com\, (630) 640-2450      Please register via email.
URL:https://dupagebirding.org/event/lyman-woods-forest-preserve-downers-grove-7/
CATEGORIES:Field Trips
END:VEVENT
END:VCALENDAR