BEGIN:VCALENDAR
VERSION:2.0
PRODID:-//DuPage Birding Club - ECPv6.15.14//NONSGML v1.0//EN
CALSCALE:GREGORIAN
METHOD:PUBLISH
X-ORIGINAL-URL:https://dupagebirding.org
X-WR-CALDESC:Events for DuPage Birding Club
REFRESH-INTERVAL;VALUE=DURATION:PT1H
X-Robots-Tag:noindex
X-PUBLISHED-TTL:PT1H
BEGIN:VTIMEZONE
TZID:America/Chicago
BEGIN:DAYLIGHT
TZOFFSETFROM:-0600
TZOFFSETTO:-0500
TZNAME:CDT
DTSTART:20250309T080000
END:DAYLIGHT
BEGIN:STANDARD
TZOFFSETFROM:-0500
TZOFFSETTO:-0600
TZNAME:CST
DTSTART:20251102T070000
END:STANDARD
BEGIN:DAYLIGHT
TZOFFSETFROM:-0600
TZOFFSETTO:-0500
TZNAME:CDT
DTSTART:20260308T080000
END:DAYLIGHT
BEGIN:STANDARD
TZOFFSETFROM:-0500
TZOFFSETTO:-0600
TZNAME:CST
DTSTART:20261101T070000
END:STANDARD
BEGIN:DAYLIGHT
TZOFFSETFROM:-0600
TZOFFSETTO:-0500
TZNAME:CDT
DTSTART:20270314T080000
END:DAYLIGHT
BEGIN:STANDARD
TZOFFSETFROM:-0500
TZOFFSETTO:-0600
TZNAME:CST
DTSTART:20271107T070000
END:STANDARD
END:VTIMEZONE
BEGIN:VEVENT
DTSTART;TZID=America/Chicago:20260502T080000
DTEND;TZID=America/Chicago:20260502T110000
DTSTAMP:20260423T120928
CREATED:20260323T130900Z
LAST-MODIFIED:20260323T130900Z
UID:10000731-1777708800-1777719600@dupagebirding.org
SUMMARY:Moraine Hills State Park - McHenry Dam Loop\, McHenry\, IL
DESCRIPTION:Registration with the leader is required. Limit 8 participants. Registration for nonmembers opens on April 1.Moraine Hills State Park is comprised of 2\,200+ acres of glacier-formed park nearly half of which are wetlands & lakes.  The McHenry Dam trail is an easy two-mile crushed gravel loop through forest and wetlands with two observation decks.  We can expect to see waterfowl\, shorebirds\, warblers\, and returning summer residents.  Bring bug spray.https://maps.app.goo.gl/rEkc1xaJkhekfN6y6Leader: Elena N Nelson\, ladylena76[at]gmail[dot]com
URL:https://dupagebirding.org/event/moraine-hills-state-park-mchenry-dam-loop-mchenry-il/
CATEGORIES:Field Trips
END:VEVENT
END:VCALENDAR