BEGIN:VCALENDAR
VERSION:2.0
PRODID:-//DuPage Birding Club - ECPv6.15.14//NONSGML v1.0//EN
CALSCALE:GREGORIAN
METHOD:PUBLISH
X-ORIGINAL-URL:https://dupagebirding.org
X-WR-CALDESC:Events for DuPage Birding Club
REFRESH-INTERVAL;VALUE=DURATION:PT1H
X-Robots-Tag:noindex
X-PUBLISHED-TTL:PT1H
BEGIN:VTIMEZONE
TZID:America/Chicago
BEGIN:DAYLIGHT
TZOFFSETFROM:-0600
TZOFFSETTO:-0500
TZNAME:CDT
DTSTART:20250309T080000
END:DAYLIGHT
BEGIN:STANDARD
TZOFFSETFROM:-0500
TZOFFSETTO:-0600
TZNAME:CST
DTSTART:20251102T070000
END:STANDARD
BEGIN:DAYLIGHT
TZOFFSETFROM:-0600
TZOFFSETTO:-0500
TZNAME:CDT
DTSTART:20260308T080000
END:DAYLIGHT
BEGIN:STANDARD
TZOFFSETFROM:-0500
TZOFFSETTO:-0600
TZNAME:CST
DTSTART:20261101T070000
END:STANDARD
BEGIN:DAYLIGHT
TZOFFSETFROM:-0600
TZOFFSETTO:-0500
TZNAME:CDT
DTSTART:20270314T080000
END:DAYLIGHT
BEGIN:STANDARD
TZOFFSETFROM:-0500
TZOFFSETTO:-0600
TZNAME:CST
DTSTART:20271107T070000
END:STANDARD
END:VTIMEZONE
BEGIN:VEVENT
DTSTART;TZID=America/Chicago:20260506T080000
DTEND;TZID=America/Chicago:20260506T100000
DTSTAMP:20260423T132408
CREATED:20260421T142733Z
LAST-MODIFIED:20260421T142733Z
UID:10000756-1778054400-1778061600@dupagebirding.org
SUMMARY:Herrick Lake Forest Preserve\, Wheaton
DESCRIPTION:No Registration RequiredWe will meet at the boat rental building\, near the bathrooms off the Butterfield Road lot and walking on the gravel paths checking for spring migrants and seasonal and year round resident birds. https://maps.app.goo.gl/Venm2bxegr5ZW6vE6Leader: Laurel Salvador\, laurelsalvador@yahoo.com\, (630) 534-0734
URL:https://dupagebirding.org/event/herrick-lake-forest-preserve-wheaton-5/
CATEGORIES:Field Trips
END:VEVENT
END:VCALENDAR