BEGIN:VCALENDAR
VERSION:2.0
PRODID:-//DuPage Birding Club - ECPv6.15.14//NONSGML v1.0//EN
CALSCALE:GREGORIAN
METHOD:PUBLISH
X-WR-CALNAME:DuPage Birding Club
X-ORIGINAL-URL:https://dupagebirding.org
X-WR-CALDESC:Events for DuPage Birding Club
REFRESH-INTERVAL;VALUE=DURATION:PT1H
X-Robots-Tag:noindex
X-PUBLISHED-TTL:PT1H
BEGIN:VTIMEZONE
TZID:America/Chicago
BEGIN:DAYLIGHT
TZOFFSETFROM:-0600
TZOFFSETTO:-0500
TZNAME:CDT
DTSTART:20250309T080000
END:DAYLIGHT
BEGIN:STANDARD
TZOFFSETFROM:-0500
TZOFFSETTO:-0600
TZNAME:CST
DTSTART:20251102T070000
END:STANDARD
BEGIN:DAYLIGHT
TZOFFSETFROM:-0600
TZOFFSETTO:-0500
TZNAME:CDT
DTSTART:20260308T080000
END:DAYLIGHT
BEGIN:STANDARD
TZOFFSETFROM:-0500
TZOFFSETTO:-0600
TZNAME:CST
DTSTART:20261101T070000
END:STANDARD
BEGIN:DAYLIGHT
TZOFFSETFROM:-0600
TZOFFSETTO:-0500
TZNAME:CDT
DTSTART:20270314T080000
END:DAYLIGHT
BEGIN:STANDARD
TZOFFSETFROM:-0500
TZOFFSETTO:-0600
TZNAME:CST
DTSTART:20271107T070000
END:STANDARD
END:VTIMEZONE
BEGIN:VEVENT
DTSTART;TZID=America/Chicago:20260512T073000
DTEND;TZID=America/Chicago:20260512T100000
DTSTAMP:20260423T131912
CREATED:20260421T142732Z
LAST-MODIFIED:20260421T142732Z
UID:10000753-1778571000-1778580000@dupagebirding.org
SUMMARY:McDowell Grove Forest Preserve\, Naperville
DESCRIPTION:Registration with the leader is required.This trip will focus on woodland migrants and resident birds. We will walk on limestone paths and some dirt paths along the river\, through the woods\, and fields. Meet in the first parking lot after entering the preserve. The entrance is off Raymond Rd\, south of Diehl Rd.Leader: Mike and Karen Warner\, mwarner2543@gmail.com\, (630) 640-2450
URL:https://dupagebirding.org/event/mcdowell-grove-forest-preserve-naperville-26/
CATEGORIES:Field Trips
END:VEVENT
END:VCALENDAR