BEGIN:VCALENDAR
VERSION:2.0
PRODID:-//DuPage Birding Club - ECPv6.15.14//NONSGML v1.0//EN
CALSCALE:GREGORIAN
METHOD:PUBLISH
X-WR-CALNAME:DuPage Birding Club
X-ORIGINAL-URL:https://dupagebirding.org
X-WR-CALDESC:Events for DuPage Birding Club
REFRESH-INTERVAL;VALUE=DURATION:PT1H
X-Robots-Tag:noindex
X-PUBLISHED-TTL:PT1H
BEGIN:VTIMEZONE
TZID:America/Chicago
BEGIN:DAYLIGHT
TZOFFSETFROM:-0600
TZOFFSETTO:-0500
TZNAME:CDT
DTSTART:20210314T080000
END:DAYLIGHT
BEGIN:STANDARD
TZOFFSETFROM:-0500
TZOFFSETTO:-0600
TZNAME:CST
DTSTART:20211107T070000
END:STANDARD
BEGIN:DAYLIGHT
TZOFFSETFROM:-0600
TZOFFSETTO:-0500
TZNAME:CDT
DTSTART:20220313T080000
END:DAYLIGHT
BEGIN:STANDARD
TZOFFSETFROM:-0500
TZOFFSETTO:-0600
TZNAME:CST
DTSTART:20221106T070000
END:STANDARD
BEGIN:DAYLIGHT
TZOFFSETFROM:-0600
TZOFFSETTO:-0500
TZNAME:CDT
DTSTART:20230312T080000
END:DAYLIGHT
BEGIN:STANDARD
TZOFFSETFROM:-0500
TZOFFSETTO:-0600
TZNAME:CST
DTSTART:20231105T070000
END:STANDARD
END:VTIMEZONE
BEGIN:VEVENT
DTSTART;TZID=America/Chicago:20220925T110000
DTEND;TZID=America/Chicago:20220925T130000
DTSTAMP:20260424T114802
CREATED:20220828T151000Z
LAST-MODIFIED:20220828T150705Z
UID:10000246-1664103600-1664110800@dupagebirding.org
SUMMARY:Greene Valley Overlook\, Naperville
DESCRIPTION:Pre-registration with the leader is required\, limit 15 participants. Drive up to the overlook parking lot south of 79th Street off Greene Rd and meet the hawk watch volunteers to scan the skies for raptors. Hawk ID handouts provided and discussed. Review buteos by watching the club’s Hawk Watch talk on YouTube. Please bring layers (it can be much colder up on the hill than at ground level) and a hat for sun (no shade). Bring lunch\, extra water\, and a lawn chair.Leader Vicky Sroczynski\, RSVP to vsroczynski@comcast.net or text 630-297-9512
URL:https://dupagebirding.org/event/greene-valley-overlook-naperville-2/
CATEGORIES:Field Trips
END:VEVENT
BEGIN:VEVENT
DTSTART;TZID=America/Chicago:20220924T080000
DTEND;TZID=America/Chicago:20220924T100000
DTSTAMP:20260424T114802
CREATED:20220828T151000Z
LAST-MODIFIED:20220828T150611Z
UID:10000145-1664006400-1664013600@dupagebirding.org
SUMMARY:St. James Farm Forest Preserve\, Warrenville
DESCRIPTION:Pre-registration with the leader is required\, limit 15 participants. This morning’s walk will take us through some prairie and woods. We’ll be looking for resident birds as well as early migratory birds. We’ll be walking approximately 2 miles on mostly easy terrain. We will meet in the parking lot off on Winfield Rd\, just north of Butterfield Rd.Leader: Bonnie Graham\, 630-204-8750\, coye72112@gmail.com
URL:https://dupagebirding.org/event/st-james-farm-forest-preserve-warrenville-7/
CATEGORIES:Field Trips
END:VEVENT
BEGIN:VEVENT
DTSTART;TZID=America/Chicago:20220921T073000
DTEND;TZID=America/Chicago:20220921T103000
DTSTAMP:20260424T114803
CREATED:20220828T151000Z
LAST-MODIFIED:20220828T150517Z
UID:10000146-1663745400-1663756200@dupagebirding.org
SUMMARY:Seager Park\, Naperville
DESCRIPTION:Pre-registration with the leader is required\, limit 15 participants. Meet at the main parking lot\, 1163 Plank Rd. We will be in search of migrants\, especially fall warblers and other woodland birds.Leader: Mark Freeburg\, freebs59@sbcglobal.net
URL:https://dupagebirding.org/event/seager-park-naperville-3/
CATEGORIES:Field Trips
END:VEVENT
BEGIN:VEVENT
DTSTART;TZID=America/Chicago:20220920T080000
DTEND;TZID=America/Chicago:20220920T110000
DTSTAMP:20260424T114803
CREATED:20220828T151000Z
LAST-MODIFIED:20220828T150432Z
UID:10000153-1663660800-1663671600@dupagebirding.org
SUMMARY:Waterfall Glen Poverty Prairie\, Darien
DESCRIPTION:Pre-registration with the leader is required\, limit 15 participants. Meet at the Lemont Rd. parking lot\, south of I55 at 101st Street. We’ll start in the Kettle Pond Woods and walk to the prairie.Leader Vicky Sroczynski\, RSVP to vsroczynski@comcast.net or text 630-297-9512
URL:https://dupagebirding.org/event/waterfall-glen-poverty-prairie-darien/
CATEGORIES:Field Trips
END:VEVENT
BEGIN:VEVENT
DTSTART;TZID=America/Chicago:20220918T073000
DTEND;TZID=America/Chicago:20220918T100000
DTSTAMP:20260424T114803
CREATED:20220828T151000Z
LAST-MODIFIED:20220829T142000Z
UID:10000149-1663486200-1663495200@dupagebirding.org
SUMMARY:McDowell Grove Forest Preserve\, Naperville
DESCRIPTION:Pre-registration with the leader is required\, limit 15 participants.  This morning trip will focus on woodland migrants passing through our area. Meet in the first parking lot after entering the preserve. The entrance is at the intersection of Raymond Dr. and McDowell Rd. where there is a stoplight.Leader: Joe Suchecki\, DBCsec2020@gmail.com
URL:https://dupagebirding.org/event/elsens-hill-west-dupage-woods-winfield-11/
CATEGORIES:Field Trips
END:VEVENT
BEGIN:VEVENT
DTSTART;TZID=America/Chicago:20220917T073000
DTEND;TZID=America/Chicago:20220917T100000
DTSTAMP:20260424T114803
CREATED:20220828T151000Z
LAST-MODIFIED:20220828T150340Z
UID:10000144-1663399800-1663408800@dupagebirding.org
SUMMARY:Elsen’s Hill/West DuPage Woods\, Winfield
DESCRIPTION:On this trip we’ll be exploring Elsen’s Hill within West DuPage Woods in hopes of finding migrant songbirds\, in particular warblers. Please meet in the parking lot off Gary’s Mill Rd.Leader: Henry Meade\, Please register with kathleenreeves22@yahoo.com
URL:https://dupagebirding.org/event/elsens-hill-west-dupage-woods-winfield-13/
CATEGORIES:Field Trips
END:VEVENT
BEGIN:VEVENT
DTSTART;TZID=America/Chicago:20220916T070000
DTEND;TZID=America/Chicago:20220916T090000
DTSTAMP:20260424T114803
CREATED:20220828T151000Z
LAST-MODIFIED:20220829T142712Z
UID:10000152-1663311600-1663318800@dupagebirding.org
SUMMARY:Bird Sit at Pratt’s Wayne Woods\, Powis Road\, West Chicago
DESCRIPTION:Pre-registration with the leader required\, limit 10 participants. This is a field trip for anyone who finds the long walks of our regular field trips too difficult or who would just like a less vigorous birding experience\, but still share the camaraderie of fellow birders. Bring your folding lawn chairs\, binoculars\, and field guides. We will meet in the first parking area by Pickerel Lake as you come into the park off Powis Road. NOTE: the entrance is on the WEST side of Powis Road north of Army Trail and south of Stearns Road. Be aware that when using GPS it sometimes takes you to the Preserve which is NOT where we will meet\, we are meeting at Pratt’s Wayne Woods: https://www.dupageforest.org/places-to-go/forest-preserves/pratts-wayne-woods \n\n\n\nDress for the weather and bring bug spray (sitting\, we are easy targets for mosquitoes!) and drinking water. \n\n\n\nLeader: Natalie McFaul\, natcatcher7@gmail.com
URL:https://dupagebirding.org/event/bird-sit-at-pratts-wayne-woods-powis-road-west-chicago/
CATEGORIES:Field Trips
END:VEVENT
BEGIN:VEVENT
DTSTART;TZID=America/Chicago:20220913T073000
DTEND;TZID=America/Chicago:20220913T100000
DTSTAMP:20260424T114803
CREATED:20220828T151000Z
LAST-MODIFIED:20220828T150149Z
UID:10000151-1663054200-1663063200@dupagebirding.org
SUMMARY:McDowell Grove Forest Preserve\, Naperville
DESCRIPTION:Pre-registration with the leader is required\, limit 10 participants.This morning trip will focus on woodland migrants passing through our area. This is a popular migrant hotspot in both spring and fall. If birds are on the move\, we will be in a great location to view them. Meet in the first parking lot after entering the preserve. The entrance is at the intersection of Raymond Dr. and McDowell Rd. where there is a stoplight.Leader: Denis Kania\, djkan36@gmail.com
URL:https://dupagebirding.org/event/mcdowell-grove-forest-preserve-naperville-13/
CATEGORIES:Field Trips
END:VEVENT
BEGIN:VEVENT
DTSTART;TZID=America/Chicago:20220911T073000
DTEND;TZID=America/Chicago:20220911T100000
DTSTAMP:20260424T114803
CREATED:20220828T151000Z
LAST-MODIFIED:20220828T150036Z
UID:10000150-1662881400-1662890400@dupagebirding.org
SUMMARY:Elsen’s Hill/West DuPage Woods\, Winfield
DESCRIPTION:Pre-registration with the leader is required\, limit 15 participants.Elsen’s Hill is another great site for migrants\, especially warblers passing through on their way to their wintering grounds. Take Winfield Rd. to Gary’s Mill Rd. west to the preserve parking lot entrance on the north side of the road. Bring boots as needed for muddy trails.Leader: Diann Bilderback\, diann.bilderback@yahoo.com
URL:https://dupagebirding.org/event/elsens-hill-west-dupage-woods-winfield-12/
CATEGORIES:Field Trips
END:VEVENT
BEGIN:VEVENT
DTSTART;TZID=America/Chicago:20220908T073000
DTEND;TZID=America/Chicago:20220908T100000
DTSTAMP:20260424T114803
CREATED:20220828T151000Z
LAST-MODIFIED:20220828T145937Z
UID:10000148-1662622200-1662631200@dupagebirding.org
SUMMARY:McDowell Grove Forest Preserve\, Naperville
DESCRIPTION:Pre-registration with the leader is required\, limit 10 participants.This morning trip will focus on woodland migrants passing through our area. This is a popular migrant hotspot in both spring and fall. If birds are on the move\, we will be in a great location to view them. Meet in the first parking lot after entering the preserve. The entrance is at the intersection of Raymond Dr. and McDowell Rd. where there is a stoplight.Leader: Denis Kania\, djkan36@gmail.com
URL:https://dupagebirding.org/event/mcdowell-grove-forest-preserve-naperville-12/
CATEGORIES:Field Trips
END:VEVENT
BEGIN:VEVENT
DTSTART;TZID=America/Chicago:20220907T070000
DTEND;TZID=America/Chicago:20220907T093000
DTSTAMP:20260424T114803
CREATED:20220828T151000Z
LAST-MODIFIED:20220828T145828Z
UID:10000147-1662534000-1662543000@dupagebirding.org
SUMMARY:Springbrook Prairie\, Naperville
DESCRIPTION:Pre-registration with leader required\, limit 15 participants.We will be searching for fall migrants. Meet at the gravel parking lot on the east side of Plainfield-Naperville Road about one-half mile south of 75th Street in Naperville.Leader: Joe Suchecki\, DBCsec2020@gmail.com
URL:https://dupagebirding.org/event/springbrook-prairie-naperville-11/
CATEGORIES:Field Trips
END:VEVENT
BEGIN:VEVENT
DTSTART;TZID=America/Chicago:20220903T070000
DTEND;TZID=America/Chicago:20220903T093000
DTSTAMP:20260424T114803
CREATED:20220828T151000Z
LAST-MODIFIED:20220828T145646Z
UID:10000285-1662188400-1662197400@dupagebirding.org
SUMMARY:Elsen’s Hill/West DuPage Woods\, Winfield
DESCRIPTION:Pre-registration with the leader is required\, limit 15 participants.We will be looking for early fall migrants\, especially warblers passing through on their way to their wintering grounds. Take Winfield Rd. to Gary’s Mill Rd. west to the preserve parking lot entrance on the north side of the road. Bring boots as needed for muddy trails.Leader Joe Suchecki\, DBCsec2020@gmail.com
URL:https://dupagebirding.org/event/elsens-hill-west-dupage-woods-winfield-10/
CATEGORIES:Field Trips
END:VEVENT
BEGIN:VEVENT
DTSTART;TZID=America/Chicago:20220826T070000
DTEND;TZID=America/Chicago:20220826T090000
DTSTAMP:20260424T114803
CREATED:20220725T220155Z
LAST-MODIFIED:20220725T220525Z
UID:10000283-1661497200-1661504400@dupagebirding.org
SUMMARY:Greene Valley Forest Preserve\, Naperville/Bolingbrook
DESCRIPTION:Pre-registration with the leader is required\, limit 15 participants. We’ll be looking for summer residents\, avian youngsters\, and early migrants as we explore the fields and woods along the Thunderbird Trail. New birders are welcome as we will take a fairly leisurely pace to see (and listen to) the birds and to answer questions. If conditions are good\, we’ll do a little bonus walk at the end. The entrance is located on the south side of 79th Street\, about 0.5 miles west of Greene Road. Meet in the parking lot at the south end of Thunderbird Road\, aka “Greene Valley Forest Preserve West Entrance.” Here is the map link for parking.Leader: Steve Constantelos\, 630-890-8956\, steve.constantelos@gmail.com
URL:https://dupagebirding.org/event/greene-valley-forest-preserve-naperville-bolingbrook/
CATEGORIES:Field Trips
END:VEVENT
BEGIN:VEVENT
DTSTART;TZID=America/Chicago:20220823T070000
DTEND;TZID=America/Chicago:20220823T090000
DTSTAMP:20260424T114803
CREATED:20220725T215606Z
LAST-MODIFIED:20220725T215755Z
UID:10000282-1661238000-1661245200@dupagebirding.org
SUMMARY:Bird Sit at Springbrook Prairie\, Naperville
DESCRIPTION:Pre-registration with the leader is required\, limit 10 participants. This is a new spot! This field trip is for anyone who finds the long walks of our regular field trips too difficult or who would just like a less vigorous birding experience\, but still share the camaraderie of fellow birders. Bring your folding lawn chairs\, binoculars\, and field guides. We will be birding at the small picnic shelter by the Model Airplane field parking lot off Plainfield-Naperville Rd on the east side of the park. The parking lot is located on the west side of Plainfield-Naperville Road . 05 mile south of 75th Street. Places to Go-Forest Preserves-Springbrook Prairie (dupageforest.org). Dress for the weather and bring bug spray (sitting\, we are easy targets for mosquitos!) and drinking water.Leader: Natalie McFaul\, natcatcher7@gmail.com
URL:https://dupagebirding.org/event/bird-sit-at-springbrook-prairie-naperville/
CATEGORIES:Field Trips
END:VEVENT
BEGIN:VEVENT
DTSTART;TZID=America/Chicago:20220822T080000
DTEND;TZID=America/Chicago:20220822T170000
DTSTAMP:20260424T114803
CREATED:20220825T151200Z
LAST-MODIFIED:20220822T151425Z
UID:10000284-1661155200-1661187600@dupagebirding.org
SUMMARY:Greene Valley Overlook\, Naperville
DESCRIPTION:Pre-registration with the leader is required\, limit 15 participants. Drive up to the overlook parking lot south of 79th Street off Greene Rd and meet the hawk watch volunteers to scan the skies for raptors. Hawk ID handouts provided and discussed. Review buteos by watching the club’s Hawk Watch talk on YouTube. Please bring layers (it can be much colder up on the hill than at ground level\,) and a hat for sun (no shade.) Bring lunch\, extra water\, and a lawn chair.Leader Vicky Sroczynski\, RSVP to vsroczynski@comcast.net or text 630-297-9512
URL:https://dupagebirding.org/event/greene-valley-overlook-naperville/
CATEGORIES:Field Trips
END:VEVENT
BEGIN:VEVENT
DTSTART;TZID=America/Chicago:20220820T073000
DTEND;TZID=America/Chicago:20220820T100000
DTSTAMP:20260424T114803
CREATED:20220725T215044Z
LAST-MODIFIED:20220725T215237Z
UID:10000281-1660980600-1660989600@dupagebirding.org
SUMMARY:Lincoln Marsh\, Wheaton
DESCRIPTION:Pre-registration with the leader is required\, limit 15 participants. Lincoln Marsh Natural Area is located just northwest of downtown Wheaton. From County Farm Road\, go east on Harrison Street. Harrison ends in Lincoln Marsh’s parking lot. Two large marshes dominate the area. However\, there is a large oak woodland\, a small prairie\, and two small ponds. A variety of birds\, residents and migrants\, associated with such habitats can be seen here. The trails at Lincoln Marsh are generally excellent\, consisting mostly of wood chips and crushed limestone; boardwalks cross low areas\, and there are two floating boardwalks and bird blinds. A fuller description of the site can be found here.Leader: John Cebula\, 630-640-2721\, joceb2005@sbcglobal.net
URL:https://dupagebirding.org/event/lincoln-marsh-wheaton-6/
CATEGORIES:Field Trips
END:VEVENT
BEGIN:VEVENT
DTSTART;TZID=America/Chicago:20220819T080000
DTEND;TZID=America/Chicago:20220819T100000
DTSTAMP:20260424T114803
CREATED:20220725T214655Z
LAST-MODIFIED:20220725T214658Z
UID:10000280-1660896000-1660903200@dupagebirding.org
SUMMARY:Greene Valley Shorebirds
DESCRIPTION:Pre-registration with the leader is required\, limit 10 participants. Meet at Greene Road parking lot. We will walk east to the 83rd Street Fluddle to look for shorebirds\, birding on the way. Scopes recommended here–leader will have one. To prepare for fall shorebird migration (that begins mid-July or so\, please consider enrolling in Cornell’s Shorebirds Class\, and definitely review shorebird ID with Denis Kania’s mini-tutorials: “Yellowlegs and Similar Waders” and “Peeps” on the DBC YouTube channel. Some bushwacking on overgrown grass trails or thru tall grass is necessary here so please prepare for ticks and mosquitoes.Leader: Vicky Sroczynski\, vsroczynski@comcast.net or text 630-297-9512
URL:https://dupagebirding.org/event/greene-valley-shorebirds/
CATEGORIES:Field Trips
END:VEVENT
BEGIN:VEVENT
DTSTART;TZID=America/Chicago:20220817T073000
DTEND;TZID=America/Chicago:20220817T100000
DTSTAMP:20260424T114803
CREATED:20220725T214213Z
LAST-MODIFIED:20220725T214250Z
UID:10000279-1660721400-1660730400@dupagebirding.org
SUMMARY:McDowell Grove Forest Preserve\, Naperville
DESCRIPTION:Pre-registration with the leader is required\, limit 15 participants. Meet at the main parking lot off of Raymond Rd in Naperville. Trip is looking for summer residents and maybe an early migrant. Wear appropriate footwear and clothing and bring insect repellent.Leader: Mark Freeburg\, freebs59@sbcglobal.net
URL:https://dupagebirding.org/event/mcdowell-grove-forest-preserve-naperville-11/
CATEGORIES:Field Trips
END:VEVENT
BEGIN:VEVENT
DTSTART;TZID=America/Chicago:20220814T073000
DTEND;TZID=America/Chicago:20220814T100000
DTSTAMP:20260424T114803
CREATED:20220725T213819Z
LAST-MODIFIED:20220725T213941Z
UID:10000278-1660462200-1660471200@dupagebirding.org
SUMMARY:Wood Dale Reservoir
DESCRIPTION:Pre-registration with the leader required\, limit 12 participants. On this trip we will be exploring one of the premier shorebird spots in DuPage County. We will focus on finding and identifying migratory shorebirds such as Least and Semipalmated Sandpipers and both species of yellowlegs. There’s even the chance for something rarer like a Stilt or Baird’s Sandpiper. Please meet in the parking lot at the end of School St.Leader: Henry Meade kathleenreeves22@yahoo.com
URL:https://dupagebirding.org/event/wood-dale-reservoir/
CATEGORIES:Field Trips
END:VEVENT
BEGIN:VEVENT
DTSTART;TZID=America/Chicago:20220813T073000
DTEND;TZID=America/Chicago:20220813T103000
DTSTAMP:20260424T114803
CREATED:20220725T213407Z
LAST-MODIFIED:20220725T213528Z
UID:10000277-1660375800-1660386600@dupagebirding.org
SUMMARY:Birding and Breakfast!
DESCRIPTION:No pre-registration required. Join us for a bird walk and casual breakfast at Pratt’s Wayne Woods. Participants planning on joining the bird walk should meet at the furthest parking lot near the trailhead at 7:30 am. The breakfast will occur at the picnic shelter at 9:00 am. The club will provide fruit\, bagels\, donuts\, juice\, and coffee. You are invited to come for both the walk and breakfast or just join us for breakfast. All birders and potential birders are welcome! Pratt’s Wayne is located at Powis Road south of Stearns Road in Wayne (driving directions here). Meet at the picnic shelter.Organizers: Natalie McFaul natcatcher7@gmail.com and Jane Barnettjane.barnett333@gmail.com
URL:https://dupagebirding.org/event/birding-and-breakfast-2/
CATEGORIES:Field Trips
END:VEVENT
BEGIN:VEVENT
DTSTART;TZID=America/Chicago:20220729T070000
DTEND;TZID=America/Chicago:20220729T090000
DTSTAMP:20260424T114803
CREATED:20220626T150316Z
LAST-MODIFIED:20220626T150512Z
UID:10000276-1659078000-1659085200@dupagebirding.org
SUMMARY:Knoch Knolls Park\, Naperville
DESCRIPTION:Pre-registration with the leader is required\, limit 15 participants. A bird walk to the DuPage River confluence\, where the east and west branches meet. We’ll look for summer residents in the woods\, fields\, and on the water\, so prepare for some sun\, heat\, and a few bugs! New birders welcome. Trails are mostly level and are grass/dirt\, with some paved. Meet at the parking lot on 336 Knoch Knolls Rd.\, Naperville. Google Maps link.Leader: Steve Constantelos\, 630-890-8956\, steve.constantelos@gmail.com
URL:https://dupagebirding.org/event/knoch-knolls-park-naperville-2/
CATEGORIES:Field Trips
END:VEVENT
BEGIN:VEVENT
DTSTART;TZID=America/Chicago:20220723T073000
DTEND;TZID=America/Chicago:20220723T093000
DTSTAMP:20260424T114803
CREATED:20220626T145859Z
LAST-MODIFIED:20220626T145902Z
UID:10000275-1658561400-1658568600@dupagebirding.org
SUMMARY:Fullersburg Woods Forest Preserve\, Oak Brook
DESCRIPTION:Pre-registration with the leader is required\, limit 20 participants. This will be a walk for birders of all levels. We will walk along the Salt Creek in the lowland woods with good habitat for birds. Meet at the main parking lot on Spring Road in Oak Brook.Leaders: Andrew and Rebecca Steinmann\, 708-533-6604\, asteinmann@ameritech.net
URL:https://dupagebirding.org/event/fullersburg-woods-forest-preserve-oak-brook-5/
CATEGORIES:Field Trips
END:VEVENT
BEGIN:VEVENT
DTSTART;TZID=America/Chicago:20220719T070000
DTEND;TZID=America/Chicago:20220719T093000
DTSTAMP:20260424T114803
CREATED:20220626T144907Z
LAST-MODIFIED:20220626T145226Z
UID:10000274-1658214000-1658223000@dupagebirding.org
SUMMARY:Danada Forest Preserve - West
DESCRIPTION:Pre-registration required with the leader\, limit 10 participants. This preserve (3S580 Naperville Rd\, Wheaton\, IL 60189) has open grasslands with a few ponds. We will look for grassland birds\, shrubland birds\, raptors\, and some other possibilities in the ponds. Plan to walk 3 – 4 miles on limestone and uneven grass trails.Leader: Nancy Allured\, nallured@comcast.net
URL:https://dupagebirding.org/event/danada-forest-preserve-west/
CATEGORIES:Field Trips
END:VEVENT
BEGIN:VEVENT
DTSTART;TZID=America/Chicago:20220715T070000
DTEND;TZID=America/Chicago:20220715T100000
DTSTAMP:20260424T114803
CREATED:20220626T144531Z
LAST-MODIFIED:20220626T151357Z
UID:10000273-1657868400-1657879200@dupagebirding.org
SUMMARY:McKee Marsh\, Warrenville
DESCRIPTION:Pre-registration with the leader is required\, limit 10 participants. We hope to see summer residents\, waterfowl\, grassland birds\, and raptors. Meet at the visitor parking lot on the north side of Mack Rd.\, located between Winfield Rd. and Rt. 59 in Warrenville. Most of our walk will be on limestone and earthen trails. Bring bug spray. If the temperature is higher than 89F at 7 am\, we will cancel the trip (it is a long\, hot walk in the open fields).Leaders: Steve and Kathy Mineck\, kmineck@yahoo.com\, (day of: 630-254-4077)
URL:https://dupagebirding.org/event/mckee-marsh-warrenville-19/
CATEGORIES:Field Trips
END:VEVENT
BEGIN:VEVENT
DTSTART;TZID=America/Chicago:20220713T070000
DTEND;TZID=America/Chicago:20220713T103000
DTSTAMP:20260424T114803
CREATED:20220626T144131Z
LAST-MODIFIED:20220626T144240Z
UID:10000272-1657695600-1657708200@dupagebirding.org
SUMMARY:Bird and Bike\, Greene Valley and Whalon Lake\, Bolingbrook/Naperville
DESCRIPTION:Pre-registration required with the leader\, limit 6 participants. We’ll start at the Greene Rd. parking lot and head east to the fluddle\, and then bike south to Whalon Lake. Leader will have a scope in case we see shorebirds or waterfowl.Leader: Vicky Sroczynski\, VSroczynski@comcast.net  Questions? Call or text 630-297-9512.
URL:https://dupagebirding.org/event/bird-and-bike-greene-valley-and-whalon-lake-bolingbrook-naperville/
CATEGORIES:Field Trips
END:VEVENT
BEGIN:VEVENT
DTSTART;TZID=America/Chicago:20220709T110000
DTEND;TZID=America/Chicago:20220709T130000
DTSTAMP:20260424T114803
CREATED:20220626T143359Z
LAST-MODIFIED:20220626T143643Z
UID:10000271-1657364400-1657371600@dupagebirding.org
SUMMARY:Greene Valley Overlook\,Naperville/Bolingbrook
DESCRIPTION:Pre-registration with the leader required\, limit 20 participants. Meet at the second-highest point in DuPage County for grassland birds and lunch. At 11:15\, we’ll gather and walk on grass around the parking lot and up to the glider hill in search of grassland birds. Bring your own lunch and a chair so we can eat together around 12 or 12:30 pm. RSVP so you can get a drink and dessert. The driveway to the overlook can be found on the west side of Greene Road\, just south of the parking lot on the west side of Greene Rd. The overlook opens at 11am. Drive 75th street either from the east or west\, and turn south on Greene Rd.\, proceeding past 79th Street and the trailhead parking lot on the west. Note: Rain date: Sunday\, July 10Leader: Vicky Sroczynski\, vsroczynski@comcast.net\, call 630-297-9512 with any questions.
URL:https://dupagebirding.org/event/greene-valley-overlooknaperville-bolingbrook/
CATEGORIES:Field Trips
END:VEVENT
BEGIN:VEVENT
DTSTART;TZID=America/Chicago:20220706T073000
DTEND;TZID=America/Chicago:20220706T093000
DTSTAMP:20260424T114803
CREATED:20220626T142645Z
LAST-MODIFIED:20220626T143849Z
UID:10000270-1657092600-1657099800@dupagebirding.org
SUMMARY:Bird Sit at Herrick Lake\, Wheaton
DESCRIPTION:Pre-registration with the leader required\, limit 10 participants. This is a field trip for anyone who finds the long walks of our regular field trips too difficult or who would just like a less vigorous birding experience\, but still share the camaraderie of fellow birders. Bring your folding lawn chairs\, binoculars\, and field guides. We will be birding at the Herrick Lake West Shelter. Meet at the parking lot located on the east side Herrick Road south of Butterfield (Hwy 56). Drive all the way to the end of the parking lot\, the shelter is on the right. The lot for the West shelter is located on the east side of Herrick Road south of Butterfield. Dress for the weather and bring bug spray (sitting\, we are easy targets for mosquitos!) and drinking water.Leader: Natalie McFaul\, natcatcher7@gmail.com
URL:https://dupagebirding.org/event/bird-sit-at-herrick-lake-wheaton/
CATEGORIES:Field Trips
END:VEVENT
BEGIN:VEVENT
DTSTART;TZID=America/Chicago:20220705T073000
DTEND;TZID=America/Chicago:20220705T103000
DTSTAMP:20260424T114803
CREATED:20220626T142250Z
LAST-MODIFIED:20220626T150815Z
UID:10000269-1657006200-1657017000@dupagebirding.org
SUMMARY:Pratt’s Wayne Woods Forest Preserve\, Bartlett
DESCRIPTION:Pre-registration with the leader is required\, limit 15 participants. On this morning trip we will be searching for summer residents including sparrows\, wrens\, and marsh birds. Meet in the Pickerel Lake parking lot off Powis Road.Leader: Henry Meade. Please register with kathleenreeves22@yahoo.com.
URL:https://dupagebirding.org/event/wayne-woods-forest-preserve-bartlett/
CATEGORIES:Field Trips
END:VEVENT
BEGIN:VEVENT
DTSTART;TZID=America/Chicago:20220628T073000
DTEND;TZID=America/Chicago:20220628T113000
DTSTAMP:20260424T114803
CREATED:20220528T163224Z
LAST-MODIFIED:20220528T163643Z
UID:10000268-1656401400-1656415800@dupagebirding.org
SUMMARY:James Pate Philip State Park and nearby areas\, Bartlett
DESCRIPTION:Pre-registration with the leader is required\, limit 15 participants. Let’s meet at James Pate Philip State Park in the northwest corner of the county to look for nesting grassland\, shrubland\, and marshland birds. This preserve includes an area designated as an Illinois Nature Preserve\, comprised of a Dwarf Bur-Reed Marsh. Please be prepared to walk almost 4 miles on flat turf and limestone trails\, mostly without shade. \n\n\n\nPark in the main parking lot in front of the Visitor Center. Bring a sack lunch so we can eat there together afterwards. Depending on time\, and scouting results\, we could visit parts of Pratt’s Wayne Woods\, especially the nearby wetland areas\, and check out the newly improved Dunham Woods Forest Preserve afterwards. \n\n\n\nLeader: Vicky Sroczynski\, 630-297-9512\, RSVP to VSroczynski@comcast.net
URL:https://dupagebirding.org/event/james-pate-philip-state-park-and-nearby-areas-bartlett-2/
CATEGORIES:Field Trips
END:VEVENT
BEGIN:VEVENT
DTSTART;TZID=America/Chicago:20220616T080000
DTEND;TZID=America/Chicago:20220616T103000
DTSTAMP:20260424T114803
CREATED:20220528T162502Z
LAST-MODIFIED:20220528T162552Z
UID:10000267-1655366400-1655375400@dupagebirding.org
SUMMARY:Greene Valley\, Woodridge
DESCRIPTION:Pre-registration with the leader is required\, limit 20 participants. This morning trip will be more oriented for new birders\, but experienced ones are welcome. We will walk at a leisurely pace to allow for all to see any birds. We will search for late migratory birds and summer residents. Meet at the Thunderbird Youth Camp Parking Lot. Go west on 79th about 1/2 mile\, the entrance is on the south side of 79th Street\, west of Greene Road in Naperville/Woodridge. Greene Valley \n\n\n\nLeader: Bonnie Graham\, 630-204-8750\, coye72112@gmail.com
URL:https://dupagebirding.org/event/greene-valley-woodridge-6/
CATEGORIES:Field Trips
END:VEVENT
END:VCALENDAR