BEGIN:VCALENDAR
VERSION:2.0
PRODID:-//DuPage Birding Club - ECPv6.15.14//NONSGML v1.0//EN
CALSCALE:GREGORIAN
METHOD:PUBLISH
X-WR-CALNAME:DuPage Birding Club
X-ORIGINAL-URL:https://dupagebirding.org
X-WR-CALDESC:Events for DuPage Birding Club
REFRESH-INTERVAL;VALUE=DURATION:PT1H
X-Robots-Tag:noindex
X-PUBLISHED-TTL:PT1H
BEGIN:VTIMEZONE
TZID:America/Chicago
BEGIN:DAYLIGHT
TZOFFSETFROM:-0600
TZOFFSETTO:-0500
TZNAME:CDT
DTSTART:20190310T080000
END:DAYLIGHT
BEGIN:STANDARD
TZOFFSETFROM:-0500
TZOFFSETTO:-0600
TZNAME:CST
DTSTART:20191103T070000
END:STANDARD
BEGIN:DAYLIGHT
TZOFFSETFROM:-0600
TZOFFSETTO:-0500
TZNAME:CDT
DTSTART:20200308T080000
END:DAYLIGHT
BEGIN:STANDARD
TZOFFSETFROM:-0500
TZOFFSETTO:-0600
TZNAME:CST
DTSTART:20201101T070000
END:STANDARD
BEGIN:DAYLIGHT
TZOFFSETFROM:-0600
TZOFFSETTO:-0500
TZNAME:CDT
DTSTART:20210314T080000
END:DAYLIGHT
BEGIN:STANDARD
TZOFFSETFROM:-0500
TZOFFSETTO:-0600
TZNAME:CST
DTSTART:20211107T070000
END:STANDARD
END:VTIMEZONE
BEGIN:VTIMEZONE
TZID:UTC
BEGIN:STANDARD
TZOFFSETFROM:+0000
TZOFFSETTO:+0000
TZNAME:UTC
DTSTART:20190101T000000
END:STANDARD
END:VTIMEZONE
BEGIN:VEVENT
DTSTART;TZID=America/Chicago:20201025T073000
DTEND;TZID=America/Chicago:20201025T093000
DTSTAMP:20260425T101553
CREATED:20200923T133216Z
LAST-MODIFIED:20200923T134017Z
UID:10000006-1603611000-1603618200@dupagebirding.org
SUMMARY:Lyman Woods\, Downers Grove
DESCRIPTION:Preregistration required. This is a morning trip over gravel and earthen trails. We continue to visit this site year-round because it has multiple habitats that attract birds. Let’s meet at Lyman Woods parking lot. Trails could be muddy. We strongly recommend wearing boots and suitable clothing.  \n\n\n\nLeader: Joan Campbell\, Cell: 630-337-2605 peachjmc@gmail.com
URL:https://dupagebirding.org/event/lyman-woods-downers-grove-2/
CATEGORIES:Field Trips
END:VEVENT
BEGIN:VEVENT
DTSTART;TZID=America/Chicago:20201024T090000
DTEND;TZID=America/Chicago:20201024T110000
DTSTAMP:20260425T101553
CREATED:20200922T211921Z
LAST-MODIFIED:20201001T155439Z
UID:10000004-1603530000-1603537200@dupagebirding.org
SUMMARY:2020 Zoom Birders Breakfast
DESCRIPTION:Keep this date open for the 2020 Zoom Birders Breakfast. Like everything else\, the Birders Breakfast is going to be a little different this year. We are going to do a ZOOM breakfast complete with food\, birding and other really fun stuff! Check October Drummings for further details.
URL:https://dupagebirding.org/event/2020-zoom-birders-breakfast/
CATEGORIES:Field Trips
END:VEVENT
BEGIN:VEVENT
DTSTART;TZID=America/Chicago:20201021T080000
DTEND;TZID=America/Chicago:20201021T100000
DTSTAMP:20260425T101553
CREATED:20200922T211429Z
LAST-MODIFIED:20201002T211732Z
UID:10000003-1603267200-1603274400@dupagebirding.org
SUMMARY:St. James Farm Forest Preserve\, Warrenville
DESCRIPTION:Registration closed. Explore the woodlands of this preserve looking for woodpeckers\, nuthatches\, and other fall and winter birds. We will also check out the open spaces for grassland birds and the skies for migrating raptors. Be prepared for some dirt trail\, possibly muddy if wet. Meet at the parking lot off Winfield Road.Leader: Nancy Allured\, nallured@comcast.net
URL:https://dupagebirding.org/event/st-james-farm-forest-preserve-warrenville-2/
CATEGORIES:Field Trips
END:VEVENT
BEGIN:VEVENT
DTSTART;TZID=America/Chicago:20201017T080000
DTEND;TZID=America/Chicago:20201017T100000
DTSTAMP:20260425T101553
CREATED:20200922T210853Z
LAST-MODIFIED:20200923T133620Z
UID:10000002-1602921600-1602928800@dupagebirding.org
SUMMARY:Lincoln Marsh\, Wheaton
DESCRIPTION:Preregistration required. Between 1979 and 1992 more than 100 parcels of land were assembled to form the core of this park. Today it is one of the most accessible natural areas in DuPage County\, having wood chip trails and a floating boardwalk. The focus of the trip will be observing resident birds and fall migrants. Directions: The entrance to Lincoln Marsh is on the west side of the park\, at the corner of Harrison St. and Pierce Ave. From County Farm Rd.\, turn east on Harrison St. and proceed one mile to the parking lot. Be prepared for wet trail conditions and insects and dress accordingly.Leader: John Cebula\, 630-640-2721\, joceb2005@sbcglobal.net
URL:https://dupagebirding.org/event/lincoln-marsh-wheaton/
CATEGORIES:Field Trips
END:VEVENT
BEGIN:VEVENT
DTSTART;TZID=America/Chicago:20201010T073000
DTEND;TZID=America/Chicago:20201010T093000
DTSTAMP:20260425T101553
CREATED:20200922T202814Z
LAST-MODIFIED:20201007T232441Z
UID:10000001-1602315000-1602322200@dupagebirding.org
SUMMARY:Springbrook Prairie Forest Preserve\, Naperville
DESCRIPTION:Registration closed. Join Joe Suchecki for our annual club fall trip to locate Neslon’s and LeConte’s sparrows at Springbrook Prairie. We also will be looking for other late migrant species of the wetlands and grasslands. This trip requires we go off-trail through uneven terrain\, so this is not for those who want/need to stay on wide\, flat groomed trails. The vegetation and footing will likely be wet as we walk along the edge of wetlands looking for the sparrows\, so rubber boots are recommended. Meet at the Model Aircraft Field Parking Lot on the west side of Plainfield-Naperville Road south of 75th St.Leader: Joe Suchecki\, 630-369-5570\, issuesman50@yahoo.com
URL:https://dupagebirding.org/event/springbrook-prairie-forest-preserve-naperville-2/
CATEGORIES:Field Trips
END:VEVENT
BEGIN:VEVENT
DTSTART;TZID=America/Chicago:20201008T080000
DTEND;TZID=America/Chicago:20201008T100000
DTSTAMP:20260425T101553
CREATED:20200922T201319Z
LAST-MODIFIED:20200922T210126Z
UID:10000090-1602144000-1602151200@dupagebirding.org
SUMMARY:Greene Valley\, Woodridge
DESCRIPTION:Preregistration required.  This morning trip\, oriented toward early fall\, late summer birds\, is  especially designed for new birders and will be at a leisurely pace to  provide as much time as desired to look at each bird and to answer questions on equipment or bird identification. Meet at the Thunderbird Youth Camp Parking Lot. Go west on 79th about 1/2 mile\, the entrance is  on south side of 79th Street\, west of Greene Road in Naperville/Woodridge.   \n\n\n\nLeader: Bonnie Graham\, 630-204-8750\, bgraham@dupagebirding.org 
URL:https://dupagebirding.org/event/greene-valley-woodridge-4/
CATEGORIES:Field Trips
END:VEVENT
BEGIN:VEVENT
DTSTART;TZID=America/Chicago:20200926T073000
DTEND;TZID=America/Chicago:20200926T093000
DTSTAMP:20260425T101553
CREATED:20200824T190008Z
LAST-MODIFIED:20200903T191315Z
UID:10000089-1601105400-1601112600@dupagebirding.org
SUMMARY:Maple Grove Forest Preserve\, Downers Grove
DESCRIPTION:Registration closed. This idyllic suburban preserve is a pocket wilderness\, especially suitable for new birders. It has an old maple forest\, a vestige of Downers Grove history\, which is now mixed with many other species. St. Joseph’s Creek lies on the north end. We will look for resident and migrating woodland birds. Meet at the main parking lot off Maple Avenue.Leader: Kathy Mineck
URL:https://dupagebirding.org/event/maple-grove-forest-preserve-downers-grove/
CATEGORIES:Field Trips
END:VEVENT
BEGIN:VEVENT
DTSTART;TZID=America/Chicago:20200919T073000
DTEND;TZID=America/Chicago:20200919T093000
DTSTAMP:20260425T101553
CREATED:20200822T220729Z
LAST-MODIFIED:20200822T220805Z
UID:10000088-1600500600-1600507800@dupagebirding.org
SUMMARY:McKee Marsh\, Warrenville
DESCRIPTION:Preregistration required. Join us on a morning walk to the marsh for residents and migrating shorebirds. Bring a spotting scope if you have one. Most of our walk will be on preserve limestone andearthen trails; wear appropriate shoes and clothing. Meet at the visitor parking lot on the north side of Mack Rd.\, located between Winfield Rd. and Rt. 59 in Warrenville.Leader: Kyle Wicktor\, 708-506-5186
URL:https://dupagebirding.org/event/mckee-marsh-warrenville-5/
CATEGORIES:Field Trips
END:VEVENT
BEGIN:VEVENT
DTSTART;TZID=America/Chicago:20200912T073000
DTEND;TZID=America/Chicago:20200912T120000
DTSTAMP:20260425T101553
CREATED:20200822T220518Z
LAST-MODIFIED:20200911T144508Z
UID:10000087-1599895800-1599912000@dupagebirding.org
SUMMARY:Cantigny CANCELED
DESCRIPTION:This event has been canceled due to severe weather forecast. Open house\, no registration required. Butterfly Hill\, 1 S 151 Winfield Rd.\, Wheaton.This event\, in partnership with Cantigny\, reprises last year’s Big Sit event. The format is open house\, no registration is required. However\, due to COVID-19\, masks will berequired and social distancing will be strongly encouraged. Participants should bring a folding chair\, sunscreen and snacks. Bottled water will be provided. The parking fee is waived for birders arriving before 11 am. For more information go to:https://cantigny.org/
URL:https://dupagebirding.org/event/cantigny-big-sit-wheaton/
CATEGORIES:Field Trips
END:VEVENT
BEGIN:VEVENT
DTSTART;TZID=America/Chicago:20200910T073000
DTEND;TZID=America/Chicago:20200910T100000
DTSTAMP:20260425T101553
CREATED:20200822T220103Z
LAST-MODIFIED:20200822T220113Z
UID:10000084-1599723000-1599732000@dupagebirding.org
SUMMARY:McDowell Grove Forest Preserve\, Naperville
DESCRIPTION:Preregistration required. This morning trip will focus on woodland migrants passing through our area. This is a popular migrant hotspot in both spring and fall. If birds are on the move\, we will be in a great location to view them. Meet in the first parking lot after entering the preserve. The entrance is at the intersection of Raymond Dr. and McDowell Rd. where there is a stop light.Leader: Denis Kania\, djkan36@gmail.com
URL:https://dupagebirding.org/event/mcdowell-grove-forest-preserve-naperville-2/
CATEGORIES:Field Trips
END:VEVENT
BEGIN:VEVENT
DTSTART;TZID=America/Chicago:20200906T073000
DTEND;TZID=America/Chicago:20200906T093000
DTSTAMP:20260425T101553
CREATED:20200822T215835Z
LAST-MODIFIED:20200822T215843Z
UID:10000082-1599377400-1599384600@dupagebirding.org
SUMMARY:Elsen’s Hill/West DuPage Woods\, Winfield
DESCRIPTION:Preregistration required. Elsen’s Hill is another great site for migrants\, especially warblers passing through on their way to their wintering grounds. Take Winfield Rd. to Gary’s Mill Rd. west to the preserve parking lot entrance on the north side of the road. Bring boots as needed for muddy trails.Leader: Diann Bilderback\, diann.bilderback@yahoo.com
URL:https://dupagebirding.org/event/elsens-hill-west-dupage-woods-winfield-4/
CATEGORIES:Field Trips
END:VEVENT
BEGIN:VEVENT
DTSTART;TZID=America/Chicago:20200903T073000
DTEND;TZID=America/Chicago:20200903T100000
DTSTAMP:20260425T101553
CREATED:20200822T215033Z
LAST-MODIFIED:20200822T215354Z
UID:10000080-1599118200-1599127200@dupagebirding.org
SUMMARY:McDowell Grove Forest Preserve\, Naperville
DESCRIPTION:Preregistration required. This morning trip will focus on woodland migrants passing through our area. This is apopular migrant hotspot in both spring and fall. If birds are on the move\, we will be in a great location to view them. Meet in the first parking lot after entering the preserve. The entrance is at the intersection of Raymond Dr. and McDowell Rd. where there is a stop light.Leader: Denis Kania\, djkan36@gmail.com
URL:https://dupagebirding.org/event/mcdowell-grove-forest-preserve-naperville/
CATEGORIES:Field Trips
END:VEVENT
BEGIN:VEVENT
DTSTART;TZID=UTC:20200820T080000
DTEND;TZID=UTC:20200820T100000
DTSTAMP:20260425T101553
CREATED:20200722T194700Z
LAST-MODIFIED:20200722T194710Z
UID:10000078-1597910400-1597917600@dupagebirding.org
SUMMARY:Greene Valley\, Woodridge
DESCRIPTION:Preregistration required. This morning trip\, oriented toward late summer birds\, is especially designed for new birders and will be at a leisurely pace to provide as much time as desired to look at each bird and to answer questions on equipment or bird identification. Meet at the Thunderbird Youth Camp Parking Lot. Go west on 79th St. about 1/2 mile\, the entrance is on south side of 79th St.\, west of Greene Rd. in Naperville/Woodridge. Leader: Bonnie Graham\, 630-204-8750\, coye72112@gmail.com
URL:https://dupagebirding.org/event/greene-valley-woodridge-2/
CATEGORIES:Field Trips
END:VEVENT
BEGIN:VEVENT
DTSTART;TZID=UTC:20200813T070000
DTEND;TZID=UTC:20200813T090000
DTSTAMP:20260425T101553
CREATED:20200722T194418Z
LAST-MODIFIED:20200805T162522Z
UID:10000076-1597302000-1597309200@dupagebirding.org
SUMMARY:York Woods\, Oak Brook
DESCRIPTION:Registration closed. This trip is full. York Woods\, part of the Salt Creek Greenway Trail\, is a small preserve on the east side of DuPage County. It is mostly wooded with an old oak stand and has some open and wet areas as well\, which draw a variety of birds. New birders are very welcome. Meet at the east side parking lot off of Harger Rd. Directions: traveling south on York Rd.\, just past Roosevelt Rd.\, take the I-88 exit on the right (Harger Rd.) and turn right into the York Woods lot just before the interstate ramp. Leaders: Steve and Kathy Mineck
URL:https://dupagebirding.org/event/york-woods-oak-brook/
CATEGORIES:Field Trips
END:VEVENT
BEGIN:VEVENT
DTSTART;TZID=UTC:20200808T073000
DTEND;TZID=UTC:20200808T083000
DTSTAMP:20260425T101553
CREATED:20200722T194105Z
LAST-MODIFIED:20200725T174425Z
UID:10000073-1596871800-1596875400@dupagebirding.org
SUMMARY:St. James Farm Forest Preserve\, Warrenville
DESCRIPTION:Registration closed. The monthly Cantigny walk is migrating to adjacent St. James Farm due to park construction. Like Cantigny\, St. James was once a McCormick family property. Meet in the main parking lot of St. James. Enter off Winfield Rd.\, just north of Butterfield. Leader: Jeff Reiter
URL:https://dupagebirding.org/event/st-james-farm-forest-preserve-warrenville/
CATEGORIES:Field Trips
END:VEVENT
BEGIN:VEVENT
DTSTART;TZID=UTC:20200801T070000
DTEND;TZID=UTC:20200801T090000
DTSTAMP:20260425T101553
CREATED:20200722T193740Z
LAST-MODIFIED:20200722T194156Z
UID:10000072-1596265200-1596272400@dupagebirding.org
SUMMARY:Salt Creek Woods Nature Preserve\, Westchester
DESCRIPTION:Preregistration required. This can be a birdy site for the summer! Uncommon target birds include: Pileated Woodpecker\, Orchard Oriole and Wood Thrush. The walk is mainly on dirt and grass trails and there will also be paved portions. Wear protective clothing and boots for weather. We will meet at the corner of Brainard Ave and Jackson\, south of 31st Street. Leader: Alan Seelye-James\, 954-708-4804\, alan_seelyejames@yahoo.com [Note the underscore between the first and last name in the email]
URL:https://dupagebirding.org/event/salt-creek-woods-nature-preserve-westchester/
CATEGORIES:Field Trips
END:VEVENT
BEGIN:VEVENT
DTSTART;TZID=UTC:20200725T070000
DTEND;TZID=UTC:20200725T090000
DTSTAMP:20260425T101553
CREATED:20200701T214440Z
LAST-MODIFIED:20200716T011908Z
UID:10000070-1595660400-1595667600@dupagebirding.org
SUMMARY:McKee Marsh\, Warrenville
DESCRIPTION:Registration closed. This field trip is full. Join another morning walk to the marsh for residents and possibly early migrating shorebirds. Bring a spotting scope if you have one. Most of our walk will be on preserve limestone and earthen trails; wear appropriate shoes and clothing. Meet at the visitor parking lot on the north side of Mack Rd.\, located between Winfield Rd. and Rt. 59 in Warrenville.Leaders: Kathy and Steve Mineck
URL:https://dupagebirding.org/event/mckee-marsh-warrenville-4/
CATEGORIES:Field Trips
END:VEVENT
BEGIN:VEVENT
DTSTART;TZID=UTC:20200719T070000
DTEND;TZID=UTC:20200719T090000
DTSTAMP:20260425T101553
CREATED:20200701T214107Z
LAST-MODIFIED:20200701T214954Z
UID:10000068-1595142000-1595149200@dupagebirding.org
SUMMARY:Pratts Wayne Woods\, Wayne
DESCRIPTION:Preregistration required. Designated as an Audubon Important Bird Area\, this is the largest forest preserve in DuPage County. We will be looking for summer residents\, including wrens\, sparrows and marsh birds. Meet at the Pickerel Lake parking lot off Powis Rd.Leader: Diann Bilderback\, register at: diann.bilderback@yahoo.com
URL:https://dupagebirding.org/event/pratts-wayne-woods-wayne/
CATEGORIES:Field Trips
END:VEVENT
BEGIN:VEVENT
DTSTART;TZID=UTC:20200714T070000
DTEND;TZID=UTC:20200714T090000
DTSTAMP:20260425T101553
CREATED:20200701T213818Z
LAST-MODIFIED:20200701T215447Z
UID:10000067-1594710000-1594717200@dupagebirding.org
SUMMARY:Danada Forest Preserve/East\, Wheaton
DESCRIPTION:Preregistration is required. This morning we will look for grassland birds\, and check out the lake and the wooded areas. Meet at the parking lot on the east side of Naperville Rd. in Wheaton.Leader: Nancy Allured\, register at: nallured@comcast.net
URL:https://dupagebirding.org/event/danada-forest-preserve-wheaton/
CATEGORIES:Field Trips
END:VEVENT
BEGIN:VEVENT
DTSTART;TZID=UTC:20200709T080000
DTEND;TZID=UTC:20200709T100000
DTSTAMP:20260425T101553
CREATED:20200701T213256Z
LAST-MODIFIED:20200701T214837Z
UID:10000066-1594281600-1594288800@dupagebirding.org
SUMMARY:Greene Valley\, Woodridge
DESCRIPTION:Preregistration required. This morning trip is oriented towards our summer residents. Most of the walk will be on gravel or mulch paths. Wear appropriate shoes and bring bug spray. Don’t forget to bring some water to stay hydrated. As always\, new birders are welcome as we will take a leisurely pace to provide as much time as desired to look at each bird and to answer questions on equipment or bird identification. Meet at the Thunderbird Youth Camp Parking Lot. Go west on 79th St. about 1/2 mile; the entrance is south of 79th St.\, west of Greene Rd. in Naperville/Woodridge. \n\n\n\nLeader: Bonnie Graham\, register at: 630 204-8750 
URL:https://dupagebirding.org/event/greene-valley-woodridge/
CATEGORIES:Field Trips
END:VEVENT
BEGIN:VEVENT
DTSTART;TZID=UTC:20200707T080000
DTEND;TZID=UTC:20200707T100000
DTSTAMP:20260425T101553
CREATED:20200701T213041Z
LAST-MODIFIED:20200701T214749Z
UID:10000065-1594108800-1594116000@dupagebirding.org
SUMMARY:Cricket Creek Forest Preserve\, Addison
DESCRIPTION:Preregistration required. Join us for a morning walk to check out this small preserve on the eastern side of DuPage County\, right next to Salt Creek. Meet at the parking lot north of Fullerton Avenue (west of Rt. 83\, east of Villa Ave.).Leader: Andrew Steinmann\, register at: asteinmann@ameritech.net
URL:https://dupagebirding.org/event/cricket-creek-forest-preserve-addison-2/
CATEGORIES:Field Trips
END:VEVENT
BEGIN:VEVENT
DTSTART;TZID=UTC:20200628T070000
DTEND;TZID=UTC:20200628T090000
DTSTAMP:20260425T101553
CREATED:20200524T143536Z
LAST-MODIFIED:20200524T145619Z
UID:10000064-1593327600-1593334800@dupagebirding.org
SUMMARY:Bemis Woods South\, Western Springs
DESCRIPTION:Join us at Bemis Woods South for a morning of birding. This will be a walk for new birders. We will walk slowly and allow time for all to look at the birds. We will check out resident and nesting birds. Meet by the “Go Ape” course. The entrance is off Ogden Ave. between I 294 and Wolf Rd. The trails can be muddy so wear appropriate shoes and use insect repellant.Pre-registration required. Leader: Lesa Hipes\, 630-689-7463\, lesahipes@gmail.com
URL:https://dupagebirding.org/event/bemis-woods-south-western-springs-2/
CATEGORIES:Field Trips
END:VEVENT
BEGIN:VEVENT
DTSTART;TZID=UTC:20200621T070000
DTEND;TZID=UTC:20200621T093000
DTSTAMP:20260425T101553
CREATED:20200524T143307Z
LAST-MODIFIED:20200525T210022Z
UID:10000063-1592722800-1592731800@dupagebirding.org
SUMMARY:McKee Marsh\, Warrenville
DESCRIPTION:Join us for another morning walk to the marsh where we hope to see nesting residents. Bring a spotting scope if you have one. Meet at the visitor parking lot on the north side of Mack Rd.\, located between Winfield Rd. and Rt. 59 in Warrenville. Most of our walk will be on limestone and earthen trails; wear appropriate shoes and clothing. Please bring your face masks.Pre-registration required. Leaders: Steve and Kathy Mineck\, cell day of: 630-254-4077\, kmineck@yahoo\,com
URL:https://dupagebirding.org/event/mckee-marsh-warrenville-3/
CATEGORIES:Field Trips
END:VEVENT
BEGIN:VEVENT
DTSTART;TZID=UTC:20200620T073000
DTEND;TZID=UTC:20200620T093000
DTSTAMP:20260425T101553
CREATED:20200523T215815Z
LAST-MODIFIED:20200524T145826Z
UID:10000061-1592638200-1592645400@dupagebirding.org
SUMMARY:Elsen’s Hill/West DuPage Woods\, Winfield
DESCRIPTION:This location has the designation of “Important Bird Area.” Take Winfield Rd. to Gary’s Mill Rd. Go west on Gary’s Mill Rd to the Preserve parking lot entrance on the north side of the road. Be sure to wear appropriate clothing and boots for muddy trails. We will look and listen for local breeding birds and focus on recognizing songs and calls of some of our local nesting species. Pre-registration required. Leader: Mark Bavetz\, mbavetz@sbcglobal.net
URL:https://dupagebirding.org/event/elsens-hill-west-dupage-woods-winfield-3/
CATEGORIES:Field Trips
END:VEVENT
BEGIN:VEVENT
DTSTART;TZID=UTC:20200620T070000
DTEND;TZID=UTC:20200620T093000
DTSTAMP:20260425T101553
CREATED:20200524T143020Z
LAST-MODIFIED:20200613T000933Z
UID:10000062-1592636400-1592645400@dupagebirding.org
SUMMARY:Springbrook Prairie Forest Preserve\, Naperville
DESCRIPTION:REGISTRATION CLOSED – This trip will focus on finding the grassland birds that nest at Springbrook Prairie including such species as Henslow’s\, Savannah and Grasshopper Sparrows\, Bobolinks\, Sedge Wren and Dickcissel. Some shrubland birds such as Yellow-breasted Chat\, Bell’s Vireo and marsh-nesting birds are also possible. Meet the leader at the main parking lot for Springbrook Prairie on 83rd St. west of Book Rd. across from the Springbrook Golf Course. The trip will go off-trail and the vegetation may be wet\, so please wear appropriate footwear and use insect repellent. REGISTRATION CLOSED. Leader: Joe Suchecki
URL:https://dupagebirding.org/event/springbrook-prairie-forest-preserve-naperville/
CATEGORIES:Field Trips
END:VEVENT
BEGIN:VEVENT
DTSTART;TZID=America/Chicago:20200509T070000
DTEND;TZID=America/Chicago:20200509T180000
DTSTAMP:20260425T101553
CREATED:20200110T213928Z
LAST-MODIFIED:20200324T004444Z
UID:10000034-1589007600-1589047200@dupagebirding.org
SUMMARY:Spring Bird Count - DuPage County
DESCRIPTION:Save the date for the upcoming Spring Bird Count. To volunteer for all day or just part of the day contact Joe Suchecki\,  dupagesbc@gmail.com
URL:https://dupagebirding.org/event/spring-bird-count-dupage-county/
CATEGORIES:Field Trips
END:VEVENT
BEGIN:VEVENT
DTSTART;TZID=America/Chicago:20200328T073000
DTEND;TZID=America/Chicago:20200328T093000
DTSTAMP:20260425T101553
CREATED:20200229T201513Z
LAST-MODIFIED:20200316T160705Z
UID:10000060-1585380600-1585387800@dupagebirding.org
SUMMARY:Cricket Creek Forest Preserve - Canceled
DESCRIPTION:This field trip is canceled.Leaders: Andrew and Rebecca Steinmann\, 708-533-6604\, asteinmann@dupagebirding.org
URL:https://dupagebirding.org/event/cricket-creek-forest-preserve-addison/
CATEGORIES:Field Trips
END:VEVENT
BEGIN:VEVENT
DTSTART;TZID=America/Chicago:20200326T190000
DTEND;TZID=America/Chicago:20200326T200000
DTSTAMP:20260425T101553
CREATED:20200229T201202Z
LAST-MODIFIED:20200316T160847Z
UID:10000059-1585249200-1585252800@dupagebirding.org
SUMMARY:Woodcocks\, Greene Valley - Canceled
DESCRIPTION:This field trip is canceled.Leader: Jeff Smith\, 331-481-3362\, jsmith@dupagebirding.org
URL:https://dupagebirding.org/event/woodcocks-greene-valley-forest-preserve-naperville-woodridge-2/
CATEGORIES:Field Trips
END:VEVENT
BEGIN:VEVENT
DTSTART;TZID=America/Chicago:20200321T073000
DTEND;TZID=America/Chicago:20200321T093000
DTSTAMP:20260425T101553
CREATED:20200229T200918Z
LAST-MODIFIED:20200316T160938Z
UID:10000055-1584775800-1584783000@dupagebirding.org
SUMMARY:McKee Marsh - Canceled
DESCRIPTION:This field trip has been canceled.Leaders: Steve and Kathy Mineck\, 630-254-4077\, kmineck@dupagebirding.org
URL:https://dupagebirding.org/event/mckee-marsh-warrenville-2/
CATEGORIES:Field Trips
END:VEVENT
BEGIN:VEVENT
DTSTART;TZID=America/Chicago:20200320T083000
DTEND;TZID=America/Chicago:20200320T113000
DTSTAMP:20260425T101553
CREATED:20200229T200611Z
LAST-MODIFIED:20200316T161154Z
UID:10000053-1584693000-1584703800@dupagebirding.org
SUMMARY:Know Your Neighborhood - Canceled
DESCRIPTION:This field trip has been canceled.Leader: Glenn Perricone\, 630-687-2921\, gperricone@dupagebirding.org
URL:https://dupagebirding.org/event/know-your-neighborhood-aurora/
CATEGORIES:Field Trips
END:VEVENT
END:VCALENDAR