BEGIN:VCALENDAR
VERSION:2.0
PRODID:-//DuPage Birding Club - ECPv6.15.14//NONSGML v1.0//EN
CALSCALE:GREGORIAN
METHOD:PUBLISH
X-ORIGINAL-URL:https://dupagebirding.org
X-WR-CALDESC:Events for DuPage Birding Club
REFRESH-INTERVAL;VALUE=DURATION:PT1H
X-Robots-Tag:noindex
X-PUBLISHED-TTL:PT1H
BEGIN:VTIMEZONE
TZID:America/Chicago
BEGIN:DAYLIGHT
TZOFFSETFROM:-0600
TZOFFSETTO:-0500
TZNAME:CDT
DTSTART:20250309T080000
END:DAYLIGHT
BEGIN:STANDARD
TZOFFSETFROM:-0500
TZOFFSETTO:-0600
TZNAME:CST
DTSTART:20251102T070000
END:STANDARD
BEGIN:DAYLIGHT
TZOFFSETFROM:-0600
TZOFFSETTO:-0500
TZNAME:CDT
DTSTART:20260308T080000
END:DAYLIGHT
BEGIN:STANDARD
TZOFFSETFROM:-0500
TZOFFSETTO:-0600
TZNAME:CST
DTSTART:20261101T070000
END:STANDARD
BEGIN:DAYLIGHT
TZOFFSETFROM:-0600
TZOFFSETTO:-0500
TZNAME:CDT
DTSTART:20270314T080000
END:DAYLIGHT
BEGIN:STANDARD
TZOFFSETFROM:-0500
TZOFFSETTO:-0600
TZNAME:CST
DTSTART:20271107T070000
END:STANDARD
END:VTIMEZONE
BEGIN:VEVENT
DTSTART;TZID=America/Chicago:20260524T070000
DTEND;TZID=America/Chicago:20260524T120000
DTSTAMP:20260423T172911
CREATED:20260421T143019Z
LAST-MODIFIED:20260421T143019Z
UID:10000760-1779606000-1779624000@dupagebirding.org
SUMMARY:Lyman Woods Big Morning\, Downers Grove
DESCRIPTION:Registration with the leader is required. Limit 10 participants. Registration for nonmembers opens on May 1.Join us for an extended outing where we’ll attempt to rack up as many species as possible at Lyman Woods in one morning! Think you can help us beat last year’s score of 65 species? This will be a long outing\, and we’ll go until we run out of birds to find (the end time is a best guess and not firm).  Meet at the parking lot on 31st Street. Lyman’s trails are almost always muddy regardless of weather. If rain occurs ahead of the trip\, expect areas with standing water. Be prepared with appropriate footwear.https://maps.app.goo.gl/j9GZWCC2SPn2zvbK6Leader: Matt Crisler\, crislermj@gmail.com
URL:https://dupagebirding.org/event/lyman-woods-big-morning-downers-grove/
CATEGORIES:Field Trips
END:VEVENT
BEGIN:VEVENT
DTSTART;TZID=America/Chicago:20260529T174500
DTEND;TZID=America/Chicago:20260529T210000
DTSTAMP:20260423T172911
CREATED:20260421T143018Z
LAST-MODIFIED:20260421T143018Z
UID:10000757-1780076700-1780088400@dupagebirding.org
SUMMARY:Lyman Woods\, Downers Grove
DESCRIPTION:Registration with the leader is required. Limit 15 participants. Registration for nonmembers opens on May 1.Warblers (and other spring migrants) after work! Meet at the parking lot on 31st Street. We’ll conclude the trip with some dusk birding looking for the resident Great Horned Owls. A red flashlight or headlamp is recommended. Lyman’s trails are almost always muddy regardless of weather. If rain occurs ahead of the trip\, expect areas with standing water. Be prepared with appropriate footwear.https://maps.app.goo.gl/j9GZWCC2SPn2zvbK6Leader: Matt Crisler\, crislermj@gmail.com
URL:https://dupagebirding.org/event/lyman-woods-downers-grove-30/
CATEGORIES:Field Trips
END:VEVENT
BEGIN:VEVENT
DTSTART;TZID=America/Chicago:20260606T080000
DTEND;TZID=America/Chicago:20260606T100000
DTSTAMP:20260423T172911
CREATED:20260421T143438Z
LAST-MODIFIED:20260421T143438Z
UID:10000763-1780732800-1780740000@dupagebirding.org
SUMMARY:Midewin National Tallgrass Prairie\, Elwood\, Will County
DESCRIPTION:Registration with the leader is required. Limit 20 participants. Registration for nonmembers opens on June 1.Midewin National Tallgrass Prairie is one of the premier grassland birding spots in the area. The area is littered with abandoned munitions bunkers\, as well as fantastic grassland species such as Henslow’s Sparrow\, Bell’s Vireo\, Yellow-breasted Chat\, and Blue Grosbeak. This walk will primarily take place on gravel trails\, but may venture into tall grass. Dress appropriately and bring bug spray and sun protection. We will meet at the Iron Bridge Trailhead on Route 53 in Elwood\, Illinois. The entrance to the trailhead parking lot is about a mile south of Abraham Lincoln National Cemetery and the intersection of Hoff Road and Route 53.https://maps.app.goo.gl/a8YuSYkEgV1XUG5s7Leader: Robert Perez\, robertperez787@gmail.com\, (630) 724-7534
URL:https://dupagebirding.org/event/midewin-national-tallgrass-prairie-elwood-will-county/
CATEGORIES:Field Trips
END:VEVENT
END:VCALENDAR