BEGIN:VCALENDAR
VERSION:2.0
PRODID:-//DuPage Birding Club - ECPv6.15.14//NONSGML v1.0//EN
CALSCALE:GREGORIAN
METHOD:PUBLISH
X-WR-CALNAME:DuPage Birding Club
X-ORIGINAL-URL:https://dupagebirding.org
X-WR-CALDESC:Events for DuPage Birding Club
REFRESH-INTERVAL;VALUE=DURATION:PT1H
X-Robots-Tag:noindex
X-PUBLISHED-TTL:PT1H
BEGIN:VTIMEZONE
TZID:UTC
BEGIN:STANDARD
TZOFFSETFROM:+0000
TZOFFSETTO:+0000
TZNAME:UTC
DTSTART:20190101T000000
END:STANDARD
END:VTIMEZONE
BEGIN:VTIMEZONE
TZID:America/Chicago
BEGIN:DAYLIGHT
TZOFFSETFROM:-0600
TZOFFSETTO:-0500
TZNAME:CDT
DTSTART:20190310T080000
END:DAYLIGHT
BEGIN:STANDARD
TZOFFSETFROM:-0500
TZOFFSETTO:-0600
TZNAME:CST
DTSTART:20191103T070000
END:STANDARD
BEGIN:DAYLIGHT
TZOFFSETFROM:-0600
TZOFFSETTO:-0500
TZNAME:CDT
DTSTART:20200308T080000
END:DAYLIGHT
BEGIN:STANDARD
TZOFFSETFROM:-0500
TZOFFSETTO:-0600
TZNAME:CST
DTSTART:20201101T070000
END:STANDARD
BEGIN:DAYLIGHT
TZOFFSETFROM:-0600
TZOFFSETTO:-0500
TZNAME:CDT
DTSTART:20210314T080000
END:DAYLIGHT
BEGIN:STANDARD
TZOFFSETFROM:-0500
TZOFFSETTO:-0600
TZNAME:CST
DTSTART:20211107T070000
END:STANDARD
END:VTIMEZONE
BEGIN:VEVENT
DTSTART;TZID=UTC:20200709T080000
DTEND;TZID=UTC:20200709T100000
DTSTAMP:20260425T103729
CREATED:20200701T213256Z
LAST-MODIFIED:20200701T214837Z
UID:10000066-1594281600-1594288800@dupagebirding.org
SUMMARY:Greene Valley\, Woodridge
DESCRIPTION:Preregistration required. This morning trip is oriented towards our summer residents. Most of the walk will be on gravel or mulch paths. Wear appropriate shoes and bring bug spray. Don’t forget to bring some water to stay hydrated. As always\, new birders are welcome as we will take a leisurely pace to provide as much time as desired to look at each bird and to answer questions on equipment or bird identification. Meet at the Thunderbird Youth Camp Parking Lot. Go west on 79th St. about 1/2 mile; the entrance is south of 79th St.\, west of Greene Rd. in Naperville/Woodridge. \n\n\n\nLeader: Bonnie Graham\, register at: 630 204-8750 
URL:https://dupagebirding.org/event/greene-valley-woodridge/
CATEGORIES:Field Trips
END:VEVENT
BEGIN:VEVENT
DTSTART;TZID=UTC:20200707T080000
DTEND;TZID=UTC:20200707T100000
DTSTAMP:20260425T103729
CREATED:20200701T213041Z
LAST-MODIFIED:20200701T214749Z
UID:10000065-1594108800-1594116000@dupagebirding.org
SUMMARY:Cricket Creek Forest Preserve\, Addison
DESCRIPTION:Preregistration required. Join us for a morning walk to check out this small preserve on the eastern side of DuPage County\, right next to Salt Creek. Meet at the parking lot north of Fullerton Avenue (west of Rt. 83\, east of Villa Ave.).Leader: Andrew Steinmann\, register at: asteinmann@ameritech.net
URL:https://dupagebirding.org/event/cricket-creek-forest-preserve-addison-2/
CATEGORIES:Field Trips
END:VEVENT
BEGIN:VEVENT
DTSTART;TZID=UTC:20200628T070000
DTEND;TZID=UTC:20200628T090000
DTSTAMP:20260425T103729
CREATED:20200524T143536Z
LAST-MODIFIED:20200524T145619Z
UID:10000064-1593327600-1593334800@dupagebirding.org
SUMMARY:Bemis Woods South\, Western Springs
DESCRIPTION:Join us at Bemis Woods South for a morning of birding. This will be a walk for new birders. We will walk slowly and allow time for all to look at the birds. We will check out resident and nesting birds. Meet by the “Go Ape” course. The entrance is off Ogden Ave. between I 294 and Wolf Rd. The trails can be muddy so wear appropriate shoes and use insect repellant.Pre-registration required. Leader: Lesa Hipes\, 630-689-7463\, lesahipes@gmail.com
URL:https://dupagebirding.org/event/bemis-woods-south-western-springs-2/
CATEGORIES:Field Trips
END:VEVENT
BEGIN:VEVENT
DTSTART;TZID=UTC:20200621T070000
DTEND;TZID=UTC:20200621T093000
DTSTAMP:20260425T103729
CREATED:20200524T143307Z
LAST-MODIFIED:20200525T210022Z
UID:10000063-1592722800-1592731800@dupagebirding.org
SUMMARY:McKee Marsh\, Warrenville
DESCRIPTION:Join us for another morning walk to the marsh where we hope to see nesting residents. Bring a spotting scope if you have one. Meet at the visitor parking lot on the north side of Mack Rd.\, located between Winfield Rd. and Rt. 59 in Warrenville. Most of our walk will be on limestone and earthen trails; wear appropriate shoes and clothing. Please bring your face masks.Pre-registration required. Leaders: Steve and Kathy Mineck\, cell day of: 630-254-4077\, kmineck@yahoo\,com
URL:https://dupagebirding.org/event/mckee-marsh-warrenville-3/
CATEGORIES:Field Trips
END:VEVENT
BEGIN:VEVENT
DTSTART;TZID=UTC:20200620T073000
DTEND;TZID=UTC:20200620T093000
DTSTAMP:20260425T103729
CREATED:20200523T215815Z
LAST-MODIFIED:20200524T145826Z
UID:10000061-1592638200-1592645400@dupagebirding.org
SUMMARY:Elsen’s Hill/West DuPage Woods\, Winfield
DESCRIPTION:This location has the designation of “Important Bird Area.” Take Winfield Rd. to Gary’s Mill Rd. Go west on Gary’s Mill Rd to the Preserve parking lot entrance on the north side of the road. Be sure to wear appropriate clothing and boots for muddy trails. We will look and listen for local breeding birds and focus on recognizing songs and calls of some of our local nesting species. Pre-registration required. Leader: Mark Bavetz\, mbavetz@sbcglobal.net
URL:https://dupagebirding.org/event/elsens-hill-west-dupage-woods-winfield-3/
CATEGORIES:Field Trips
END:VEVENT
BEGIN:VEVENT
DTSTART;TZID=UTC:20200620T070000
DTEND;TZID=UTC:20200620T093000
DTSTAMP:20260425T103729
CREATED:20200524T143020Z
LAST-MODIFIED:20200613T000933Z
UID:10000062-1592636400-1592645400@dupagebirding.org
SUMMARY:Springbrook Prairie Forest Preserve\, Naperville
DESCRIPTION:REGISTRATION CLOSED – This trip will focus on finding the grassland birds that nest at Springbrook Prairie including such species as Henslow’s\, Savannah and Grasshopper Sparrows\, Bobolinks\, Sedge Wren and Dickcissel. Some shrubland birds such as Yellow-breasted Chat\, Bell’s Vireo and marsh-nesting birds are also possible. Meet the leader at the main parking lot for Springbrook Prairie on 83rd St. west of Book Rd. across from the Springbrook Golf Course. The trip will go off-trail and the vegetation may be wet\, so please wear appropriate footwear and use insect repellent. REGISTRATION CLOSED. Leader: Joe Suchecki
URL:https://dupagebirding.org/event/springbrook-prairie-forest-preserve-naperville/
CATEGORIES:Field Trips
END:VEVENT
BEGIN:VEVENT
DTSTART;TZID=America/Chicago:20200509T070000
DTEND;TZID=America/Chicago:20200509T180000
DTSTAMP:20260425T103729
CREATED:20200110T213928Z
LAST-MODIFIED:20200324T004444Z
UID:10000034-1589007600-1589047200@dupagebirding.org
SUMMARY:Spring Bird Count - DuPage County
DESCRIPTION:Save the date for the upcoming Spring Bird Count. To volunteer for all day or just part of the day contact Joe Suchecki\,  dupagesbc@gmail.com
URL:https://dupagebirding.org/event/spring-bird-count-dupage-county/
CATEGORIES:Field Trips
END:VEVENT
BEGIN:VEVENT
DTSTART;TZID=America/Chicago:20200328T073000
DTEND;TZID=America/Chicago:20200328T093000
DTSTAMP:20260425T103729
CREATED:20200229T201513Z
LAST-MODIFIED:20200316T160705Z
UID:10000060-1585380600-1585387800@dupagebirding.org
SUMMARY:Cricket Creek Forest Preserve - Canceled
DESCRIPTION:This field trip is canceled.Leaders: Andrew and Rebecca Steinmann\, 708-533-6604\, asteinmann@dupagebirding.org
URL:https://dupagebirding.org/event/cricket-creek-forest-preserve-addison/
CATEGORIES:Field Trips
END:VEVENT
BEGIN:VEVENT
DTSTART;TZID=America/Chicago:20200326T190000
DTEND;TZID=America/Chicago:20200326T200000
DTSTAMP:20260425T103729
CREATED:20200229T201202Z
LAST-MODIFIED:20200316T160847Z
UID:10000059-1585249200-1585252800@dupagebirding.org
SUMMARY:Woodcocks\, Greene Valley - Canceled
DESCRIPTION:This field trip is canceled.Leader: Jeff Smith\, 331-481-3362\, jsmith@dupagebirding.org
URL:https://dupagebirding.org/event/woodcocks-greene-valley-forest-preserve-naperville-woodridge-2/
CATEGORIES:Field Trips
END:VEVENT
BEGIN:VEVENT
DTSTART;TZID=America/Chicago:20200321T073000
DTEND;TZID=America/Chicago:20200321T093000
DTSTAMP:20260425T103729
CREATED:20200229T200918Z
LAST-MODIFIED:20200316T160938Z
UID:10000055-1584775800-1584783000@dupagebirding.org
SUMMARY:McKee Marsh - Canceled
DESCRIPTION:This field trip has been canceled.Leaders: Steve and Kathy Mineck\, 630-254-4077\, kmineck@dupagebirding.org
URL:https://dupagebirding.org/event/mckee-marsh-warrenville-2/
CATEGORIES:Field Trips
END:VEVENT
BEGIN:VEVENT
DTSTART;TZID=America/Chicago:20200320T083000
DTEND;TZID=America/Chicago:20200320T113000
DTSTAMP:20260425T103729
CREATED:20200229T200611Z
LAST-MODIFIED:20200316T161154Z
UID:10000053-1584693000-1584703800@dupagebirding.org
SUMMARY:Know Your Neighborhood - Canceled
DESCRIPTION:This field trip has been canceled.Leader: Glenn Perricone\, 630-687-2921\, gperricone@dupagebirding.org
URL:https://dupagebirding.org/event/know-your-neighborhood-aurora/
CATEGORIES:Field Trips
END:VEVENT
BEGIN:VEVENT
DTSTART;TZID=America/Chicago:20200314T083000
DTEND;TZID=America/Chicago:20200314T103000
DTSTAMP:20260425T103729
CREATED:20200229T200052Z
LAST-MODIFIED:20200312T193944Z
UID:10000050-1584174600-1584181800@dupagebirding.org
SUMMARY:Cantigny Park\, CANCELED
DESCRIPTION:Cantigny – this trip is canceled. Leader: Jeff Reiter\, jreiter@wordsonbirds.com
URL:https://dupagebirding.org/event/cantigny-park-wheaton/
CATEGORIES:Field Trips
END:VEVENT
BEGIN:VEVENT
DTSTART;TZID=America/Chicago:20200313T190000
DTEND;TZID=America/Chicago:20200313T200000
DTSTAMP:20260425T103729
CREATED:20200229T195813Z
LAST-MODIFIED:20200229T195817Z
UID:10000048-1584126000-1584129600@dupagebirding.org
SUMMARY:Woodcocks\, Greene Valley Forest Preserve\, Naperville/Woodridge
DESCRIPTION:Greene Valley Forest Preserve is known for its Woodcock displays\, which begin shortly after sunset. Join us this spring on one of our walks. Meet at the west entrance parking lot: west on 79th St. from Greene Rd\, then Thunderbird Rd. south\, appr. ½ mile to the campground entrance. The walk will NOT be cancelled due to weather.Leader: Jeff Smith\, 331-481-3362\, jsmith@dupagebirding.org
URL:https://dupagebirding.org/event/woodcocks-greene-valley-forest-preserve-naperville-woodridge/
CATEGORIES:Field Trips
END:VEVENT
BEGIN:VEVENT
DTSTART;TZID=America/Chicago:20200307T063000
DTEND;TZID=America/Chicago:20200307T190000
DTSTAMP:20260425T103729
CREATED:20200229T195431Z
LAST-MODIFIED:20200229T195437Z
UID:10000046-1583562600-1583607600@dupagebirding.org
SUMMARY:Havana Waterfowl\, Mason County
DESCRIPTION:The Havana area is known to host large numbers of waterfowl during migration. This trip will target the tens of thousands of Snow Geese that rest on the waters of Chautauqua NWR and the Emiquon NWR and Preserve. Large numbers of ducks\, swans\, pelicans\, etc.\, may also be seen. Sorry\, no Little Stint. Pre-register with Jeff Smith by March 5 for additional directions. We will meet to carpool to Havana. Warning!! It is a 3-hour drive to this location\, and we may not return before 7 pm. We will lunch at a local Havana eatery. Bring snacks\, water\, scope\, cameras\, etc.Leader: Jeff Smith\, 331-481-3362\, mrqmagoo13@gmail.com
URL:https://dupagebirding.org/event/havana-waterfowl-mason-county/
CATEGORIES:Field Trips
END:VEVENT
BEGIN:VEVENT
DTSTART;TZID=America/Chicago:20200304T073000
DTEND;TZID=America/Chicago:20200304T093000
DTSTAMP:20260425T103729
CREATED:20200229T194948Z
LAST-MODIFIED:20200229T194953Z
UID:10000044-1583307000-1583314200@dupagebirding.org
SUMMARY:Bemis Woods South\, Western Springs
DESCRIPTION:Join us at Bemis Wood South for a morning of birding. This will be a walk for new birders. We will walk slowly and allow time for all to check out the late winter and early spring migrant birds. Meet by the “Go Ape: course. The entrance is off Ogden Ave. between I 294 and Wolf Rd. The trails can be muddy so wear appropriate footwear and warm clothing.Leader: Lesa Hipes\, 630-689-7463\, lhipes@dupagebirding.org
URL:https://dupagebirding.org/event/bemis-woods-south-western-springs/
CATEGORIES:Field Trips
END:VEVENT
BEGIN:VEVENT
DTSTART;TZID=America/Chicago:20200229T080000
DTEND;TZID=America/Chicago:20200229T103000
DTSTAMP:20260425T103729
CREATED:20200123T161519Z
LAST-MODIFIED:20200123T161703Z
UID:10000039-1582963200-1582972200@dupagebirding.org
SUMMARY:Lyman Woods\, Downers Grove
DESCRIPTION:This is a morning trip over gravel and earthen trails. This site has multiple habitats that attract lots of birds. Some areas may be muddy; we strongly recommend wearing boots and suitable clothing.  \n\n\n\nLeader:Joan Campbell\, 630-337-2605\, peachjmc@gmail.com
URL:https://dupagebirding.org/event/lyman-woods-downers-grove/
CATEGORIES:Field Trips
END:VEVENT
BEGIN:VEVENT
DTSTART;TZID=America/Chicago:20200222T090000
DTEND;TZID=America/Chicago:20200222T113000
DTSTAMP:20260425T103729
CREATED:20200123T160513Z
LAST-MODIFIED:20200123T161054Z
UID:10000037-1582362000-1582371000@dupagebirding.org
SUMMARY:Fox River Preserves\, Batavia & North
DESCRIPTION:Enjoy leisurely walks looking for winter residents and early migrants starting at Red Oak Nature Center\, 2343 S River St.\, Batavia\, IL. Directions: Take Hwy 56 (Butterfield Rd.) west to Hwy 25 (east side of Fox River)\, drive north on Hwy 25 approx.1 mile to the Red Oak Nature Center. Meet at the Visitor Center Building. We will visit a few sites further north. A lunch stop completes the trip. Leaders: Bob and Jean Spitzer\, 630-222-3307\, bobspitzer1@msn.com
URL:https://dupagebirding.org/event/fox-river-preserves-batavia-north/
CATEGORIES:Field Trips
END:VEVENT
BEGIN:VEVENT
DTSTART;TZID=America/Chicago:20200222T070000
DTEND;TZID=America/Chicago:20200222T170000
DTSTAMP:20260425T103729
CREATED:20200123T160849Z
LAST-MODIFIED:20200123T160906Z
UID:10000038-1582354800-1582390800@dupagebirding.org
SUMMARY:Mississippi River Eagles & More
DESCRIPTION:Advanced Registration Required This will be an all-day trip to visit several sites along the Mississippi River to see eagles\, other raptors\, gulls\, and waterfowl. Meet at 7am in the parking lot west of the main building of Yorktown Mall (facing Highland\, near the Carson Pirie Scott store) in Lombard. Bring walkie-talkies\, scopes\, if available\, and dress for the cold.NOTE: This trip is limited to 20 people (6 cars). Please register with the leader after Feb. 2.  \n\n\n\nLeader: Urs Geiser\, 630-310-9443\, ugeiser@comcast.net
URL:https://dupagebirding.org/event/mississippi-river-eagles-more/
CATEGORIES:Field Trips
END:VEVENT
BEGIN:VEVENT
DTSTART;TZID=America/Chicago:20200221T073000
DTEND;TZID=America/Chicago:20200221T093000
DTSTAMP:20260425T103729
CREATED:20200129T161344Z
LAST-MODIFIED:20200129T161352Z
UID:10000042-1582270200-1582277400@dupagebirding.org
SUMMARY:Know Your Neighborhood: Lemont
DESCRIPTION:The second of the ‘Know Your Neighborhood’ trips\, exploring hidden gems\, odd and under-birded hot spots in DuPage County\, we will be walking the Centennial Trail along the Des Plaines River in search of winter waterfowl. Meet at the 101st St. Waterfall Glen parking lot off of Lemont Rd. where we will consolidate vehicles and depart promptly at 7:45 am. We should be back no later than 11:00 am and will lunch at the famous Del Rhea’s Chicken Basket in Willowbrook. Leader: Glenn Perricone\, 630-687-2921\, Gperricone@dupagebirding.org
URL:https://dupagebirding.org/event/know-your-neighborhood-lemont/
CATEGORIES:Field Trips
END:VEVENT
BEGIN:VEVENT
DTSTART;TZID=America/Chicago:20200215T073000
DTEND;TZID=America/Chicago:20200215T093000
DTSTAMP:20260425T103729
CREATED:20200121T204638Z
LAST-MODIFIED:20200123T154136Z
UID:10000036-1581751800-1581759000@dupagebirding.org
SUMMARY:Elsen’s Hill - West DuPage Woods\, Winfield
DESCRIPTION:One of our best-known warbler locations can be a productive winter site as well. We will be targeting a few winter specialties including finches\, sparrows and wrens. We’ll meet at Elsen’s Hill parking lot. Take Winfield Rd. to Gary’s Mill Rd. Go west on Gary’s Mill Rd. to the Preserve parking lot entrance on the north side of the road. Dress for the weather. Depending on conditions the trails can be icy or muddy. Leader: MarkBavetz\, mbavetz@sbcglobal.net
URL:https://dupagebirding.org/event/elsens-hill-west-dupage-woods-winfield-2/
CATEGORIES:Field Trips
END:VEVENT
BEGIN:VEVENT
DTSTART;TZID=America/Chicago:20200214T080000
DTEND;TZID=America/Chicago:20200217T170000
DTSTAMP:20260425T103729
CREATED:20200123T161937Z
LAST-MODIFIED:20200123T161944Z
UID:10000040-1581667200-1581958800@dupagebirding.org
SUMMARY:Backyard Bird Count
DESCRIPTION:The Great Backyard Bird Count (February 14-17) is an opportunity to contribute from the comfort of your own home. Check out their website at: gbbc.birdcount.org
URL:https://dupagebirding.org/event/backyard-bird-count/
CATEGORIES:Field Trips
END:VEVENT
BEGIN:VEVENT
DTSTART;TZID=America/Chicago:20200207T162000
DTEND;TZID=America/Chicago:20200207T180000
DTSTAMP:20260425T103729
CREATED:20200129T161014Z
LAST-MODIFIED:20200129T161018Z
UID:10000041-1581092400-1581098400@dupagebirding.org
SUMMARY:Know Your Neighborhood: Bensenville
DESCRIPTION:The first of a series in the ‘Know Your Neighborhood’ trips\, exploring hidden gems\, odd and under-birded hot spots in DuPage County\, we will be checking O’Hare Airport for Snowy Owls and other winter birds. Meet at the Bensenville McDonalds on Irving Park Rd. two blocks west of York Rd. where we will consolidate vehicles. We will leave promptly at 4:30 pm. We will head to dinner at 5:30 pm\, in downtown Bensenville\, then try for Snowy Owls again afterwards. Leader: Glenn Perricone\, 630-687-2921\, Gperricone@dupagebirding.org
URL:https://dupagebirding.org/event/know-your-neighborhood-bensenville/
CATEGORIES:Field Trips
END:VEVENT
BEGIN:VEVENT
DTSTART;TZID=America/Chicago:20200201T073000
DTEND;TZID=America/Chicago:20200201T100000
DTSTAMP:20260425T103729
CREATED:20200121T203733Z
LAST-MODIFIED:20210110T212651Z
UID:10000035-1580542200-1580551200@dupagebirding.org
SUMMARY:McKee Marsh\, Winfield
DESCRIPTION:This site remains one\nof DuPage Countyʼs premier birding spots. Walk around the marsh with us to\ncheck out winter birds. Meet at the visitor parking lot on the north side of\nMack Rd. (Mack is south of Roosevelt and north of Butterfield)\, located between\nWinfield Rd. and Rte. 59 in Warrenville. Be sure to dress for the weather.  \n\n\n\nLeader: Kyle Wiktor\, (C) 708-506-5186\, kylewiktor@msn.com
URL:https://dupagebirding.org/event/mckee-marsh-winfield-2/
CATEGORIES:Field Trips
END:VEVENT
BEGIN:VEVENT
DTSTART;TZID=America/Chicago:20200126T080000
DTEND;TZID=America/Chicago:20200126T100000
DTSTAMP:20260425T103729
CREATED:20200102T024205Z
LAST-MODIFIED:20200123T154338Z
UID:10000030-1580025600-1580032800@dupagebirding.org
SUMMARY:McKee Marsh\, Winfield
DESCRIPTION:This site remains one of DuPage\nCounty’s premier birding spots. Walk around the marsh with us to check out\nwinter birds. Meet at the visitor parking lot on the north side of Mack Road\n(Mack is south of Roosevelt and north of Butterfield)\, located between Winfield\nRoad and Rte. 59 in Warrenville. \n\n\n\nLeaders: Kathy and Steve Mineck\, kmineck@yahoo.com cell day of: 630-254-4077
URL:https://dupagebirding.org/event/mckee-marsh-winfield/
CATEGORIES:Field Trips
END:VEVENT
BEGIN:VEVENT
DTSTART;TZID=America/Chicago:20200125T080000
DTEND;TZID=America/Chicago:20200125T100000
DTSTAMP:20260425T103729
CREATED:20200102T023955Z
LAST-MODIFIED:20200123T224240Z
UID:10000028-1579939200-1579946400@dupagebirding.org
SUMMARY:CANCELED - Elsen’s Hill/West DuPage Woods
DESCRIPTION:This trip has been canceled
URL:https://dupagebirding.org/event/elsens-hill-west-dupage-woods-winfield/
CATEGORIES:Field Trips
END:VEVENT
BEGIN:VEVENT
DTSTART;TZID=America/Chicago:20200119T080000
DTEND;TZID=America/Chicago:20200119T100000
DTSTAMP:20260425T103729
CREATED:20200102T023857Z
LAST-MODIFIED:20200102T024414Z
UID:10000026-1579420800-1579428000@dupagebirding.org
SUMMARY:Des Plaines River Tour
DESCRIPTION:Meet in the west parking lot for Waterfall Glen FP\, Lemont Rd. and 101st St. We can carpool from there. We will travel downstream along the Des Plaines River looking for waterfowl. The trip will end in the Channahon area. We will stop for lunch along the way. A scope would be helpful\, but not necessary. Hope to be back mid-afternoon. \n\n\n\nLeader: Jeff Smith\, 331-481-3362\, mrgmagoo12@gmail.com
URL:https://dupagebirding.org/event/des-plaines-river-tour/
CATEGORIES:Field Trips
END:VEVENT
BEGIN:VEVENT
DTSTART;TZID=America/Chicago:20200117T080000
DTEND;TZID=America/Chicago:20200117T100000
DTSTAMP:20260425T103729
CREATED:20200102T023657Z
LAST-MODIFIED:20200122T230742Z
UID:10000025-1579248000-1579255200@dupagebirding.org
SUMMARY:Fullersburg Woods\, Oak Brook
DESCRIPTION:This will be a walk for new\nbirders. We will walk slowly and allow time for all to look at the birds. We\nwill walk along the Salt Creek in the lowland woods with good habitat for\nbirds. Meet at the main parking lot on Spring Rd. in Oak Brook. \n\n\n\nLeader: Nancy Allured\, nallured@dupagebirding.org
URL:https://dupagebirding.org/event/fullersburg-woods-oak-brook/
CATEGORIES:Field Trips
END:VEVENT
BEGIN:VEVENT
DTSTART;TZID=America/Chicago:20200115T080000
DTEND;TZID=America/Chicago:20200115T100000
DTSTAMP:20260425T103729
CREATED:20200108T222517Z
LAST-MODIFIED:20200108T222521Z
UID:10000032-1579075200-1579082400@dupagebirding.org
SUMMARY:Morton Arboretum\, Lisle
DESCRIPTION:Come one\, come all to Morton Arboretum to start the new year right! Meet at the east side Visitor Center parking lot (far north end\, by the troll and smashed car) where we will divide into groups. For non-members\, the entrance fee is $15 per person\, $13 for seniors 65+. Many of our members are also Arboretum members and have free passes\, so if you could use one or you have one\, contact the leader. \n\n\n\nLeader: Kathy Mineck at kmineck@yahoo.com
URL:https://dupagebirding.org/event/morton-arboretum-lisle-2/
END:VEVENT
BEGIN:VEVENT
DTSTART;TZID=America/Chicago:20200112T140000
DTEND;TZID=America/Chicago:20200112T170000
DTSTAMP:20260425T103729
CREATED:20200102T015229Z
LAST-MODIFIED:20200110T213257Z
UID:10000022-1578837600-1578848400@dupagebirding.org
SUMMARY:Goose Lake Prairie SP / surrounding areas DATE CHANGE
DESCRIPTION:MOVED TO SUNDAY – Jan 12 due to weather. Join Bob Fisher and check various locations for raptors\, gulls\, waterfowl and owls. Meet at the McDonalds in Coal City at the SE corner of Hwy 113 and Broadway. Dress warmly since we will likely be standing in one exposed location as the sun sets. Pre-registration is required; limit 15. Trip may be cancelled in the event of bad weather. Contact Bob to register. \n\n\n\nLeader: Bob Fisher\, bfisher928@aol.com
URL:https://dupagebirding.org/event/goose-lake-prairie-sp-and-surrounding-areas/
CATEGORIES:Field Trips
END:VEVENT
BEGIN:VEVENT
DTSTART;TZID=America/Chicago:20200101T080000
DTEND;TZID=America/Chicago:20200101T093000
DTSTAMP:20260425T103729
CREATED:20191203T232143Z
LAST-MODIFIED:20191203T232146Z
UID:10000016-1577865600-1577871000@dupagebirding.org
SUMMARY:Morton Arboretum\, Lisle
DESCRIPTION:Come one\, come all to Morton Arboretum to start the new year right! Meet at the east side Visitor Center parking lot (far north end\, by the troll and smashed car) where we will divide into groups. For non-members\, the entrance fee is $15 per person\, $13 for seniors 65+. Many of our members are also Arboretum members and have free passes\, so if you could use one or you have one\, please contact Kathy Mineck at kmineck@yahoo.com
URL:https://dupagebirding.org/event/morton-arboretum-lisle/
CATEGORIES:Field Trips
END:VEVENT
END:VCALENDAR