BEGIN:VCALENDAR
VERSION:2.0
PRODID:-//DuPage Birding Club - ECPv6.15.14//NONSGML v1.0//EN
CALSCALE:GREGORIAN
METHOD:PUBLISH
X-WR-CALNAME:DuPage Birding Club
X-ORIGINAL-URL:https://dupagebirding.org
X-WR-CALDESC:Events for DuPage Birding Club
REFRESH-INTERVAL;VALUE=DURATION:PT1H
X-Robots-Tag:noindex
X-PUBLISHED-TTL:PT1H
BEGIN:VTIMEZONE
TZID:America/Chicago
BEGIN:DAYLIGHT
TZOFFSETFROM:-0600
TZOFFSETTO:-0500
TZNAME:CDT
DTSTART:20240310T080000
END:DAYLIGHT
BEGIN:STANDARD
TZOFFSETFROM:-0500
TZOFFSETTO:-0600
TZNAME:CST
DTSTART:20241103T070000
END:STANDARD
BEGIN:DAYLIGHT
TZOFFSETFROM:-0600
TZOFFSETTO:-0500
TZNAME:CDT
DTSTART:20250309T080000
END:DAYLIGHT
BEGIN:STANDARD
TZOFFSETFROM:-0500
TZOFFSETTO:-0600
TZNAME:CST
DTSTART:20251102T070000
END:STANDARD
BEGIN:DAYLIGHT
TZOFFSETFROM:-0600
TZOFFSETTO:-0500
TZNAME:CDT
DTSTART:20260308T080000
END:DAYLIGHT
BEGIN:STANDARD
TZOFFSETFROM:-0500
TZOFFSETTO:-0600
TZNAME:CST
DTSTART:20261101T070000
END:STANDARD
END:VTIMEZONE
BEGIN:VEVENT
DTSTART;TZID=America/Chicago:20250811T174500
DTEND;TZID=America/Chicago:20250811T203000
DTSTAMP:20260423T210239
CREATED:20250731T130000Z
LAST-MODIFIED:20250730T175439Z
UID:10000649-1754934300-1754944200@dupagebirding.org
SUMMARY:Lyman Woods\, Downers Grove
DESCRIPTION:Registration with the leader is required\, limit 15 participants.Birding after work! Meet at the parking lot on 31st Street. We’ll conclude the trip with some dusk-time birding looking for the resident owls. A red flashlight or headlamp is recommended. Lyman’s trails can be muddy if we get rain — be prepared with appropriate footwear. Insect repellent is highly recommended.https://maps.app.goo.gl/sWWxHJ9QeDQPS7rRALeader: Matt Crisler\, crislermj@gmail.com.
URL:https://dupagebirding.org/event/lyman-woods-downers-grove-14/
CATEGORIES:Field Trips
END:VEVENT
BEGIN:VEVENT
DTSTART;TZID=America/Chicago:20250813T083000
DTEND;TZID=America/Chicago:20250813T110000
DTSTAMP:20260423T210239
CREATED:20250731T130000Z
LAST-MODIFIED:20250730T175540Z
UID:10000648-1755073800-1755082800@dupagebirding.org
SUMMARY:McKee Marsh\, Warrenville
DESCRIPTION:Registration for this trip is not required.This site remains one of DuPage County’s premier birding spots. Walk around the marsh with us\, approximately 3.25 miles\, to check out resident species and early fall migrants. Most of our walk will be on the preserve limestone and earthen trails; wear appropriate shoes and clothing. Meet at the visitor parking lot on the north side of Mack Rd.\, located between Winfield Rd. and Rt. 59 in Warrenville.https://maps.app.goo.gl/6bWV27h75kFfnAe57Leader: Kyle Wiktor\, (708) 506-5186.
URL:https://dupagebirding.org/event/mckee-marsh-warrenville-52/
CATEGORIES:Field Trips
END:VEVENT
BEGIN:VEVENT
DTSTART;TZID=America/Chicago:20250820T173000
DTEND;TZID=America/Chicago:20250820T200000
DTSTAMP:20260423T210239
CREATED:20250731T130000Z
LAST-MODIFIED:20250730T175645Z
UID:10000650-1755711000-1755720000@dupagebirding.org
SUMMARY:Wood Dale Reservoir\, Wood Dale
DESCRIPTION:Registration with the leader is required\, limit 15 participants.Shorebirds after work! Wood Dale Reservoir offers great viewing opportunities for several species of migrating shorebirds. Spotting scopes can be useful here; the trip leader will have one. Shorebird IDs can be difficult at times — the trip leader will be happy to help people who may be new to it\, but it will help to review field guides\, eBird/Merlin\, and/or some of the DBC YouTube content ahead of time (Yellowlegs and Similar Waders\, Peeps). We will meet at the parking lot at the end of School Street.https://maps.app.goo.gl/Tatkdrr6CcoYbqrV6Leader: Matt Crisler\, crislermj@gmail.com.
URL:https://dupagebirding.org/event/wood-dale-reservoir-wood-dale-3/
CATEGORIES:Field Trips
END:VEVENT
BEGIN:VEVENT
DTSTART;TZID=America/Chicago:20250823T073000
DTEND;TZID=America/Chicago:20250823T110000
DTSTAMP:20260423T210239
CREATED:20250727T160052Z
LAST-MODIFIED:20250727T160054Z
UID:10000647-1755934200-1755946800@dupagebirding.org
SUMMARY:Birding and Breakfast\, Blackwell Forest Preserve (West Shelter)\, Warrenville
DESCRIPTION:Birding and BreakfastTo help us with planning\, please RSVP here.Please join us for a bird walk and casual breakfast at the West Shelter at Blackwell Forest Preserve. We will begin at 7:30 with a short bird walk followed by breakfast in the picnic shelter at 9:00. The club will provide bananas\, bagels\, donuts\, juice\, and coffee. You are welcome to come just for the walk or just for the breakfast. \nAll birders and potential birders are welcome! This is a great time to get together and relive highlights of your summer birding experiences with others who share your interest in birding and the outdoors. \nBlackwell Forest Preserve is located on the north side of Butterfield Road a quarter mile west of Winfield Road.  The West Shelter is located on the left side of the Main Dr. opposite the boat rental parking lot. https://maps.app.goo.gl/Bh1HxwvczZ92dJmA8Leader: Natalie McFaul\, natcatcher7@gmail.com.
URL:https://dupagebirding.org/event/birding-and-breakfast-blackwell-forest-preserve-west-shelter-warrenville/
CATEGORIES:Field Trips
END:VEVENT
BEGIN:VEVENT
DTSTART;TZID=America/Chicago:20250830T083000
DTEND;TZID=America/Chicago:20250830T110000
DTSTAMP:20260423T210239
CREATED:20250731T130000Z
LAST-MODIFIED:20250730T175749Z
UID:10000651-1756542600-1756551600@dupagebirding.org
SUMMARY:Greene Valley Bike Trip\, Naperville
DESCRIPTION:Registration with the leader is required\, limit 10 participants.Greene Valley has a lot of great habitats in it\, but you can’t really cover more than one in a typical field trip due to the distance. We will bike around the preserve to hit as much as possible in one run. Expect to ride about 5 miles with a few light hills (no overlook). We will be sticking to the limestone/paved trails. Meet at the north end of the Greene Road parking lot near the information sign and trailhead.https://maps.app.goo.gl/yTA7dZtMT1zL98of7Leader: Matt Crisler\, crislermj@gmail.com.
URL:https://dupagebirding.org/event/greene-valley-bike-trip-naperville/
CATEGORIES:Field Trips
END:VEVENT
END:VCALENDAR